{"text_format":"1","workbook":"xlsx","n_sheets":4,"sheets":["Eingabedatei Kassenstatistik","Wichtige Hinweise","Tabelle1","csv"],"not_rendered":{"charts":0,"images":0,"macros":1,"external_links":0,"defined_names":8,"comments":0,"pivot_tables":0},"unopened":[],"bounds":{"document_bytes":16777216,"sheet_cells":100000,"rows_first":2000,"rows_last":500,"rows_between":2000,"halvings":0,"cell_chars":16384,"cell_head_chars":4096},"cells_cut":0,"cells_raw":0,"read":"whole","date_system":"1900"}

{"sheet":"Eingabedatei Kassenstatistik","index":0,"n_rows":431,"n_cols":15,"rows_kept":431,"cut":false,"hidden":false,"merged":[[408,2,408,3],[428,2,428,3],[429,2,429,3],[430,2,430,3],[167,2,167,3],[359,2,359,3],[405,2,405,3],[406,2,406,3],[407,2,407,3],[427,2,427,3],[400,2,400,3],[401,2,401,3],[402,2,402,3],[403,2,403,3],[404,2,404,3],[395,2,395,3],[396,2,396,3],[397,2,397,3],[398,2,398,3],[399,2,399,3],[390,2,390,3],[391,2,391,3],[392,2,392,3],[393,2,393,3],[394,2,394,3],[385,2,385,3],[386,2,386,3],[387,2,387,3],[388,2,388,3],[389,2,389,3],[380,2,380,3],[381,2,381,3],[382,2,382,3],[383,2,383,3],[384,2,384,3],[375,2,375,3],[376,2,376,3],[377,2,377,3],[378,2,378,3],[379,2,379,3],[370,2,370,3],[371,2,371,3],[372,2,372,3],[373,2,373,3],[374,2,374,3],[365,2,365,3],[366,2,366,3],[367,2,367,3],[368,2,368,3],[369,2,369,3],[360,2,360,3],[361,2,361,3],[362,2,362,3],[363,2,363,3],[364,2,364,3],[354,2,354,3],[355,2,355,3],[356,2,356,3],[357,2,357,3],[358,2,358,3],[349,2,349,3],[350,2,350,3],[351,2,351,3],[352,2,352,3],[353,2,353,3],[344,2,344,3],[345,2,345,3],[346,2,346,3],[347,2,347,3],[348,2,348,3],[339,2,339,3],[340,2,340,3],[341,2,341,3],[342,2,342,3],[343,2,343,3],[334,2,334,3],[335,2,335,3],[336,2,336,3],[337,2,337,3],[338,2,338,3],[329,2,329,3],[330,2,330,3],[331,2,331,3],[332,2,332,3],[333,2,333,3],[324,2,324,3],[325,2,325,3],[326,2,326,3],[327,2,327,3],[328,2,328,3],[319,2,319,3],[320,2,320,3],[321,2,321,3],[322,2,322,3],[323,2,323,3],[314,2,314,3],[315,2,315,3],[316,2,316,3],[317,2,317,3],[318,2,318,3],[309,2,309,3],[310,2,310,3],[311,2,311,3],[312,2,312,3],[313,2,313,3],[304,2,304,3],[305,2,305,3],[306,2,306,3],[307,2,307,3],[308,2,308,3],[299,2,299,3],[300,2,300,3],[301,2,301,3],[302,2,302,3],[303,2,303,3],[294,2,294,3],[295,2,295,3],[296,2,296,3],[297,2,297,3],[298,2,298,3],[289,2,289,3],[290,2,290,3],[291,2,291,3],[292,2,292,3],[293,2,293,3],[284,2,284,3],[285,2,285,3],[286,2,286,3],[287,2,287,3],[288,2,288,3],[279,2,279,3],[280,2,280,3],[281,2,281,3],[282,2,282,3],[283,2,283,3],[274,2,274,3],[275,2,275,3],[276,2,276,3],[277,2,277,3],[278,2,278,3],[269,2,269,3],[270,2,270,3],[271,2,271,3],[272,2,272,3],[273,2,273,3],[264,2,264,3],[265,2,265,3],[266,2,266,3],[267,2,267,3],[268,2,268,3],[259,2,259,3],[260,2,260,3],[261,2,261,3],[262,2,262,3],[263,2,263,3],[254,2,254,3],[255,2,255,3],[256,2,256,3],[257,2,257,3],[258,2,258,3],[249,2,249,3],[250,2,250,3],[251,2,251,3],[252,2,252,3],[253,2,253,3],[244,2,244,3],[245,2,245,3],[246,2,246,3],[247,2,247,3],[248,2,248,3],[239,2,239,3],[240,2,240,3],[241,2,241,3],[242,2,242,3],[243,2,243,3],[234,2,234,3],[235,2,235,3],[236,2,236,3],[237,2,237,3],[238,2,238,3],[229,2,229,3],[230,2,230,3],[231,2,231,3],[232,2,232,3],[233,2,233,3],[224,2,224,3],[225,2,225,3],[226,2,226,3],[227,2,227,3],[228,2,228,3],[219,2,219,3],[220,2,220,3],[221,2,221,3],[222,2,222,3],[223,2,223,3],[214,2,214,3],[215,2,215,3],[216,2,216,3],[217,2,217,3],[218,2,218,3],[209,2,209,3],[210,2,210,3],[211,2,211,3],[212,2,212,3],[213,2,213,3],[204,2,204,3],[205,2,205,3],[206,2,206,3],[207,2,207,3],[208,2,208,3],[199,2,199,3],[200,2,200,3],[201,2,201,3],[202,2,202,3],[203,2,203,3],[194,2,194,3],[195,2,195,3],[196,2,196,3],[197,2,197,3],[198,2,198,3],[189,2,189,3],[190,2,190,3],[191,2,191,3],[192,2,192,3],[193,2,193,3],[184,2,184,3],[185,2,185,3],[186,2,186,3],[187,2,187,3],[188,2,188,3],[179,2,179,3],[180,2,180,3],[181,2,181,3],[182,2,182,3],[183,2,183,3],[174,2,174,3],[175,2,175,3],[176,2,176,3],[177,2,177,3],[178,2,178,3],[169,2,169,3],[170,2,170,3],[171,2,171,3],[172,2,172,3],[173,2,173,3],[163,2,163,3],[164,2,164,3],[165,2,165,3],[166,2,166,3],[168,2,168,3],[158,2,158,3],[159,2,159,3],[160,2,160,3],[161,2,161,3],[162,2,162,3],[153,2,153,3],[154,2,154,3],[155,2,155,3],[156,2,156,3],[157,2,157,3],[148,2,148,3],[149,2,149,3],[150,2,150,3],[151,2,151,3],[152,2,152,3],[143,2,143,3],[144,2,144,3],[145,2,145,3],[146,2,146,3],[147,2,147,3],[138,2,138,3],[139,2,139,3],[140,2,140,3],[141,2,141,3],[142,2,142,3],[133,2,133,3],[134,2,134,3],[135,2,135,3],[136,2,136,3],[137,2,137,3],[128,2,128,3],[129,2,129,3],[130,2,130,3],[131,2,131,3],[132,2,132,3],[123,2,123,3],[124,2,124,3],[125,2,125,3],[126,2,126,3],[127,2,127,3],[118,2,118,3],[119,2,119,3],[120,2,120,3],[121,2,121,3],[122,2,122,3],[113,2,113,3],[114,2,114,3],[115,2,115,3],[116,2,116,3],[117,2,117,3],[108,2,108,3],[109,2,109,3],[110,2,110,3],[111,2,111,3],[112,2,112,3],[103,2,103,3],[104,2,104,3],[105,2,105,3],[106,2,106,3],[107,2,107,3],[98,2,98,3],[99,2,99,3],[100,2,100,3],[101,2,101,3],[102,2,102,3],[93,2,93,3],[94,2,94,3],[95,2,95,3],[96,2,96,3],[97,2,97,3],[88,2,88,3],[89,2,89,3],[90,2,90,3],[91,2,91,3],[92,2,92,3],[83,2,83,3],[84,2,84,3],[85,2,85,3],[86,2,86,3],[87,2,87,3],[78,2,78,3],[79,2,79,3],[80,2,80,3],[81,2,81,3],[82,2,82,3],[73,2,73,3],[74,2,74,3],[75,2,75,3],[76,2,76,3],[77,2,77,3],[68,2,68,3],[69,2,69,3],[70,2,70,3],[71,2,71,3],[72,2,72,3],[63,2,63,3],[64,2,64,3],[65,2,65,3],[66,2,66,3],[67,2,67,3],[58,2,58,3],[59,2,59,3],[60,2,60,3],[61,2,61,3],[62,2,62,3],[53,2,53,3],[54,2,54,3],[55,2,55,3],[56,2,56,3],[57,2,57,3],[40,2,40,3],[41,2,41,3],[42,2,42,3],[48,2,48,3],[43,2,43,3],[35,2,35,3],[36,2,36,3],[37,2,37,3],[38,2,38,3],[39,2,39,3],[30,2,30,3],[31,2,31,3],[32,2,32,3],[33,2,33,3],[34,2,34,3],[25,2,25,3],[26,2,26,3],[27,2,27,3],[28,2,28,3],[29,2,29,3],[21,2,21,3],[22,2,22,3],[23,2,23,3],[24,2,24,3],[16,2,16,3],[17,2,17,3],[18,2,18,3],[19,2,19,3],[20,2,20,3],[12,2,12,3],[13,2,13,3],[14,2,14,3],[15,2,15,3],[7,2,7,3],[8,2,8,3],[9,2,9,3],[10,2,10,3],[11,2,11,3],[5,1,5,2],[1,1,1,4],[2,1,2,4],[3,1,3,2],[4,1,4,2]]}
[]
[null,"Eingabedatei Vierteljährliche Kassenstatistik NRW",null,null,null,null,null,null,null,null,null,null,null,{"$f":"IF(D$4=\"-- bitte hier klicken, Dropdown-Liste öffnen und auswählen\",1,0)","v":0}]
[null,"Stand März 2024"]
[null,"1. Regierungsbezirk, Bezirks- oder Zweckverband angeben:",null,"-- bitte hier klicken, Dropdown-Liste öffnen und auswählen --        >>>>>",null,null,null,null,null,null,null,null,null,{"$f":"IF(AND((LEFT(D5,1))<>\" \",D4=\"Bezirksverbände\"),1,0)","v":0},{"$f":"IF(D6=\"-- bitte auswählen --\",1,0)","v":1}]
[null,"2. Berichtsstellennummer und Berichtsstelle angeben:",null,"-- bitte auswählen --",null,null,null,null,null,null,null,null,null,{"$f":"IF(AND((LEFT(D5,1))<>\"1\",D4=\"Düsseldorf\"),1,0)","v":0}]
[null,"3. Berichtszeitraum angeben:",null,"-- bitte auswählen --",null,null,null,null,null,null,null,null,null,{"$f":"IF(AND((LEFT(D5,1))<>\"3\",D4=\"Köln\"),1,0)","v":0}]
[null,"Merkmal","Merkmalsbeschreibung",null,"volle Euro",null,null,null,null,null,null,null,null,{"$f":"IF(AND((LEFT(D5,1))<>\"2\",D4=\"Zweckverbände\"),1,0)","v":0}]
[null,6011,"Grundsteuer A",null,null,null,null,null,null,null,null,null,null,{"$f":"IF(AND((LEFT(D5,1))<>\"5\",D4=\"Münster\"),1,0)","v":0}]
[null,6012,"Grundsteuer B",null,null,null,null,null,null,null,null,null,null,{"$f":"IF(AND((LEFT(D5,1))<>\"7\",D4=\"Detmold\"),1,0)","v":0}]
[null,6013,"Gewerbesteuer",null,null,null,null,null,null,null,null,null,null,{"$f":"IF(AND((LEFT(D5,1))<>\"9\",D4=\"Arnsberg\"),1,0)","v":0}]
[null,6021,"Gemeindeanteil an der Einkommensteuer",null,null,null,null,null,null,null,null,null,null,{"$f":"SUM(N2:N10)","v":0}]
[null,6022,"Gemeindeanteil an der Umsatzsteuer"]
[null,6031,"Vergnügungssteuer (u.a. Wettbürosteuer)"]
[null,6032,"Hundesteuer"]
[null,6034,"Zweitwohnungssteuer"]
[null,6035,"Kulturförderabgabe/Übernachtungssteuer"]
[null,6036,"Steuer auf sexuelle Vergnügungen"]
[null,6041,"Fremdenverkehrsabgabe"]
[null,6042,"Abgaben von Spielbanken"]
[null,6049,"Sonstige steuerähnliche Einzahlungen"]
[null,6051,"Leistungen nach dem Familienleistungsausgleich / Kompensationsleistungen"]
[null,6052,"Leistungen für die Umsetzung der Grundsicherung für Arbeitssuchende"]
[null,6111,"Schlüsselzuweisungen vom Land"]
[null,6121,"Bedarfszuweisungen vom Land"]
[null,6122,"Bedarfszuweisungen von Gemeinden (GV)"]
[null,6130,"Allgemeine Zuweisungen vom Bund"]
[null,6131,"Allgemeine Zuweisungen vom Land (u. a. Umweltaufgaben, Schwerbehinderung, Elternzeit, Stärkungspakt)"]
[null,6140,"Zuweisungen f. lfd. Zwecke vom Bund"]
[null,6141,"Zuweisungen f. lfd. Zwecke vom Land (u. a. Zuweisungen des Landes nach §4 FlüAG)"]
[null,6142,"Zuweisungen f. lfd. Zwecke von Gemeinden (GV)"]
[null,6143,"Zuweisungen f. lfd. Zwecke von Zweckverbänden und dgl."]
[null,6144,"Zuweisungen f. lfd. Zwecke von gesetzlichen Sozialversicherungen"]
[null,6145,"Zuschüsse f. lfd. Zwecke von verbundenen Unternehmen "]
[null,6146,"Zuschüsse f. lfd. Zwecke von sonst. öffentl. Sonderrechnungen"]
[null,6147,"Zuschüsse f. lfd. Zwecke von privaten Unternehmen"]
[null,6148,"Zuschüsse f. lfd. Zwecke von übrigen Bereichen"]
[null,6181,"Allgemeine Umlagen vom Land (u. a. Erstattung aus der Einheitslastenabrechnung)"]
[null,6184,"Kreisumlage allgemein"]
[null,6185,"Kreisumlage, Mehrbelastung Jugendamt"]
[null,6186,"Kreisumlage, andere Mehrbelastung"]
[null,6187,"Landschaftsumlage"]
[null,6188,"Verbandsumlage RVR"]
[null,6189,"Zweckverbandsumlage"]
[null,6211,"Kostenbeiträge und Aufwendungsersatz; Kostenersatz"]
[null,6212,"Übergeleitete Ansprüche und übergeleitete Unterhaltsansprüche gegen bürgerlich-rechtliche Unterhaltsverpflichtete"]
[null,6213,"Leistungen von Sozialleistungsträgern"]
[null,6214,"Sonstige Ersatzleistungen"]
[null,6215,"Rückzahlungen gewährter Hilfen (Tilgung und Zinsen von Darlehen)"]
[null,6221,"Kostenbeiträge und Aufwendungsersatz; Kostenersatz"]
[null,6222,"Übergeleitete Ansprüche und übergeleitete Unterhaltsansprüche gegen bürgerlich-rechtliche Unterhaltsverpflichtete"]
[null,6223,"Leistungen von Sozialleistungsträgern"]
[null,6224,"Sonstige Ersatzleistungen"]
[null,6225,"Rückzahlungen gewährter Hilfen (Tilgung und Zinsen von Darlehen)"]
[null,6230,"Schuldendiensthilfen vom Bund"]
[null,6231,"Schuldendiensthilfen vom Land"]
[null,6232,"Schuldendiensthilfen von Gemeinden (GV)"]
[null,6233,"Schuldendiensthilfen von Zweckverbänden und dgl."]
[null,6234,"Schuldendiensthilfen von gesetzlichen Sozialversicherungen"]
[null,6235,"Schuldendiensthilfen von verbundenen Unternehmen "]
[null,6236,"Schuldendiensthilfen von sonstigen öffentlichen Sonderrechnungen"]
[null,6237,"Schuldendiensthilfen von privaten Unternehmen"]
[null,6238,"Schuldendiensthilfen von übrigen Bereichen"]
[null,6291,"Andere sonstige Transfereinzahlungen (u. a. Ausgleichsabgabe nach SchwbG SGB IX)"]
[null,6311,"Verwaltungsgebühren"]
[null,6321,"Benutzungsgebühren und ähnliche Entgelte"]
[null,6361,"Zweckgebundene Abgaben"]
[null,6411,"Mieten und Pachten"]
[null,6421,"Einzahlungen aus Verkauf"]
[null,6461,"Sonstige privatrechtliche Leistungsentgelte"]
[null,6480,"Kostenerstattungen, -umlagen vom Bund"]
[null,6481,"Kostenerstattungen, -umlagen vom Land"]
[null,6482,"Kostenerstattungen, -umlagen von Gemeinden (GV)"]
[null,6483,"Kostenerstattungen, -umlagen von Zweckverbänden und dgl."]
[null,6484,"Kostenerstattungen, -umlagen von gesetzlichen Sozialversicherungen"]
[null,6485,"Kostenerstattungen, -umlagen von verbundenen Unternehmen "]
[null,6486,"Kostenerstattungen, -umlagen von sonstigen öffentlichen Sonderrechnungen"]
[null,6487,"Kostenerstattungen, -umlagen von privaten Unternehmen"]
[null,6488,"Kostenerstattungen, -umlagen von übrigen Bereichen"]
[null,6491,"Leistungsbeteiligungen bei Leistungen für Unterkunft/Heizung "]
[null,6492,"Leistungsbeteiligungen beim Arbeitslosengeld II (nur Optionskommunen)"]
[null,6493,"Leistungsbeteiligungen bei der Eingliederung II (nur Optionskommunen)"]
[null,6496,"Leistungsbeteiligung bei der Grundsicherung im Alter (nur Kreise und kreisfr. Städte)"]
[null,6511,"Konzessionsabgaben"]
[null,6522,"Erstattung von Umsatzsteuer"]
[null,6525,"Erstattung von sonstigen Steuern"]
[null,6561,"Bußgelder"]
[null,6562,"Säumniszuschläge"]
[null,6563,"Inanspruchnahmen Gewährverträge/Bürgschaften"]
[null,6564,"Ausgleichsabgabe nach SGB IX (nur Landschaftsverbände)"]
[null,6591,"Sonstige Einzahlungen aus lfd. Verwaltungstätigkeit"]
[null,6610,"Zinseinzahlungen vom Bund"]
[null,6611,"Zinseinzahlungen vom Land"]
[null,6612,"Zinseinzahlungen von Gemeinden (GV)"]
[null,6613,"Zinseinzahlungen von Zweckverbänden und dgl."]
[null,6614,"Zinseinzahlungen von gesetzlichen Sozialversicherungen"]
[null,6615,"Zinseinzahlungen von verbundenen Unternehmen "]
[null,6616,"Zinseinzahlungen von sonstigen öffentlichen Sonderrechnungen"]
[null,6617,"Zinseinzahlungen von Kreditinstituten"]
[null,6618,"Zinseinzahlungen vom sonstigen inländischen Bereich"]
[null,6619,"Zinseinzahlungen vom sonstigen ausländischen Bereich"]
[null,6651,"Gewinnanteile von verbundenen Unternehmen und aus Beteiligungen"]
[null,6691,"Sonstige Finanzeinzahlungen"]
[null,6810,"Investitionszuwendungen vom Bund "]
[null,6811,"Investitionszuwendungen vom Land"]
[null,6812,"Investitionszuwendungen von Gemeinden (GV)"]
[null,6813,"Investitionszuwendungen von Zweckverbänden und dgl."]
[null,6814,"Investitionszuwendungen von gesetzlichen Sozialversicherungen"]
[null,6815,"Investitionszuwendungen von verbundenen Unternehmen "]
[null,6816,"Investitionszuwendungen von sonstigen öffentlichen Sonderrechnungen"]
[null,6817,"Investitionszuwendungen von privaten Unternehmen"]
[null,6818,"Investitionszuwendungen von übrigen Bereichen"]
[null,6821,"Erlöse aus der Veräußerung von Grundstücken/Gebäuden"]
[null,6831,"Erlöse aus der Veräußerung von beweglichen Vermögensgegenständen"]
[null,6832,"Erlöse aus der Veräußerung von immateriellen Vermögensgegenständen"]
[null,6841,"Erlöse aus der Veräußerung vonbörsennotierten Aktien"]
[null,6842,"Erlöse aus der Veräußerung von nichtbörsennotierten Aktien"]
[null,6843,"Erlöse aus der Veräußerung von sonstigen Anteilsrechten"]
[null,6844,"Erlöse aus der Veräußerung von Investmentzertifikaten"]
[null,6845,"Erlöse aus der Veräußerung von Kapitalmarktpapieren"]
[null,6846,"Erlöse aus der Veräußerung von Geldmarktpapieren"]
[null,6847,"Erlöse aus der Veräußerung von Finanzderivaten "]
[null,6848,"Erlöse aus der Veräußerung von sonstigen Finanzanlagen"]
[null,6851,"Abwicklung von Baumaßnahmen"]
[null,6860,"Rückflüsse von Ausleihungen vom Bund"]
[null,6861,"Rückflüsse von Ausleihungen vom Land"]
[null,6862,"Rückflüsse von Ausleihungen von Gemeinden (GV)"]
[null,6863,"Rückflüsse von Ausleihungen von Zweckverbänden und dgl."]
[null,6864,"Rückflüsse von Ausleihungen von gesetzlichen Sozialversicherungen"]
[null,6865,"Rückflüsse von Ausleihungen von verbundenen Unternehmen "]
[null,6866,"Rückflüsse von Ausleihungen von sonstigen öffentlichen Sonderrechnungen"]
[null,6867,"Rückflüsse von Ausleihungen von Kreditinstituten"]
[null,6868,"Rückflüsse von Ausleihungen vom sonstigen inländischen Bereich"]
[null,6869,"Rückflüsse von Ausleihungen vom sonstigen ausländischen Bereich"]
[null,6881,"Beiträge und ähnliche Entgelte"]
[null,6891,"Sonstige Investitionseinzahlungen"]
[null,6911,"Einzahlungen aus Anleihen für Investitionen"]
[null,6912,"Einzahlungen aus Anleihen zur Liquiditätssicherung"]
[null,6920,"Kreditaufnahmen für Investitionen beim Bund"]
[null,6921,"Kreditaufnahmen für Investitionen beim Land"]
[null,6922,"Kreditaufnahmen für Investitionen bei Gemeinden (GV)"]
[null,6923,"Kreditaufnahmen für Investitionen bei Zweckverbänden und dgl."]
[null,6924,"Kreditaufnahmen für Investitionen bei gesetzlichen Sozialversicherungen"]
[null,6925,"Kreditaufnahmen für Investitionen bei verbundenen Unternehmen "]
[null,6926,"Kreditaufnahmen für Investitionen bei sonstigen öffentlichen Sonderrechnungen"]
[null,6927,"Kreditaufnahmen für Investitionen bei Kreditinstituten"]
[null,6928,"Kreditaufnahmen für Investitionen beim sonstigen inländischen Bereich"]
[null,6929,"Kreditaufnahmen für Investitionen beim sonstigen ausländischen Bereich"]
[null,6930,"Kreditaufnahmen zur Liquiditätssicherung beim Bund"]
[null,6931,"Kreditaufnahmen zur Liquiditätssicherung beim Land"]
[null,6932,"Kreditaufnahmen zur Liquiditätssicherung bei Gemeinden (GV)"]
[null,6933,"Kreditaufnahmen zur Liquiditätssicherung bei Zweckverbänden und dgl."]
[null,6934,"Kreditaufnahmen zur Liquiditätssicherung bei gesetzlichen Sozialversicherungen"]
[null,6935,"Kreditaufnahmen zur Liquiditätssicherung bei verbundenen Unternehmen "]
[null,6936,"Kreditaufnahmen zur Liquiditätssicherung bei sonst. öffentl. Sonderrechnungen"]
[null,6937,"Kreditaufnahmen zur Liquiditätssicherung bei Kreditinstituten"]
[null,6938,"Kreditaufnahmen zur Liquiditätssicherung beim sonstigen inländischen Bereich"]
[null,6939,"Kreditaufnahmen zur Liquiditätssicherung beim sonstigen ausländischen Bereich"]
[null,6949,"Einzahlungen aus sonstiger Wertpapierverschuldung"]
[null,6950,"Rückflüsse von Darlehen (ohne Ausleihungen) vom Bund"]
[null,6951,"Rückflüsse von Darlehen (ohne Ausleihungen) vom Land"]
[null,6952,"Rückflüsse von Darlehen (ohne Ausleihungen) von Gemeinden (GV)"]
[null,6953,"Rückflüsse von Darlehen (ohne Ausleihungen) von Zweckverbänden und dgl."]
[null,6954,"Rückflüsse von Darlehen (ohne Ausleihungen) von gesetzlichen Sozialversicherungen"]
[null,6955,"Rückflüsse von Darlehen (ohne Ausleihungen) von verbundenen Unternehmen "]
[null,6956,"Rückflüsse von Darlehen (ohne Ausleihungen) von sonst. öffentl. Sonderrechnungen"]
[null,6957,"Rückflüsse von Darlehen (ohne Ausleihungen) von Kreditinstituten"]
[null,6958,"Rückflüsse von Darlehen (ohne Ausleihungen) vom sonstigen inländischen Bereich"]
[null,6959,"Rückflüsse von Darlehen (ohne Ausleihungen) vom sonstigen ausländischen Bereich"]
[null,6998,"Haushaltsunwirksame Einzahlungen (ohne Aufnahme von Liquiditätskrediten)"]
[null,7011,"Dienstbezüge Beamte"]
[null,7012,"Dienstbezüge tariflich Beschäftigte"]
[null,7019,"Dienstbezüge sonstige Beschäftigte"]
[null,7022,"Versorgungskassenbeiträge für aktive Tarifbeschäftigte"]
[null,7029,"Versorgungskassenbeiträge für sonstige Beschäftigte"]
[null,7031,"Sozialversicherungsbeiträge für aktive Beamte"]
[null,7032,"Sozialversicherungsbeiträge für tariflich Beschäftigte"]
[null,7039,"Sozialversicherungsbeiträge für sonstige Beschäftigte"]
[null,7041,"Beihilfen, Unterstützungsleistungen für Aktive"]
[null,7111,"Versorgungsbezüge für Beamte"]
[null,7112,"Versorgungsbezüge für tariflich Beschäftigte"]
[null,7119,"Versorgungsbezüge für sonstige Beschäftigte"]
[null,7121,"Versorgungskassenbeiträge für Ruheständler / Beamte"]
[null,7131,"Sozialversicherungsbeiträge für Ruheständler / Beamte"]
[null,7132,"Sozialversicherungsbeiträge für Ruheständler / tariflich Beschäftigte"]
[null,7139,"Sozialversicherungsbeiträge für Ruheständler / sonstige Beschäftigte"]
[null,7141,"Beihilfen, Unterstützungen für Ruheständler"]
[null,7215,"Instandhaltung der Grundstücke und baulichen Anlagen"]
[null,7216,"Instandhaltung des Infrastrukturvermögens"]
[null,7230,"Erstattungen an den Bund"]
[null,7231,"Erstattungen an das Land"]
[null,7232,"Erstattungen an Gemeinden (GV)"]
[null,7233,"Erstattungen an Zweckverbände und dgl."]
[null,7234,"Erstattungen an gesetzliche Sozialversicherungen"]
[null,7235,"Erstattungen an verbundene Unternehmen "]
[null,7236,"Erstattungen an sonstige öffentliche Sonderrechnungen"]
[null,7237,"Erstattungen an private Unternehmen"]
[null,7238,"Erstattungen an übrige Bereiche"]
[null,7241,"Unterhaltung und Bewirtschaftung der Grundstücke und baulichen Anlagen"]
[null,7242,"Unterhaltung und Bewirtschaftung des Infrastrukturvermögens"]
[null,7251,"Haltung von Fahrzeugen"]
[null,7255,"Unterhaltung des sonstigen beweglichen Vermögens"]
[null,7271,"Lernmittel"]
[null,7281,"Auszahlungen für sonstige Sachleistungen"]
[null,7291,"Auszahlungen für sonstige Dienstleistungen (u. a. Schülerbeförderungskosten)"]
[null,7310,"Zuweisungen f. lfd. Zwecke an den Bund"]
[null,7311,"Zuweisungen f. lfd. Zwecke an das Land"]
[null,7312,"Zuweisungen f. lfd. Zwecke an Gemeinden (GV)"]
[null,7313,"Zuweisungen f. lfd. Zwecke an Zweckverbände und dgl."]
[null,7314,"Zuweisungen f. lfd. Zwecke an gesetzliche Sozialversicherungen"]
[null,7315,"Zuschüsse f. lfd. Zwecke an verbundene Unternehmen "]
[null,7316,"Zuschüsse f. lfd. Zwecke an sonstige öffentliche Sonderrechnungen"]
[null,7317,"Zuschüsse f. lfd. Zwecke an private Unternehmen"]
[null,7318,"Zuschüsse f. lfd. Zwecke an übrige Bereiche"]
[null,7320,"Schuldendiensthilfen an den Bund"]
[null,7321,"Schuldendiensthilfen an das Land"]
[null,7322,"Schuldendiensthilfen an Gemeinden (GV)"]
[null,7323,"Schuldendiensthilfen an Zweckverbände und dgl."]
[null,7324,"Schuldendiensthilfen an gesetzliche Sozialversicherungen"]
[null,7325,"Schuldendiensthilfen an verbundene Unternehmen "]
[null,7326,"Schuldendiensthilfen an sonstige öffentliche Sonderrechnungen"]
[null,7327,"Schuldendiensthilfen an private Unternehmen"]
[null,7328,"Schuldendiensthilfen an übrige Bereiche"]
[null,"L01","Soziale Leistungen außerhalb von Einrichtungen (7331 aus PGn 332-338) nach SGB XII "]
[null,"L02","Soziale Leistungen außerhalb von Einrichtungen (7331 aus PGn 361-363) Jugendhilfe nach SGB VIII"]
[null,"L03","Soziale Leistungen in Einrichtungen (7332 aus PGn 332-338) nach SGB XII "]
[null,"L04","Soziale Leistungen in Einrichtungen (7332 aus PGn 361-363) Jugendhilfe nach SGB VIII"]
[null,7333,"Leistungen f. Unterkunft/Heizung an Arbeitssuchende"]
[null,7334,"Leistungen Eingliederung I an Arbeitssuchende"]
[null,7335,"Einmalige Leistungen an Arbeitssuchende"]
[null,7336,"Arbeitslosengeld II (nur Optionskommunen)"]
[null,7337,"Leistungen Eingliederung II an Arbeitssuchende (nur Optionskommunen)"]
[null,7338,"Leistungen für Bildung und Teilhabe"]
[null,"L05","Leistungen nach AsylbLG - Leistungen an Asylbewerber - (7339 aus PG 313) "]
[null,"L06","Sonstige soziale Leistungen nach BVG (7339 aus PG 321)"]
[null,"L07","Sonstige soziale Leistungen nach BTHG (7339 aus PG 314) (Neuaufnahme. 1.Quartal 2020)"]
[null,7339,"Übrige sonstige soziale Leistungen (alle \"Sonstigen sozialen Leistungen\" abzgl. L05, L06 und L07)"]
[null,7341,"Gewerbesteuerumlage"]
[null,7342,"Finanzierungsbeteiligung Einheitslasten"]
[null,7351,"Allgemeine Zuweisungen an das Land (Abundanzumlage, \"Kommunalsoli\")"]
[null,7352,"Allgemeine Zuweisungen an Gemeinden (GV)"]
[null,7371,"Allgemeine Umlagen an das Land"]
[null,7374,"Kreisumlage allgemein"]
[null,7375,"Kreisumlage, Mehrbelastung Jugendamt"]
[null,7376,"Kreisumlage, andere Mehrbelastung"]
[null,7377,"Landschaftsumlage"]
[null,7378,"Verbandsumlage RVR"]
[null,7379,"Zweckverbandsumlage"]
[null,7395,"Verlustübernahmen bei Betrieben"]
[null,7399,"Sonst. Transferauszahlungen (u.a. Krankenhauspauschale); (Kreise/kreisfr. Städte: Pflegewohngeld)"]
[null,7411,"Sonstige Personal-/Versorgungsauszahlungen"]
[null,7412,"Besondere zahlungswirksame Auszahlungen für Beschäftigte"]
[null,7421,"Auszahlungen für ehrenamtliche und sonstige Tätigkeit"]
[null,7422,"Mieten und Pachten"]
[null,7423,"Leasing"]
[null,7429,"Sonstige Auszahlungen für Rechte und Dienste"]
[null,7431,"Geschäftsauszahlungen"]
[null,7442,"Umsatzsteuer"]
[null,7445,"Sonstige Steuern"]
[null,7446,"Versicherungen"]
[null,7448,"Schadensfälle"]
[null,7461,"Leistungsbeteiligung Unterkunft/Heizung"]
[null,7462,"Leistungsbeteiligung Eingliederung I "]
[null,7463,"Leistungsbeteiligung einmalige Leistungen "]
[null,7468,"Leistungsbeteiligung bei Teilhabeleistungen"]
[null,7481,"Bußgelder"]
[null,7482,"Säumnis-, Verspätungszuschläge"]
[null,7483,"Inanspruchnahme Gewährverträge/Bürgschaften"]
[null,7484,"Ausgleichsabgabe nach SGB IX aufgrund nicht besetzter Pflichtplätze"]
[null,7491,"Verfügungsmittel"]
[null,7492,"Fraktionszuwendungen"]
[null,7499,"Übrige weitere sonstige Auszahlungen "]
[null,7510,"Zinsauszahlungen an den Bund"]
[null,7511,"Zinsauszahlungen an das Land"]
[null,7512,"Zinsauszahlungen an Gemeinden (GV)"]
[null,7513,"Zinsauszahlungen an Zweckverbände und dgl."]
[null,7514,"Zinsauszahlungen an gesetzliche Sozialversicherungen"]
[null,7515,"Zinsauszahlungen an verbundene Unternehmen "]
[null,7516,"Zinsauszahlungen an sonst. öffentl. Sonderrechnungen"]
[null,7517,"Zinsauszahlungen an Kreditinsitute"]
[null,7518,"Zinsauszahlungen an sonstige inländische Bereiche"]
[null,7519,"Zinsauszahlungen an sonstige ausländische Bereiche"]
[null,7591,"Kreditbeschaffungskosten"]
[null,7599,"Sonstige Finanzauszahlungen"]
[null,7810,"Zuweisungen für Investitionen an den Bund"]
[null,7811,"Zuweisungen für Investitionen an das Land"]
[null,7812,"Zuweisungen für Investitionen an Gemeinden (GV)"]
[null,7813,"Zuweisungen für Investitionen an Zweckverbände und dgl."]
[null,7814,"Zuweisungen für Investitionen an gesetzliche Sozialversicherungen"]
[null,7815,"Zuschüsse für Investitionen an verbundene Unternehmen "]
[null,7816,"Zuschüsse für Investitionen an sonstige öffentliche Sonderrechnungen"]
[null,7817,"Zuschüsse für Investitionen an private Unternehmen"]
[null,7818,"Zuschüsse für Investitionen an übrige Bereiche"]
[null,7821,"Erwerb von Grundstücken und Gebäuden"]
[null,7831,"Erwerb von Vermögensgegenständen über 800 Euro"]
[null,7832,"Erwerb von Vermögensgegenständen. unter 800 Euro"]
[null,7841,"Erwerb von börsennotierten Aktien"]
[null,7842,"Erwerb von nichtbörsennotierten Aktien"]
[null,7843,"Erwerb von sonstigen Anteilsrechten"]
[null,7844,"Erwerb von Investmentzertifikaten"]
[null,7845,"Erwerb von Kapitalmarktpapieren"]
[null,7846,"Erwerb von Geldmarktpapieren"]
[null,7847,"Erwerb von Finanzderivaten "]
[null,7848,"Erwerb von sonstigen Finanzanlagen"]
[null,7851,"Auszahlungen für Hochbaumaßnahmen (Summe aus 7851-7853 muss der Summe aus B01-B12 entsprechen)"]
[null,7852,"Auszahlungen für Tiefbaumaßnahmen (Summe aus 7851-7853 muss der Summe aus B01-B12 entsprechen)"]
[null,7853,"Auszahlungen für sonstige Baumaßnahmen (Summe aus 7851-7853 muss der Summe aus B01-B12 entsprechen)"]
[null,"B01","Bauauszahlungen Verwaltungssteuerung und Service (7851 bis 7853 aus PG 111)"]
[null,"B02","Bauauszahlungen Schulen (7851 bis 7853 aus PG 211 - 231, 243)"]
[null,"B03","Bauauszahlungen Sportstätten und Bäder (7851 bis 7853 aus PG 424)"]
[null,"B04","Bauauszahlungen Planung, Bau-/Grundstücksordnung (7851 bis 7853 aus PG 511, 521)"]
[null,"B06","Bauauszahlungen Straßen (7851 bis 7853 aus PG 541 - 544)"]
[null,"B07","Bauauszahlungen Abwasserbeseitigung (7851 bis 7853 aus PG 538)"]
[null,"B08","Bauauszahlungen Abfallwirtschaft (7851 bis 7853 aus PG 537)"]
[null,"B09","Bauauszahlungen Energie-/Wasserversorgung (7851 bis 7853 aus PG 531 - 534, 536)"]
[null,"B10","Bauauszahlungen Verkehr (7851 bis 7853 aus PG 547 - 549)"]
[null,"B12","Bauauszahlungen übrige Aufgabenbereiche (7851 bis 7853 aller übrigen PGn)"]
[null,7860,"Gewährung von Ausleihungen an den Bund"]
[null,7861,"Gewährung von Ausleihungen an das Land"]
[null,7862,"Gewährung von Ausleihungen an Gemeinden (GV)"]
[null,7863,"Gewährung von Ausleihungen an Zweckverbände und dgl."]
[null,7864,"Gewährung von Ausleihungen an gesetzliche Sozialversicherungen"]
[null,7865,"Gewährung von Ausleihungen an verbundene Unternehmen "]
[null,7866,"Gewährung von Ausleihungen an sonstige öffentliche Sonderrechnungen"]
[null,7867,"Gewährung von Ausleihungen an Kreditinstitute"]
[null,7868,"Gewährung von Ausleihungen an den sonst. inländischen Bereich"]
[null,7869,"Gewährung von Ausleihungen an den sonst. ausländischen Bereich"]
[null,7891,"Sonstige Investitionsauszahlungen (Rückzahlung erhaltener investiver Zuweisungen und Zuschüsse, Beiträge)"]
[null,7911,"Rückzahlung von Anleihen für Investitionen"]
[null,7912,"Rückzahlung von Anleihen zur Liquiditätssicherung"]
[null,7920,"Tilgung von Investitionskrediten an den Bund"]
[null,7921,"Tilgung von Investitionskrediten an das Land"]
[null,7922,"Tilgung von Investitionskrediten an Gemeinden (GV)"]
[null,7923,"Tilgung von Investitionskrediten an Zweckverbände und dgl."]
[null,7924,"Tilgung von Investitionskrediten an gesetzliche Sozialversicherungen"]
[null,7925,"Tilgung von Investitionskrediten an verbundene Unternehmen "]
[null,7926,"Tilgung von Investitionskrediten an sonstige öffentliche Sonderrechnungen"]
[null,7927,"Tilgung von Investitionskrediten an Kreditinstitute"]
[null,7928,"Tilgung von Investitionskrediten an den sonstigen inländischen Bereich"]
[null,7929,"Tilgung von Investitionskrediten an den sonstigen ausländischen Bereich"]
[null,7930,"Tilgung von Krediten zur Liquiditätssicherung an den Bund"]
[null,7931,"Tilgung von Krediten zur Liquiditätssicherung an das Land"]
[null,7932,"Tilgung von Krediten zur Liquiditätssicherung an Gemeinden (GV)"]
[null,7933,"Tilgung von Krediten zur Liquiditätssicherung an Zweckverbände und dgl."]
[null,7934,"Tilgung von Krediten zur Liquiditätssicherung an gesetzliche Sozialversicherungen"]
[null,7935,"Tilgung von Krediten zur Liquiditätssicherung an verbundene Unternehmen "]
[null,7936,"Tilgung von Krediten zur Liquiditätssicherung an sonst. öffentl. Sonderrechnungen"]
[null,7937,"Tilgung von Krediten zur Liquiditätssicherung an Kreditinstitute"]
[null,7938,"Tilgung von Krediten zur Liquiditätssicherung an den sonst. inländischen Bereich"]
[null,7939,"Tilgung von Krediten zur Liquiditätssicherung an den sonst. ausländischen Bereich"]
[null,7949,"Tilgung von sonstigen Wertpapierschulden"]
[null,7950,"Darlehensgewährungen (ohne Ausleihungen) an den Bund"]
[null,7951,"Darlehensgewährungen (ohne Ausleihungen) an das Land"]
[null,7952,"Darlehensgewährungen (ohne Ausleihungen) an Gemeinden (GV)"]
[null,7953,"Darlehensgewährungen (ohne Ausleihungen) an Zweckverbände und dgl."]
[null,7954,"Darlehensgewährungen (ohne Ausleihungen) an gesetzliche Sozialversicherungen"]
[null,7955,"Darlehensgewährungen (ohne Ausleihungen) an verbundene Unternehmen "]
[null,7956,"Darlehensgewährungen (ohne Ausleihungen) an sonstige öffentliche Sonderrechnungen"]
[null,7957,"Darlehensgewährungen (ohne Ausleihungen) an Kreditinstitute"]
[null,7958,"Darlehensgewährungen (ohne Ausleihungen) an den sonst. inländischen Bereich"]
[null,7959,"Darlehensgewährungen (ohne Ausleihungen) an den sonst. ausländischen Bereich"]
[null,7998,"Haushaltsunwirksame Auszahlungen (ohne Tilgung von Liquiditätskrediten)"]
[null,3021,"Anleihen für Investitionen (Bestand zum Quartalsende)"]
[null,3031,"Anleihen zur Liquiditätssicherung (Bestand zum Quartalsende)"]
[null,3711,"Sonstige Wertpapierschulden (Bestand zum Quartalsende)"]
[null,"P1009","Kassenkredite insgesamt beim Bund (Bestand zum Quartalsende/ohne Cash-Pooling im öffentl. Bereich)"]
[null,"P1019","Kassenkredite insgesamt beim Land (Bestand zum Quartalsende/ohne Cash-Pooling im öffentl. Bereich)"]
[null,"P1029","Kassenkredite insgesamt bei Gemeinden / GV (Bestand zum Quartalsende/ohne Cash-Pooling im öffentl. Bereich)"]
[null,"P1039","Kassenkredite insgesamt bei Zweckverbänden (Bestand zum Quartalsende/ohne Cash-Pooling im öffentl. Bereich)"]
[null,"P1049","Kassenkredite insgesamt bei gesetzlichen Sozialversicherungen (Bestand zum Quartalsende/ohne Cash-Pooling im öffentl. Bereich)"]
[null,"P1059","Kassenkredite insgesamt bei verbundenen Unternehmen (Bestand zum Quartalsende/ohne Cash-Pooling im öffentl. Bereich)"]
[null,"P1069","Kassenkredite insgesamt bei sonst. öffentl. Sonderrechnungen (Bestand zum Quartalsende/ohne Cash-Pooling im öffentl. Bereich)"]
[null,"P1079","Kassenkredite insgesamt bei Kreditinstituten (Bestand zum Quartalsende)"]
[null,"P1099","Kassenkredite insgesamt beim sonstigen inländischen Bereich (Bestand zum Quartalsende)"]
[null,"P1109","Kassenkredite insgesamt beim sonstigen ausländischen Bereich (Bestand zum Quartalsende)"]
[null,"P1609","darunter Cash-Pool-Führer (CF): Für Cash-Pool-Einheiten aufgenommene Kassenkredite"]
[null,"P1689","Cash-Pool-Führer (CF): Verbindlichkeiten gegenüber zuführenden Einheiten"]
[null,"P1619","Cash-Pool-Führer (CF): Verbindlichkeiten gegenüber zuführenden Einheiten, beim Bund"]
[null,"P1629","Cash-Pool-Führer (CF): Verbindlichkeiten gegenüber zuführenden Einheiten, bei Ländern"]
[null,"P1639","Cash-Pool-Führer (CF): Verbindlichkeiten gegenüber zuführenden Einheiten, bei Gemeinden / GV"]
[null,"P1649","Cash-Pool-Führer (CF): Verbindlichkeiten gegenüber zuführenden Einheiten, bei Zweckverbänden"]
[null,"P1659","Cash-Pool-Führer (CF): Verbindlichkeiten gegenüber zuführenden Einheiten, bei gesetzlichen Sozialversicherungen"]
[null,"P1669","Cash-Pool-Führer (CF): Verbindlichkeiten gegenüber zuführenden Einheiten, bei verbundenen Unternehmen, Beteiligungen, Sondervermögen"]
[null,"P1679","Cash-Pool-Führer (CF): Verbindlichkeiten gegenüber zuführenden Einheiten, bei sonstigen öffentl. Sonderrechnungen"]
[null,"P1789","Cash-Pool-Einheit (CE): für eigenen Liquiditätsbedarf entnommene Mittel"]
[null,"P1719","Cash-Pool-Einheit (CE): für eigenen Liquiditätsbedarf entnommene Mittel, beim Bund"]
[null,"P1729","Cash-Pool-Einheit (CE): für eigenen Liquiditätsbedarf entnommene Mittel, bei Ländern"]
[null,"P1739","Cash-Pool-Einheit (CE): für eigenen Liquiditätsbedarf entnommene Mittel, bei Gemeinden / GV"]
[null,"P1749","Cash-Pool-Einheit (CE): für eigenen Liquiditätsbedarf entnommene Mittel, bei Zweckverbänden"]
[null,"P1759","Cash-Pool-Einheit (CE): für eigenen Liquiditätsbedarf entnommene Mittel, bei gesetzlichen Sozialversicherungen"]
[null,"P1769","Cash-Pool-Einheit (CE): für eigenen Liquiditätsbedarf entnommene Mittel, bei verbundenen Unternehmen, Beteiligungen, Sondervermögen"]
[null,"P1779","Cash-Pool-Einheit (CE): für eigenen Liquiditätsbedarf entnommene Mittel, bei sonstigen öffentl. Sonderrechnungen"]
[null,"P1799","Summe Cash-Pooling / Einheitskasse / Amtskasse"]
[null,"P3009","Investitionskredite insgesamt beim Bund (Bestand zum Quartalsende)"]
[null,"P3039","Investitionskredite insgesamt beim Land (Bestand zum Quartalsende)"]
[null,"P3069","Investitionskredite insgesamt bei Gemeinden / GV (Bestand zum Quartalsende)"]
[null,"P3099","Investitionskredite insgesamt bei Zweckverbänden (Bestand zum Quartalsende)"]
[null,"P3129","Investitionskredite insgesamt bei gesetzlichen Sozialversicherungen (Bestand zum Quartalsende)"]
[null,"P3159","Investitionskredite insgesamt verbundenen Unternehmen (Bestand zum Quartalsende)"]
[null,"P3189","Investitionskredite insgesamt bei sonst. öffentl. Sonderrechnungen (Bestand zum Quartalsende)"]
[null,"P3219","Investitionskredite insgesamt bei Kreditinstituten (Bestand zum Quartalsende)"]
[null,"P3279","Investitionskredite insgesamt beim sonstigen inländischen Bereich (Bestand zum Quartalsende)"]
[null,"P3309","Investitionskredite insgesamt beim sonstigen ausländischen Bereich (Bestand zum Quartalsende)"]
[null,"H12","Hebesatz: Grundsteuer A"]
[null,"H22","Hebesatz: Grundsteuer B"]
[null,"H32","Hebesatz: Gewerbesteuer"]
[null,"U11","Nur Kreisverwaltungen! Kreisumlage nach § 56 Abs.1 KrO  - Gemeinden mit eigenem Jugendamt -"]
[null,"U12","Nur Kreisverwaltungen! Kreisumlage incl. Mehrbelastung  - Gemeinden ohne eigenes Jugendamt -"]
[null,"T110","Bargeld und Einlagen - Bestand zum Quartalsende"]
[null,"T120","Bargeld und Einlagen - Bestand zum Quartalsende des Vorquartals"]
[null,"T410","Cash-Pooling – Forderungsbestand zum Quartalsende"]
[null,"T413","darunter: beim Bund"]
[null,"T414","darunter: bei Ländern"]
[null,"T415","darunter: bei Gemeinden / GV"]
[null,"T416","darunter: Zweckverbänden"]
[null,"T417","darunter: bei gesetzl. Sozialversicherungen"]
[null,"T418","darunter: bei verbundenen Unternehmen, Beteiligungen"]
[null,"T419","darunter: bei sonstigen öffentlichen Sonderrechnungen"]
[null,"T420","Cash-Pooling – Forderungsbestand zum Quartalsende VQ"]
[null,"T423","darunter: beim Bund"]
[null,"T424","darunter: bei Ländern"]
[null,"T425","darunter: bei Gemeinden / GV"]
[null,"T426","darunter: Zweckverbänden"]
[null,"T427","darunter: bei gesetzl. Sozialversicherungen"]
[null,"T428","darunter: bei verbundenen Unternehmen, Beteiligungen"]
[null,"T429","darunter: bei sonstigen öffentlichen Sonderrechnungen"]
[null,"T630","Finanzderivate - Geleistete Zahlungen"]
[null,"T640","Finanzderivate - Erhaltene Zahlungen"]
[null,"T710","Weitere Forderungen - Bestand zum Quartalsende"]
[null,"T720","Weitere Forderungen - Bestand zum Quartalsende des Vorquartals"]
[null,"T810","Weitere Verbindlichkeiten - Bestand zum Quartalsende"]
[null,"T820","Weitere Verbindlichkeiten - Bestand zum Quartalsende des Vorquartals"]

{"sheet":"Wichtige Hinweise","index":1,"n_rows":63,"n_cols":2,"rows_kept":63,"cut":false,"hidden":false,"merged":[]}
[]
[]
[null,"Grundsätzliche Informationen zu Meldungen der Vierteljährlichen Kassenstatistik an IT.NRW:"]
[]
[null,"Da es sich bei der vierteljährlichen Erfassung der Kommunalfinanzen um eine Kassenstatistik handelt, sind grundsätzlich alle im Berichtszeitraum tatsächlich eingezahlten und ausgezahlten Beträge aus der Finanzrechnung maßgeblich, gleichgültig für welchen Zeitraum sie gezahlt und verrechnet wurden (Prinzip der Kassenwirksamkeit)."]
[]
[null,"Die Meldung zur Vierteljährlichen Kassenstatistik besteht aus folgenden Fünf Rubriken (in der Eingabedatei zur optischen Unterscheidung farblich gekennzeichnet): "]
[null,"Einzahlungen"]
[null,"Auszahlungen"]
[null,"Schuldenteil"]
[null,"Hebesätze"]
[null,"Transaktionen"]
[null,"Die Daten sind gem. §15 Abs. 5 BstatG wahrheitsgemäß, vollständig und fristgerecht zu liefern. Teillieferungen (z.B. Schuldenstand getrennt von Ein- und Auszahlungen) sind ausdrücklich zu vermeiden. Wir bitten dringend darauf zu achten, dass ausschließlich die im aktuellen Kontenkatalog vorgegebenen Konten berücksichtigt werden. Entsprechen haushaltsinterne Konten nicht dem aktuellen finanzstatistischen Kontenrahmen, so sind ggf. notwendige Anpassungen vor Datenübermittlung durch die berichtspflichtigen Stelle vorzunehmen. Bei Vergabe der Statistikerstellung an Dritte (z.B. Datenverarbeitungsunternehmen) bitten wir um die Weiterleitung aller zur Erstellung einer Lieferdatei relevanten Informationen und um besondere Sorgfalt bezüglich der zeitnahen Buchung von Zahlungsbewegungen."]
[null,"Neuaufnahmen 1. Quartal 2024: keine"]
[null,"Weggefallene Konten ab 1. Quartal 2024: keine"]
[]
[null,"Sämtliche Meldungen sind grundsätzlich vor Übermittlung an IT.NRW durch die Berichtsstelle auf Vollständigkeit und Richtigkeit zu prüfen und ggf. zu korrigieren."]
[]
[]
[]
[]
[null,"Bei Verwendung der Eingabedatei von IT.NRW beachten Sie bitte die folgenden Hinweise:"]
[]
[null,"Die Eingabedatei wird von IT.NRW den meldepflichtigen Stellen als Hilfsmittel zur Meldung der Vierteljährlichen Kassenstatistik zur Verfügung gestellt. \nDie Verwendung dieser Eingabedatei ist nicht verpflichtend, wird jedoch empfohlen."]
[]
[null,"1. Die vorgegebene Dateistruktur der von IT.NRW zur Verfügung gestellten Eingabedatei darf nicht verändert werden."]
[null,"2. Ausschließlich die in der Eingabedatei angegebenen Merkmale (Konten und Kennziffern) sind aktuell und relevant. "]
[null,"3. Beginnen Sie mit der Auswahl der gelb unterlegten Punkte 1 bis 3 (Dropdown-Liste). "]
[null,"4. Geben Sie betreffende Werte ein. Keine Nachkommastellen und keine durchgängigen negativen Vorzeichen bei Auszahlungen."]
[null,"5. Drücken Sie am Ende der Datei den Button zur Umwandlung in das korrekte Format, speichern Sie die neue Datei unter dem Format .csv (Trennzeichen-getrennt) und laden diese csv-Datei bei eStatistik.Core hoch"]
[]
[null,"https://core.estatistik.de/core/"]
[]
[]
[]
[]
[null,"Sollten Sie sich gegen die Verwendung dieser Eingabedatei entscheiden, beachten Sie bitte zur Meldung der Daten folgende wichtige Hinweise:"]
[]
[null,"1. Die gemäß Datensatzbeschreibung vorgegebene Datenstruktur ist verbindlich anzuwenden. (Beispiel anhand Konto 6011: 121;123456;6011;;12345)"]
[null,"2. Ausschließlich zulässige Dateiformate: csv und xml-Raw"]
[null,"    Wichtig: pdf, doc, xls, xlsx, txt und andere nicht in Punkt 2, Satz 1 genannte Formate können nicht verarbeitet und daher nicht akzeptiert werden."]
[null,"3. Keine Nachkommastellen (Merkmale U11 und U12 - nur von Kreisverwaltungen zu befüllen bitte als vollständige Tausenderzahl eingeben), keine durchgängigen negativen Vorzeichen bei Auszahlungen."]
[null,"4. Es sind ausschließlich die im aktuellen Kontenrahmen angegebenen Konten anzuwenden. "]
[null,"5. Hinzu kommen die spezifischen Kennziffern zum Nachweis der Bauauszahlungen* (B), der Sozialen Leistungen* nach SGB XII (L), \n    der Realsteuerhebsätze (H und U) und der Transaktionsstatistik (T). Siehe dazu Spalte \"Merkmale\" der Eingabedatei."]
[null,"6. Senden Sie die gem. §15 Abs. 5 BstatG wahrheitsgemäß und vollständig erstellte Datei fristgerecht über eStatistik.Core an IT.NRW:"]
[]
[null,"https://core.estatistik.de/core/"]
[]
[null,"* In der Vierteljahresstatistik werden Ein- und Auszahlungen im Gegensatz zu den jährlichen Statistiken nicht über Produktgruppen, sondern als Summen über den Gesamthaushalt  gemeldet. Da aber sowohl im Bereich der Sozial- und Jugendhilfeleistungen als auch im Bereich Bauauszahlungen unterjährig detaillierte Informationen unverzichtbar sind, werden betreffende Zahlungsvorgänge mit den Kennziffern L01 bis L07 bzw B01 bis B12 nachgewiesen. \n\nWichtig: Im Sozialbereich macht o. g. Sachverhalt eine gleichzeitige Meldung der Konten 7331 und 7332 entbehrlich. \nDaher sind die Konten 7331 und 7332 im Rahmen der Vierteljährlichen Kassenstatistik nicht zu melden.\n\nBitte passen Sie Ihre Meldung gemäß des SGB-Plausibilitätsschemas an und beachten Sie dazu auch die separaten Hinweise in der Datensatzbeschreibung."]
[]
[]
[]
[]
[null,"Weiterführende Links:"]
[]
[null,"Die aktuelle Datensatzbeschreibung zur Meldung der Vierteljährlichen Kassenstatistik und alle weiteren relevanten Informationen finden Sie unter:"]
[null,"https://www.it.nrw/node/3282"]
[]
[]
[null,"Kontakt:"]
[]
[null,"Fragen und Anregungen richten Sie bitte an:"]
[null,"mailto:kommunalfinanzen@it.nrw.de?subject=Frage%20zur%20Vierteljährlichen%20Kassenstatistik"]

{"sheet":"Tabelle1","index":2,"n_rows":109,"n_cols":7,"rows_kept":109,"cut":false,"hidden":true,"merged":[]}
["Düsseldorf","Köln","Münster","Detmold","Arnsberg","Bezirksverbände","Zweckverbände"]
["-- bitte auswählen --","-- bitte auswählen --","-- bitte auswählen --","-- bitte auswählen --","-- bitte auswählen --","-- bitte auswählen --","-- bitte auswählen --"]
["170004  Alpen                         ","334001  Aachen, Städteregion ","554004  Ahaus, Stadt                  ","774004  Altenbeken                    ","962004  Altena, Stadt                 "," 200000 LV Rheinland","2501004 Zweckverband für das Studieninstitut für kommunale Verwaltung Aachen"]
["154004  Bedburg-Hau                   ","334002  Aachen, krfr. Stadt           ","570004  Ahlen, Stadt                  ","766004  Augustdorf                    ","974004  Anröchte                      "," 600000 LV Westfalen-Lippe","2501075 Zweckverband Region Aachen"]
["166004  Brüggen                       ","358004  Aldenhoven                    ","566004  Altenberge                    ","762004  Bad Driburg, Stadt            ","958004  Arnsberg, Stadt               "," 800000 RVR","2502003 Zweckverband Volkshochschule Aktuelles Forum"]
["170008  Dinslaken, Stadt              ","382004  Alfter                        ","558004  Ascheberg                     ","774008  Bad Lippspringe, Stadt        ","966004  Attendorn, Stadt              ",null,"2502018 Zweckverband Industriepark A 31 Legden Ahaus"]
["162004  Dormagen, Stadt               ","334004  Alsdorf, Stadt                ","570008  Beckum, Stadt                 ","770004  Bad Oeynhausen, Stadt         ","970004  Bad Berleburg, Stadt          ",null,"2507001 Volkshochschule Nordkreis Aachen"]
["112000  Duisburg, krfr. Stadt         ","382008  Bad Honnef, Stadt             ","570012  Beelen                        ","766008  Bad Salzuflen, Stadt          ","970028  Bad Laasphe, Stadt            ",null,"2510001 Gemeindekassenverband Altenberge, Laer und Metelen"]
["111000  Düsseldorf, krfr. Stadt       ","366004  Bad Münstereifel, Stadt       ","558008  Billerbeck, Stadt             ","774040  Bad Wünnenberg, Stadt         ","974008  Bad Sassendorf                ",null,"2512019 Zweckverband Volkshochschule Arnsberg-Sundern"]
["154008  Emmerich am Rhein, Stadt      ","334008  Baesweiler, Stadt             ","554008  Bocholt, Stadt                ","766012  Barntrup, Stadt               ","962008  Balve, Stadt                  ",null,"2532003 Zweckverband Volkshochschule Bergheim/Erft"]
["158004  Erkrath, Stadt                ","362004  Bedburg, Stadt                ","554001  Borken, Kreis                 ","762008  Beverungen, Stadt             ","978004  Bergkamen, Stadt              ",null,"2532006 Zweckverband Naturpark Rheinland"]
["113000  Essen, krfr. Stadt            ","362008  Bergheim, Stadt               ","554012  Borken, Stadt                 ","711000  Bielefeld, krfr. Stadt        ","958008  Bestwig                       ",null,"2533004 Zweckverband Verkehrsverbund Rhein-Sieg"]
["154012  Geldern, Stadt                ","378004  Bergisch Gladbach, Stadt      ","512000  Bottrop, krfr. Stadt          ","766016  Blomberg, Stadt               ","911000  Bochum, krfr. Stadt           ",null,"2538020 Zweckverband Verkehrsverbund Ostwestfalen-Lippe (VVOWL)"]
["154016  Goch, Stadt                   ","374004  Bergneustadt, Stadt           ","562004  Castrop-Rauxel, Stadt         ","774012  Borchen                       ","978008  Bönen                         ",null,"2540004 Schulzweckverband Blankenheim-Nettersheim"]
["166008  Grefrath                      ","366008  Blankenheim                   ","558001  Coesfeld, Kreis               ","762012  Borgentreich, Stadt           ","954004  Breckerfeld, Stadt            ",null,"2556002 Zweckverband Volkshochschule Rhein-Erft"]
["162008  Grevenbroich, Stadt           ","314000  Bonn, krfr. Stadt             ","558012  Coesfeld, Stadt               ","754004  Borgholzhausen, Stadt         ","958012  Brilon, Stadt                 ",null,"2557001 Gesamtschulverband Bünde / Kirchlengern"]
["158008  Haan, Stadt                   ","382012  Bornheim, Stadt               ","562008  Datteln, Stadt                ","762016  Brakel, Stadt                 ","970008  Burbach                       ",null,"2562003 Musikschule Coesfeld"]
["170012  Hamminkeln, Stadt             ","362012  Brühl, Stadt                  ","562012  Dorsten, Stadt                ","758004  Bünde, Stadt                  ","913000  Dortmund, krfr. Stadt         ",null,"2562007 Zweckverband Mobilität Münsterland (ZVM)"]
["158012  Heiligenhaus, Stadt           ","378008  Burscheid, Stadt              ","570016  Drensteinfurt, Stadt          ","774016  Büren, Stadt                  ","966008  Drolshagen, Stadt             ",null,"2566033 AbfallWirtschaftsVerband Lippe -Zweckverband-"]
["158016  Hilden, Stadt                 ","366012  Dahlem                        ","558016  Dülmen, Stadt                 ","774020  Delbrück, Stadt               ","954008  Ennepetal, Stadt              ",null,"2567001 VHS-Zweckverband Dinslaken-Voerde-Hünxe"]
["170016  Hünxe                         ","358001  Düren, Kreis                  ","566008  Emsdetten, Stadt              ","766020  Detmold, Stadt                ","954001  Ennepe-Ruhr-Kreis             ",null,"2575004 Zweckverband -Aachener Verkehrsverbund-"]
["154020  Issum                         ","358008  Düren, Stadt                  ","570020  Ennigerloh, Stadt             ","766024  Dörentrup                     ","974012  Ense                          ",null,"2575220 Förderschulzweckverband im Kreis Düren"]
["162012  Jüchen                        ","382016  Eitorf                        ","570024  Everswinkel                   ","758008  Enger, Stadt                  ","970012  Erndtebrück                   ",null,"2579002 Zweckverband Musikschule La Musica"]
["162016  Kaarst, Stadt                 ","362016  Elsdorf                       ","513000  Gelsenkirchen, krfr. Stadt    ","770008  Espelkamp, Stadt              ","974016  Erwitte, Stadt                ",null,"2585017 Schulzweckverband Beckum-Ennigerloh"]
["154024  Kalkar, Stadt                 ","374008  Engelskirchen                 ","554016  Gescher, Stadt                ","766028  Extertal                      ","958016  Eslohe (Sauerland)            ",null,"2603001 Gesamtschulzweckverband Gangelt-Selfkant"]
["170020  Kamp-Lintfort, Stadt          ","362020  Erftstadt, Stadt              ","562014  Gladbeck, Stadt               ","754001  Gütersloh, Kreis              ","966012  Finnentrop                    ",null,"2611003 VHS-Zweckverband Goch"]
["166012  Kempen, Stadt                 ","370004  Erkelenz, Stadt               ","566012  Greven, Stadt                 ","754008  Gütersloh, Stadt              ","970016  Freudenberg, Stadt            ",null,"2611009 Zweckverband Gesamtschule Mittelkreis"]
["154028  Kerken                        ","334012  Eschweiler, Stadt             ","554020  Gronau (Westf.), Stadt        ","754012  Halle (Westf.), Stadt         ","978012  Fröndenberg/Ruhr, Stadt            ",null,"2613001 Zweckverband Musikschule Greven-Emsdetten-Saerbeck"]
["154032  Kevelaer, Stadt               ","366001  Euskirchen, Kreis             ","562016  Haltern, Stadt                ","754016  Harsewinkel, Stadt            ","974020  Geseke, Stadt                 ",null,"2617003 Zweckverband der Förderschulen (Förderschwerpunkt Lernen)"]
["154001  Kleve, Kreis                  ","366016  Euskirchen, Stadt             ","558020  Havixbeck                     ","758001  Herford, Kreis                ","954012  Gevelsberg, Stadt             ",null,"2619001 Zweckverband Südwestfälisches Studieninstitut für kommunale Verwaltung und Verwaltungsakademie für Westfalen"]
["154036  Kleve, Stadt                  ","362024  Frechen, Stadt                ","554024  Heek                          ","758012  Herford, Stadt                ","914000  Hagen, krfr. Stadt            ",null,"2620003 Zweckverband Volkshochschule Ravensberg"]
["162020  Korschenbroich, Stadt         ","370008  Gangelt                       ","554028  Heiden                        ","754020  Herzebrock-Clarholz           ","958020  Hallenberg, Stadt             ",null,"2625006 Zweckverband Hochwasserschutz Issel"]
["154040  Kranenburg                    ","370012  Geilenkirchen, Stadt          ","562020  Herten, Stadt                 ","758016  Hiddenhausen                  ","962012  Halver, Stadt                 ",null,"2638001 Zweckverband Volkshochschule im Kreis Herford"]
["114000  Krefeld, krfr. Stadt          ","374012  Gummersbach, Stadt            ","566020  Hopsten                       ","770012  Hille                         ","915000  Hamm, krfr. Stadt             ",null,"2646001 Volkshochschulzweckverband Hilden-Haan"]
["158020  Langenfeld (Rhld.), Stadt     ","358012  Heimbach, Stadt               ","566016  Hörstel, Stadt                ","766032  Horn-Bad Meinberg, Stadt      ","954016  Hattingen, Stadt              ",null,"2661010 Zweckverband KAAW - Kommunale ADV- Anwendergemeinschaft West"]
["162022  Meerbusch, Stadt              ","370001  Heinsberg, Kreis              ","566024  Horstmar, Stadt               ","774024  Hövelhof                      ","962016  Hemer, Stadt                  ",null,"2663003 Zweckverband für psychologische Beratung und Hilfen"]
["158001  Mettmann, Kreis               ","370016  Heinsberg, Stadt              ","566028  Ibbenbüren, Stadt             ","762001  Höxter, Kreis                 ","954020  Herdecke, Stadt               ",null,"2668002 VHS-Zweckverband Kaarst-Korschenbroich"]
["158024  Mettmann, Stadt               ","366020  Hellenthal                    ","554032  Isselburg, Stadt              ","762020  Höxter, Stadt                 ","916000  Herne, krfr. Stadt            ",null,"2682011 Zweckverband Kölner Randkanal"]
["170024  Moers, Stadt                  ","382020  Hennef (Sieg), Stadt          ","566032  Ladbergen                     ","770016  Hüllhorst                     ","962020  Herscheid                     ",null,"2682178 Zweckverband go.Rheinland"]
["116000  Mönchengladbach, krfr. Stadt  ","334016  Herzogenrath, Stadt           ","566036  Laer                          ","766036  Kalletal                      ","970020  Hilchenbach, Stadt            ",null,"2686079 Zweckverband Studieninstitut Niederrhein"]
["158026  Monheim am Rhein, Stadt       ","370020  Hückelhoven, Stadt            ","554036  Legden                        ","758020  Kirchlengern                  ","958001  Hochsauerlandkreis            ",null,"2694007 Zweckverband Gesamtschule Langenfeld-Hilden"]
["117000  Mülheim an der Ruhr, krfr. St.","374016  Hückeswagen, Stadt            ","566040  Lengerich, Stadt              ","766040  Lage, Stadt                   ","978016  Holzwickede                   ",null,"2702002 Zweckverband der Berufsbildenden Schulen Opladen"]
["166016  Nettetal, Stadt               ","358016  Hürtgenwald                   ","566044  Lienen                        ","754024  Langenberg                    ","962024  Iserlohn, Stadt               ",null,"2711003 Schulzweckverband Lotte-Westerkappeln"]
["170028  Neukirchen-Vluyn, Stadt       ","362028  Hürth, Stadt                  ","566048  Lotte                         ","766044  Lemgo, Stadt                  ","978020  Kamen, Stadt                  ",null,"2727001 Schulverband Niederzier/Merzenich"]
["162024  Neuss, Stadt                  ","358020  Inden                         ","558024  Lüdinghausen, Stadt           ","766048  Leopoldshöhe                  ","962028  Kierspe, Stadt                ",null,"2732001 Zweckverband Volkshochschule Minden/ Bad Oeynhausen"]
["166020  Niederkrüchten                ","358024  Jülich, Stadt                 ","562024  Marl, Stadt                   ","774028  Lichtenau, Stadt              ","966016  Kirchhundem                   ",null,"2755001 Planungsverband Düren-Niederzier"]
["119000  Oberhausen, krfr. Stadt       ","366024  Kall                          ","566052  Metelen                       ","766001  Lippe, Kreis                  ","970024  Kreuztal, Stadt               ",null,"2772001 VHS-Zweckverband Overath-Rösrath"]
["158028  Ratingen, Stadt               ","362032  Kerpen, Stadt                 ","566056  Mettingen                     ","758024  Löhne, Stadt                  ","966020  Lennestadt, Stadt             ",null,"2773004 Gemeindeforstamtsverband Willebadessen"]
["154044  Rees, Stadt                   ","315000  Köln, krfr. Stadt             ","515000  Münster, krfr. Stadt          ","770020  Lübbecke, Stadt               ","974024  Lippetal                      ",null,"2773018 Zweckverband Nahverkehrsverbund Paderborn-Höxter (NPH)"]
["120000  Remscheid, krfr. Stadt        ","382024  Königswinter, Stadt           ","566060  Neuenkirchen                  ","766052  Lügde, Stadt                  ","974028  Lippstadt, Stadt              ",null,"2784001 Zweckverband für das Studieninstitut für kommunale Verwaltung Emscher-Lippe"]
["170032  Rheinberg, Stadt              ","358028  Kreuzau                       ","558028  Nordkirchen                   ","762024  Marienmünster, Stadt          ","962032  Lüdenscheid, Stadt            ",null,"2791001 VHS-Zweckverband Voreifel"]
["162001  Rhein-Kreis Neuss             ","378012  Kürten                        ","566064  Nordwalde                     ","770024  Minden, Stadt                 ","978024  Lünen, Stadt                  ",null,"2804002 VHS-Zweckverband Büren, Delbrück, Geseke, Hövelhof, Salzkotten und Bad Wünnenberg"]
["154048  Rheurdt                       ","358032  Langerwehe                    ","558032  Nottuln                       ","770001  Minden-Lübbecke, Kreis        ","958024  Marsberg, Stadt               ",null,"2812001 Zweckverband der Volkshochschule Verl - Harsewinkel - Schloß Holte-Stukenbrock"]
["162028  Rommerskirchen                ","378016  Leichlingen (Rhld.), Stadt    ","566068  Ochtrup, Stadt                ","762028  Nieheim, Stadt                ","962001  Märkischer Kreis              ",null,"2822002 VHS-Zweckverband Rhein-Sieg"]
["170036  Schermbeck                    ","316000  Leverkusen, krfr. Stadt       ","570028  Oelde, Stadt                  ","766056  Oerlinghausen, Stadt          ","958028  Medebach, Stadt               ",null,"2823013 Zweckverband Personennahverkehr Westfalen-Süd"]
["166024  Schwalmtal                    ","374020  Lindlar                       ","562028  Oer-Erkenschwick, Stadt       ","774001  Paderborn, Kreis              ","962036  Meinerzhagen, Stadt           ",null,"2825003 Zweckverband Studieninstitut für kommunale Verwaltung Hellweg Sauerland"]
["122000  Solingen, krfr. Stadt         ","358036  Linnich, Stadt                ","558036  Olfen, Stadt                  ","774032  Paderborn, Stadt              ","962040  Menden (Sauerland), Stadt     ",null,"2844002 Volkshochschulzweckverband Troisdorf und Niederkassel"]
["170040  Sonsbeck                      ","382028  Lohmar, Stadt                 ","570032  Ostbevern                     ","770028  Petershagen, Stadt            ","958032  Meschede, Stadt               ",null,"2847012 Zweckverband Mobilität Ruhr-Lippe (ZRL)"]
["154052  Straelen, Stadt               ","374024  Marienheide                   ","554040  Raesfeld                      ","770032  Porta Westfalica, Stadt       ","974032  Möhnesee                      ",null,"2847026 Zweckverband Nahverkehr Westfalen-Lippe (NWL) "]
["166028  Tönisvorst, Stadt             ","366028  Mechernich, Stadt             ","566072  Recke                         ","770036  Preußisch Oldendorf, Stadt    ","962044  Nachrodt-Wiblingwerde         ",null,"2848002 Volkshochschulzweckverband Velbert-Heiligenhaus"]
["154056  Uedem                         ","382032  Meckenheim, Stadt             ","562001  Recklinghausen, Kreis         ","770040  Rahden, Stadt                 ","970032  Netphen, Stadt                ",null,"2853006 Zweckverband Naturpark Schwalm-Nette"]
["158032  Velbert, Stadt                ","358040  Merzenich                     ","562032  Recklinghausen, Stadt         ","754028  Rheda-Wiedenbrück, Stadt      ","962048  Neuenrade, Stadt              ",null,"2864001 Zweckverband Volkshochschule Warendorf"]
["166001  Viersen, Kreis                ","334020  Monschau, Stadt               ","554044  Reken                         ","754032  Rietberg, Stadt               ","970036  Neunkirchen                   ",null,"2872002 Zweckverband VHS-Lennetal"]
["166032  Viersen, Stadt                ","374028  Morsbach                      ","554048  Rhede, Stadt                  ","758028  Rödinghausen                  ","966001  Olpe, Kreis                   ",null,"2874002 VHS-Zweckverband Bergisch Land"]
["170044  Voerde (Niederrhein), Stadt   ","382036  Much                          ","566076  Rheine, Stadt                 ","774036  Salzkotten, Stadt             ","966024  Olpe, Stadt                   ",null,"2877011 Nahverkehrs-Zweckverband Niederrhein"]
["154060  Wachtendonk                   ","366032  Nettersheim                   ","558040  Rosendahl                     ","766060  Schieder-Schwalenberg, Stadt  ","958036  Olsberg, Stadt                ",null,"2877014 Volkshochschulzweckverband Wesel-Hamminkeln-Schermbeck"]
["154064  Weeze                         ","382040  Neunkirchen-Seelscheid        ","566080  Saerbeck                      ","766064  Schlangen                     ","962052  Plettenberg, Stadt            ",null,"2890001 VHS-Zweckverband Witten-Wetter-Herdecke"]
["170001  Wesel, Kreis                  ","358044  Nideggen, Stadt               ","570036  Sassenberg, Stadt             ","754036  Schloß Holte-Stukenbrock , Stadt     ","974036  Rüthen, Stadt                 "]
["170048  Wesel, Stadt                  ","382044  Niederkassel, Stadt           ","554052  Schöppingen                   ","758032  Spenge, Stadt                 ","962056  Schalksmühle                  "]
["166036  Willich, Stadt                ","358048  Niederzier                    ","558044  Senden                        ","754040  Steinhagen                    ","958040  Schmallenberg, Stadt          "]
["158036  Wülfrath, Stadt               ","358052  Nörvenich                     ","570040  Sendenhorst, Stadt            ","762032  Steinheim, Stadt              ","954024  Schwelm, Stadt                "]
["124000  Wuppertal, krfr. Stadt        ","374032  Nümbrecht                     ","554056  Stadtlohn, Stadt              ","770044  Stemwede                      ","978028  Schwerte, Stadt               "]
["170052  Xanten, Stadt                 ","374001  Oberbergischer Kreis          ","566001  Steinfurt, Kreis              ","754044  Verl                          ","978032  Selm, Stadt                   "]
[null,"378020  Odenthal                      ","566084  Steinfurt, Stadt              ","754048  Versmold, Stadt               ","970040  Siegen, Stadt                 "]
[null,"378024  Overath, Stadt                ","554060  Südlohn                       ","758036  Vlotho, Stadt                 ","970001  Siegen-Wittgenstein, Kreis    "]
[null,"362036  Pulheim, Stadt                ","566088  Tecklenburg, Stadt            ","762036  Warburg, Stadt                ","974001  Soest, Kreis                  "]
[null,"374036  Radevormwald, Stadt           ","570044  Telgte, Stadt                 ","754052  Werther (Westf.), Stadt       ","974040  Soest, Stadt                  "]
[null,"374040  Reichshof                     ","554064  Velen                         ","762040  Willebadessen, Stadt          ","954028  Sprockhövel, Stadt            "]
[null,"382048  Rheinbach, Stadt              ","554068  Vreden, Stadt                 ",null,"958044  Sundern (Sauerland), Stadt    "]
[null,"362001  Rhein-Erft-Kreis              ","570048  Wadersloh                     ",null,"978001  Unna, Kreis                   "]
[null,"382001  Rhein-Sieg-Kreis              ","562036  Waltrop, Stadt                ",null,"978036  Unna, Stadt                   "]
[null,"378001  Rheinisch-Bergischer Kreis    ","570001  Warendorf, Kreis              ",null,"974044  Warstein, Stadt               "]
[null,"334024  Roetgen                       ","570052  Warendorf, Stadt              ",null,"974048  Welver                        "]
[null,"378028  Rösrath, Stadt                ","566092  Westerkappeln                 ",null,"966028  Wenden                        "]
[null,"382052  Ruppichteroth                 ","566096  Wettringen                    ",null,"962060  Werdohl, Stadt                "]
[null,"382056  Sankt Augustin, Stadt         ",null,null,"974052  Werl, Stadt                   "]
[null,"366036  Schleiden, Stadt              ",null,null,"978040  Werne, Stadt                  "]
[null,"370024  Selfkant                      ",null,null,"954032  Wetter (Ruhr), Stadt          "]
[null,"382060  Siegburg, Stadt               ",null,null,"974056  Wickede (Ruhr)                "]
[null,"334028  Simmerath                     ",null,null,"970044  Wilnsdorf                     "]
[null,"334032  Stolberg (Rhld.), Stadt       ",null,null,"958048  Winterberg, Stadt             "]
[null,"382064  Swisttal                      ",null,null,"954036  Witten, Stadt                 "]
[null,"358056  Titz                          "]
[null,"382068  Troisdorf, Stadt              "]
[null,"370028  Übach-Palenberg, Stadt        "]
[null,"358060  Vettweiß                      "]
[null,"382072  Wachtberg                     "]
[null,"374044  Waldbröl, Stadt               "]
[null,"370032  Waldfeucht                    "]
[null,"370036  Wassenberg, Stadt             "]
[null,"370040  Wegberg, Stadt                "]
[null,"366040  Weilerswist                   "]
[null,"378032  Wermelskirchen, Stadt         "]
[null,"362040  Wesseling, Stadt              "]
[null,"374048  Wiehl, Stadt                  "]
[null,"382076  Windeck                       "]
[null,"374052  Wipperfürth, Stadt            "]
[null,"334036  Würselen, Stadt               "]
[null,"366044  Zülpich, Stadt                "]

{"sheet":"csv","index":3,"n_rows":424,"n_cols":12,"rows_kept":424,"cut":false,"hidden":true,"merged":[]}
[{"$f":"RIGHT('Eingabedatei Kassenstatistik'!D6,16)","v":"tte auswählen --"},";",{"$f":"LEFT('Eingabedatei Kassenstatistik'!D5,7)","v":"-- bitt"},";",6011,";",";",{"$f":"'Eingabedatei Kassenstatistik'!E8","v":0},{"$f":"LEFT(A1,1)","v":"t"},{"$f":"RIGHT(A1,2)","v":"--"},{"$f":"ROUND(H1,0)","v":0},{"$f":"I1&csv!J1&B1&C1&D1&E1&F1&G1&K1","v":"t--;-- bitt;6011;;0"}]
[{"$f":"A1","v":"tte auswählen --"},";",{"$f":"C1","v":"-- bitt"},";",6012,";",";",{"$f":"'Eingabedatei Kassenstatistik'!E9","v":0},{"$f":"I1","v":"t"},{"$f":"J1","v":"--"},{"$f":"ROUND(H2,0)","v":0},{"$f":"I2&csv!J2&B2&C2&D2&E2&F2&G2&K2","v":"t--;-- bitt;6012;;0"}]
["tte auswählen --",";","-- bitt",";",6013,";",";",{"$f":"'Eingabedatei Kassenstatistik'!E10","v":0},{"$f":"I2","v":"t"},{"$f":"J2","v":"--"},0,{"$f":"I3&csv!J3&B3&C3&D3&E3&F3&G3&K3","v":"t--;-- bitt;6013;;0"}]
["tte auswählen --",";","-- bitt",";",6021,";",";",{"$f":"'Eingabedatei Kassenstatistik'!E11","v":0},"t","--",0,{"$f":"I4&csv!J4&B4&C4&D4&E4&F4&G4&K4","v":"t--;-- bitt;6021;;0"}]
["tte auswählen --",";","-- bitt",";",6022,";",";",{"$f":"'Eingabedatei Kassenstatistik'!E12","v":0},"t","--",0,{"$f":"I5&csv!J5&B5&C5&D5&E5&F5&G5&K5","v":"t--;-- bitt;6022;;0"}]
["tte auswählen --",";","-- bitt",";",6031,";",";",{"$f":"'Eingabedatei Kassenstatistik'!E13","v":0},"t","--",0,{"$f":"I6&csv!J6&B6&C6&D6&E6&F6&G6&K6","v":"t--;-- bitt;6031;;0"}]
["tte auswählen --",";","-- bitt",";",6032,";",";",{"$f":"'Eingabedatei Kassenstatistik'!E14","v":0},"t","--",0,{"$f":"I7&csv!J7&B7&C7&D7&E7&F7&G7&K7","v":"t--;-- bitt;6032;;0"}]
["tte auswählen --",";","-- bitt",";",6034,";",";",{"$f":"'Eingabedatei Kassenstatistik'!E15","v":0},"t","--",0,{"$f":"I8&csv!J8&B8&C8&D8&E8&F8&G8&K8","v":"t--;-- bitt;6034;;0"}]
["tte auswählen --",";","-- bitt",";",6035,";",";",{"$f":"'Eingabedatei Kassenstatistik'!E16","v":0},"t","--",0,{"$f":"I9&csv!J9&B9&C9&D9&E9&F9&G9&K9","v":"t--;-- bitt;6035;;0"}]
["tte auswählen --",";","-- bitt",";",6036,";",";",{"$f":"'Eingabedatei Kassenstatistik'!E17","v":0},"t","--",0,{"$f":"I10&csv!J10&B10&C10&D10&E10&F10&G10&K10","v":"t--;-- bitt;6036;;0"}]
["tte auswählen --",";","-- bitt",";",6041,";",";",{"$f":"'Eingabedatei Kassenstatistik'!E18","v":0},"t","--",0,{"$f":"I11&csv!J11&B11&C11&D11&E11&F11&G11&K11","v":"t--;-- bitt;6041;;0"}]
["tte auswählen --",";","-- bitt",";",6042,";",";",{"$f":"'Eingabedatei Kassenstatistik'!E19","v":0},"t","--",0,{"$f":"I12&csv!J12&B12&C12&D12&E12&F12&G12&K12","v":"t--;-- bitt;6042;;0"}]
["tte auswählen --",";","-- bitt",";",6049,";",";",{"$f":"'Eingabedatei Kassenstatistik'!E20","v":0},"t","--",0,{"$f":"I13&csv!J13&B13&C13&D13&E13&F13&G13&K13","v":"t--;-- bitt;6049;;0"}]
["tte auswählen --",";","-- bitt",";",6051,";",";",{"$f":"'Eingabedatei Kassenstatistik'!E21","v":0},"t","--",0,{"$f":"I14&csv!J14&B14&C14&D14&E14&F14&G14&K14","v":"t--;-- bitt;6051;;0"}]
["tte auswählen --",";","-- bitt",";",6052,";",";",{"$f":"'Eingabedatei Kassenstatistik'!E22","v":0},"t","--",0,{"$f":"I15&csv!J15&B15&C15&D15&E15&F15&G15&K15","v":"t--;-- bitt;6052;;0"}]
["tte auswählen --",";","-- bitt",";",6111,";",";",{"$f":"'Eingabedatei Kassenstatistik'!E23","v":0},"t","--",0,{"$f":"I16&csv!J16&B16&C16&D16&E16&F16&G16&K16","v":"t--;-- bitt;6111;;0"}]
["tte auswählen --",";","-- bitt",";",6121,";",";",{"$f":"'Eingabedatei Kassenstatistik'!E24","v":0},"t","--",0,{"$f":"I17&csv!J17&B17&C17&D17&E17&F17&G17&K17","v":"t--;-- bitt;6121;;0"}]
["tte auswählen --",";","-- bitt",";",6122,";",";",{"$f":"'Eingabedatei Kassenstatistik'!E25","v":0},"t","--",0,{"$f":"I18&csv!J18&B18&C18&D18&E18&F18&G18&K18","v":"t--;-- bitt;6122;;0"}]
["tte auswählen --",";","-- bitt",";",6130,";",";",{"$f":"'Eingabedatei Kassenstatistik'!E26","v":0},"t","--",0,{"$f":"I19&csv!J19&B19&C19&D19&E19&F19&G19&K19","v":"t--;-- bitt;6130;;0"}]
["tte auswählen --",";","-- bitt",";",6131,";",";",{"$f":"'Eingabedatei Kassenstatistik'!E27","v":0},"t","--",0,{"$f":"I20&csv!J20&B20&C20&D20&E20&F20&G20&K20","v":"t--;-- bitt;6131;;0"}]
["tte auswählen --",";","-- bitt",";",6140,";",";",{"$f":"'Eingabedatei Kassenstatistik'!E28","v":0},"t","--",0,{"$f":"I21&csv!J21&B21&C21&D21&E21&F21&G21&K21","v":"t--;-- bitt;6140;;0"}]
["tte auswählen --",";","-- bitt",";",6141,";",";",{"$f":"'Eingabedatei Kassenstatistik'!E29","v":0},"t","--",0,{"$f":"I22&csv!J22&B22&C22&D22&E22&F22&G22&K22","v":"t--;-- bitt;6141;;0"}]
["tte auswählen --",";","-- bitt",";",6142,";",";",{"$f":"'Eingabedatei Kassenstatistik'!E30","v":0},"t","--",0,{"$f":"I23&csv!J23&B23&C23&D23&E23&F23&G23&K23","v":"t--;-- bitt;6142;;0"}]
["tte auswählen --",";","-- bitt",";",6143,";",";",{"$f":"'Eingabedatei Kassenstatistik'!E31","v":0},"t","--",0,{"$f":"I24&csv!J24&B24&C24&D24&E24&F24&G24&K24","v":"t--;-- bitt;6143;;0"}]
["tte auswählen --",";","-- bitt",";",6144,";",";",{"$f":"'Eingabedatei Kassenstatistik'!E32","v":0},"t","--",0,{"$f":"I25&csv!J25&B25&C25&D25&E25&F25&G25&K25","v":"t--;-- bitt;6144;;0"}]
["tte auswählen --",";","-- bitt",";",6145,";",";",{"$f":"'Eingabedatei Kassenstatistik'!E33","v":0},"t","--",0,{"$f":"I26&csv!J26&B26&C26&D26&E26&F26&G26&K26","v":"t--;-- bitt;6145;;0"}]
["tte auswählen --",";","-- bitt",";",6146,";",";",{"$f":"'Eingabedatei Kassenstatistik'!E34","v":0},"t","--",0,{"$f":"I27&csv!J27&B27&C27&D27&E27&F27&G27&K27","v":"t--;-- bitt;6146;;0"}]
["tte auswählen --",";","-- bitt",";",6147,";",";",{"$f":"'Eingabedatei Kassenstatistik'!E35","v":0},"t","--",0,{"$f":"I28&csv!J28&B28&C28&D28&E28&F28&G28&K28","v":"t--;-- bitt;6147;;0"}]
["tte auswählen --",";","-- bitt",";",6148,";",";",{"$f":"'Eingabedatei Kassenstatistik'!E36","v":0},"t","--",0,{"$f":"I29&csv!J29&B29&C29&D29&E29&F29&G29&K29","v":"t--;-- bitt;6148;;0"}]
["tte auswählen --",";","-- bitt",";",6181,";",";",{"$f":"'Eingabedatei Kassenstatistik'!E37","v":0},"t","--",0,{"$f":"I30&csv!J30&B30&C30&D30&E30&F30&G30&K30","v":"t--;-- bitt;6181;;0"}]
["tte auswählen --",";","-- bitt",";",6184,";",";",{"$f":"'Eingabedatei Kassenstatistik'!E38","v":0},"t","--",0,{"$f":"I31&csv!J31&B31&C31&D31&E31&F31&G31&K31","v":"t--;-- bitt;6184;;0"}]
["tte auswählen --",";","-- bitt",";",6185,";",";",{"$f":"'Eingabedatei Kassenstatistik'!E39","v":0},"t","--",0,{"$f":"I32&csv!J32&B32&C32&D32&E32&F32&G32&K32","v":"t--;-- bitt;6185;;0"}]
["tte auswählen --",";","-- bitt",";",6186,";",";",{"$f":"'Eingabedatei Kassenstatistik'!E40","v":0},"t","--",0,{"$f":"I33&csv!J33&B33&C33&D33&E33&F33&G33&K33","v":"t--;-- bitt;6186;;0"}]
["tte auswählen --",";","-- bitt",";",6187,";",";",{"$f":"'Eingabedatei Kassenstatistik'!E41","v":0},"t","--",0,{"$f":"I34&csv!J34&B34&C34&D34&E34&F34&G34&K34","v":"t--;-- bitt;6187;;0"}]
["tte auswählen --",";","-- bitt",";",6188,";",";",{"$f":"'Eingabedatei Kassenstatistik'!E42","v":0},"t","--",0,{"$f":"I35&csv!J35&B35&C35&D35&E35&F35&G35&K35","v":"t--;-- bitt;6188;;0"}]
["tte auswählen --",";","-- bitt",";",6189,";",";",{"$f":"'Eingabedatei Kassenstatistik'!E43","v":0},"t","--",0,{"$f":"I36&csv!J36&B36&C36&D36&E36&F36&G36&K36","v":"t--;-- bitt;6189;;0"}]
["tte auswählen --",";","-- bitt",";",6211,";",";",{"$f":"'Eingabedatei Kassenstatistik'!E44","v":0},"t","--",{"$f":"ROUND(H37,0)","v":0},{"$f":"I37&csv!J37&B37&C37&D37&E37&F37&G37&K37","v":"t--;-- bitt;6211;;0"}]
["tte auswählen --",";","-- bitt",";",6212,";",";",{"$f":"'Eingabedatei Kassenstatistik'!E45","v":0},"t","--",0,{"$f":"I38&csv!J38&B38&C38&D38&E38&F38&G38&K38","v":"t--;-- bitt;6212;;0"}]
["tte auswählen --",";","-- bitt",";",6213,";",";",{"$f":"'Eingabedatei Kassenstatistik'!E46","v":0},"t","--",0,{"$f":"I39&csv!J39&B39&C39&D39&E39&F39&G39&K39","v":"t--;-- bitt;6213;;0"}]
["tte auswählen --",";","-- bitt",";",6214,";",";",{"$f":"'Eingabedatei Kassenstatistik'!E47","v":0},"t","--",0,{"$f":"I40&csv!J40&B40&C40&D40&E40&F40&G40&K40","v":"t--;-- bitt;6214;;0"}]
["tte auswählen --",";","-- bitt",";",6215,";",";",{"$f":"'Eingabedatei Kassenstatistik'!E48","v":0},"t","--",0,{"$f":"I41&csv!J41&B41&C41&D41&E41&F41&G41&K41","v":"t--;-- bitt;6215;;0"}]
["tte auswählen --",";","-- bitt",";",6221,";",";",{"$f":"'Eingabedatei Kassenstatistik'!E49","v":0},"t","--",0,{"$f":"I42&csv!J42&B42&C42&D42&E42&F42&G42&K42","v":"t--;-- bitt;6221;;0"}]
["tte auswählen --",";","-- bitt",";",6222,";",";",{"$f":"'Eingabedatei Kassenstatistik'!E50","v":0},"t","--",0,{"$f":"I43&csv!J43&B43&C43&D43&E43&F43&G43&K43","v":"t--;-- bitt;6222;;0"}]
["tte auswählen --",";","-- bitt",";",6223,";",";",{"$f":"'Eingabedatei Kassenstatistik'!E51","v":0},"t","--",0,{"$f":"I44&csv!J44&B44&C44&D44&E44&F44&G44&K44","v":"t--;-- bitt;6223;;0"}]
["tte auswählen --",";","-- bitt",";",6224,";",";",{"$f":"'Eingabedatei Kassenstatistik'!E52","v":0},"t","--",0,{"$f":"I45&csv!J45&B45&C45&D45&E45&F45&G45&K45","v":"t--;-- bitt;6224;;0"}]
["tte auswählen --",";","-- bitt",";",6225,";",";",{"$f":"'Eingabedatei Kassenstatistik'!E53","v":0},"t","--",0,{"$f":"I46&csv!J46&B46&C46&D46&E46&F46&G46&K46","v":"t--;-- bitt;6225;;0"}]
["tte auswählen --",";","-- bitt",";",6230,";",";",{"$f":"'Eingabedatei Kassenstatistik'!E54","v":0},"t","--",0,{"$f":"I47&csv!J47&B47&C47&D47&E47&F47&G47&K47","v":"t--;-- bitt;6230;;0"}]
["tte auswählen --",";","-- bitt",";",6231,";",";",{"$f":"'Eingabedatei Kassenstatistik'!E55","v":0},"t","--",0,{"$f":"I48&csv!J48&B48&C48&D48&E48&F48&G48&K48","v":"t--;-- bitt;6231;;0"}]
["tte auswählen --",";","-- bitt",";",6232,";",";",{"$f":"'Eingabedatei Kassenstatistik'!E56","v":0},"t","--",0,{"$f":"I49&csv!J49&B49&C49&D49&E49&F49&G49&K49","v":"t--;-- bitt;6232;;0"}]
["tte auswählen --",";","-- bitt",";",6233,";",";",{"$f":"'Eingabedatei Kassenstatistik'!E57","v":0},"t","--",0,{"$f":"I50&csv!J50&B50&C50&D50&E50&F50&G50&K50","v":"t--;-- bitt;6233;;0"}]
["tte auswählen --",";","-- bitt",";",6234,";",";",{"$f":"'Eingabedatei Kassenstatistik'!E58","v":0},"t","--",0,{"$f":"I51&csv!J51&B51&C51&D51&E51&F51&G51&K51","v":"t--;-- bitt;6234;;0"}]
["tte auswählen --",";","-- bitt",";",6235,";",";",{"$f":"'Eingabedatei Kassenstatistik'!E59","v":0},"t","--",0,{"$f":"I52&csv!J52&B52&C52&D52&E52&F52&G52&K52","v":"t--;-- bitt;6235;;0"}]
["tte auswählen --",";","-- bitt",";",6236,";",";",{"$f":"'Eingabedatei Kassenstatistik'!E60","v":0},"t","--",0,{"$f":"I53&csv!J53&B53&C53&D53&E53&F53&G53&K53","v":"t--;-- bitt;6236;;0"}]
["tte auswählen --",";","-- bitt",";",6237,";",";",{"$f":"'Eingabedatei Kassenstatistik'!E61","v":0},"t","--",0,{"$f":"I54&csv!J54&B54&C54&D54&E54&F54&G54&K54","v":"t--;-- bitt;6237;;0"}]
["tte auswählen --",";","-- bitt",";",6238,";",";",{"$f":"'Eingabedatei Kassenstatistik'!E62","v":0},"t","--",0,{"$f":"I55&csv!J55&B55&C55&D55&E55&F55&G55&K55","v":"t--;-- bitt;6238;;0"}]
["tte auswählen --",";","-- bitt",";",6291,";",";",{"$f":"'Eingabedatei Kassenstatistik'!E63","v":0},"t","--",0,{"$f":"I56&csv!J56&B56&C56&D56&E56&F56&G56&K56","v":"t--;-- bitt;6291;;0"}]
["tte auswählen --",";","-- bitt",";",6311,";",";",{"$f":"'Eingabedatei Kassenstatistik'!E64","v":0},"t","--",0,{"$f":"I57&csv!J57&B57&C57&D57&E57&F57&G57&K57","v":"t--;-- bitt;6311;;0"}]
["tte auswählen --",";","-- bitt",";",6321,";",";",{"$f":"'Eingabedatei Kassenstatistik'!E65","v":0},"t","--",0,{"$f":"I58&csv!J58&B58&C58&D58&E58&F58&G58&K58","v":"t--;-- bitt;6321;;0"}]
["tte auswählen --",";","-- bitt",";",6361,";",";",{"$f":"'Eingabedatei Kassenstatistik'!E66","v":0},"t","--",0,{"$f":"I59&csv!J59&B59&C59&D59&E59&F59&G59&K59","v":"t--;-- bitt;6361;;0"}]
["tte auswählen --",";","-- bitt",";",6411,";",";",{"$f":"'Eingabedatei Kassenstatistik'!E67","v":0},"t","--",0,{"$f":"I60&csv!J60&B60&C60&D60&E60&F60&G60&K60","v":"t--;-- bitt;6411;;0"}]
["tte auswählen --",";","-- bitt",";",6421,";",";",{"$f":"'Eingabedatei Kassenstatistik'!E68","v":0},"t","--",0,{"$f":"I61&csv!J61&B61&C61&D61&E61&F61&G61&K61","v":"t--;-- bitt;6421;;0"}]
["tte auswählen --",";","-- bitt",";",6461,";",";",{"$f":"'Eingabedatei Kassenstatistik'!E69","v":0},"t","--",0,{"$f":"I62&csv!J62&B62&C62&D62&E62&F62&G62&K62","v":"t--;-- bitt;6461;;0"}]
["tte auswählen --",";","-- bitt",";",6480,";",";",{"$f":"'Eingabedatei Kassenstatistik'!E70","v":0},"t","--",0,{"$f":"I63&csv!J63&B63&C63&D63&E63&F63&G63&K63","v":"t--;-- bitt;6480;;0"}]
["tte auswählen --",";","-- bitt",";",6481,";",";",{"$f":"'Eingabedatei Kassenstatistik'!E71","v":0},"t","--",0,{"$f":"I64&csv!J64&B64&C64&D64&E64&F64&G64&K64","v":"t--;-- bitt;6481;;0"}]
["tte auswählen --",";","-- bitt",";",6482,";",";",{"$f":"'Eingabedatei Kassenstatistik'!E72","v":0},"t","--",0,{"$f":"I65&csv!J65&B65&C65&D65&E65&F65&G65&K65","v":"t--;-- bitt;6482;;0"}]
[{"$f":"A65","v":"tte auswählen --"},";",{"$f":"C65","v":"-- bitt"},";",6483,";",";",{"$f":"'Eingabedatei Kassenstatistik'!E73","v":0},"t","--",0,{"$f":"I66&csv!J66&B66&C66&D66&E66&F66&G66&K66","v":"t--;-- bitt;6483;;0"}]
["tte auswählen --",";","-- bitt",";",6484,";",";",{"$f":"'Eingabedatei Kassenstatistik'!E74","v":0},{"$f":"I66","v":"t"},"--",0,{"$f":"I67&csv!J67&B67&C67&D67&E67&F67&G67&K67","v":"t--;-- bitt;6484;;0"}]
["tte auswählen --",";","-- bitt",";",6485,";",";",{"$f":"'Eingabedatei Kassenstatistik'!E75","v":0},"t","--",0,{"$f":"I68&csv!J68&B68&C68&D68&E68&F68&G68&K68","v":"t--;-- bitt;6485;;0"}]
["tte auswählen --",";","-- bitt",";",6486,";",";",{"$f":"'Eingabedatei Kassenstatistik'!E76","v":0},"t","--",0,{"$f":"I69&csv!J69&B69&C69&D69&E69&F69&G69&K69","v":"t--;-- bitt;6486;;0"}]
["tte auswählen --",";","-- bitt",";",6487,";",";",{"$f":"'Eingabedatei Kassenstatistik'!E77","v":0},"t","--",0,{"$f":"I70&csv!J70&B70&C70&D70&E70&F70&G70&K70","v":"t--;-- bitt;6487;;0"}]
["tte auswählen --",";","-- bitt",";",6488,";",";",{"$f":"'Eingabedatei Kassenstatistik'!E78","v":0},"t","--",0,{"$f":"I71&csv!J71&B71&C71&D71&E71&F71&G71&K71","v":"t--;-- bitt;6488;;0"}]
["tte auswählen --",";","-- bitt",";",6491,";",";",{"$f":"'Eingabedatei Kassenstatistik'!E79","v":0},"t","--",0,{"$f":"I72&csv!J72&B72&C72&D72&E72&F72&G72&K72","v":"t--;-- bitt;6491;;0"}]
["tte auswählen --",";","-- bitt",";",6492,";",";",{"$f":"'Eingabedatei Kassenstatistik'!E80","v":0},"t","--",{"$f":"ROUND(H73,0)","v":0},{"$f":"I73&csv!J73&B73&C73&D73&E73&F73&G73&K73","v":"t--;-- bitt;6492;;0"}]
["tte auswählen --",";","-- bitt",";",6493,";",";",{"$f":"'Eingabedatei Kassenstatistik'!E81","v":0},"t","--",0,{"$f":"I74&csv!J74&B74&C74&D74&E74&F74&G74&K74","v":"t--;-- bitt;6493;;0"}]
["tte auswählen --",";","-- bitt",";",6496,";",";",{"$f":"'Eingabedatei Kassenstatistik'!E82","v":0},"t","--",0,{"$f":"I75&csv!J75&B75&C75&D75&E75&F75&G75&K75","v":"t--;-- bitt;6496;;0"}]
["tte auswählen --",";","-- bitt",";",6511,";",";",{"$f":"'Eingabedatei Kassenstatistik'!E83","v":0},"t","--",0,{"$f":"I76&csv!J76&B76&C76&D76&E76&F76&G76&K76","v":"t--;-- bitt;6511;;0"}]
["tte auswählen --",";","-- bitt",";",6522,";",";",{"$f":"'Eingabedatei Kassenstatistik'!E84","v":0},"t","--",0,{"$f":"I77&csv!J77&B77&C77&D77&E77&F77&G77&K77","v":"t--;-- bitt;6522;;0"}]
["tte auswählen --",";","-- bitt",";",6525,";",";",{"$f":"'Eingabedatei Kassenstatistik'!E85","v":0},"t","--",{"$f":"ROUND(H78,0)","v":0},{"$f":"I78&csv!J78&B78&C78&D78&E78&F78&G78&K78","v":"t--;-- bitt;6525;;0"}]
["tte auswählen --",";","-- bitt",";",6561,";",";",{"$f":"'Eingabedatei Kassenstatistik'!E86","v":0},"t","--",0,{"$f":"I79&csv!J79&B79&C79&D79&E79&F79&G79&K79","v":"t--;-- bitt;6561;;0"}]
["tte auswählen --",";","-- bitt",";",6562,";",";",{"$f":"'Eingabedatei Kassenstatistik'!E87","v":0},"t","--",0,{"$f":"I80&csv!J80&B80&C80&D80&E80&F80&G80&K80","v":"t--;-- bitt;6562;;0"}]
["tte auswählen --",";","-- bitt",";",6563,";",";",{"$f":"'Eingabedatei Kassenstatistik'!E88","v":0},"t","--",0,{"$f":"I81&csv!J81&B81&C81&D81&E81&F81&G81&K81","v":"t--;-- bitt;6563;;0"}]
["tte auswählen --",";","-- bitt",";",6564,";",";",{"$f":"'Eingabedatei Kassenstatistik'!E89","v":0},"t","--",{"$f":"ROUND(H82,0)","v":0},{"$f":"I82&csv!J82&B82&C82&D82&E82&F82&G82&K82","v":"t--;-- bitt;6564;;0"}]
["tte auswählen --",";","-- bitt",";",6591,";",";",{"$f":"'Eingabedatei Kassenstatistik'!E90","v":0},"t","--",0,{"$f":"I83&csv!J83&B83&C83&D83&E83&F83&G83&K83","v":"t--;-- bitt;6591;;0"}]
["tte auswählen --",";","-- bitt",";",6610,";",";",{"$f":"'Eingabedatei Kassenstatistik'!E91","v":0},"t","--",0,{"$f":"I84&csv!J84&B84&C84&D84&E84&F84&G84&K84","v":"t--;-- bitt;6610;;0"}]
["tte auswählen --",";","-- bitt",";",6611,";",";",{"$f":"'Eingabedatei Kassenstatistik'!E92","v":0},"t","--",0,{"$f":"I85&csv!J85&B85&C85&D85&E85&F85&G85&K85","v":"t--;-- bitt;6611;;0"}]
["tte auswählen --",";","-- bitt",";",6612,";",";",{"$f":"'Eingabedatei Kassenstatistik'!E93","v":0},"t","--",0,{"$f":"I86&csv!J86&B86&C86&D86&E86&F86&G86&K86","v":"t--;-- bitt;6612;;0"}]
["tte auswählen --",";","-- bitt",";",6613,";",";",{"$f":"'Eingabedatei Kassenstatistik'!E94","v":0},"t","--",0,{"$f":"I87&csv!J87&B87&C87&D87&E87&F87&G87&K87","v":"t--;-- bitt;6613;;0"}]
["tte auswählen --",";","-- bitt",";",6614,";",";",{"$f":"'Eingabedatei Kassenstatistik'!E95","v":0},"t","--",0,{"$f":"I88&csv!J88&B88&C88&D88&E88&F88&G88&K88","v":"t--;-- bitt;6614;;0"}]
["tte auswählen --",";","-- bitt",";",6615,";",";",{"$f":"'Eingabedatei Kassenstatistik'!E96","v":0},"t","--",0,{"$f":"I89&csv!J89&B89&C89&D89&E89&F89&G89&K89","v":"t--;-- bitt;6615;;0"}]
["tte auswählen --",";","-- bitt",";",6616,";",";",{"$f":"'Eingabedatei Kassenstatistik'!E97","v":0},"t","--",0,{"$f":"I90&csv!J90&B90&C90&D90&E90&F90&G90&K90","v":"t--;-- bitt;6616;;0"}]
["tte auswählen --",";","-- bitt",";",6617,";",";",{"$f":"'Eingabedatei Kassenstatistik'!E98","v":0},"t","--",0,{"$f":"I91&csv!J91&B91&C91&D91&E91&F91&G91&K91","v":"t--;-- bitt;6617;;0"}]
["tte auswählen --",";","-- bitt",";",6618,";",";",{"$f":"'Eingabedatei Kassenstatistik'!E99","v":0},"t","--",0,{"$f":"I92&csv!J92&B92&C92&D92&E92&F92&G92&K92","v":"t--;-- bitt;6618;;0"}]
["tte auswählen --",";","-- bitt",";",6619,";",";",{"$f":"'Eingabedatei Kassenstatistik'!E100","v":0},"t","--",0,{"$f":"I93&csv!J93&B93&C93&D93&E93&F93&G93&K93","v":"t--;-- bitt;6619;;0"}]
["tte auswählen --",";","-- bitt",";",6651,";",";",{"$f":"'Eingabedatei Kassenstatistik'!E101","v":0},"t","--",0,{"$f":"I94&csv!J94&B94&C94&D94&E94&F94&G94&K94","v":"t--;-- bitt;6651;;0"}]
["tte auswählen --",";","-- bitt",";",6691,";",";",{"$f":"'Eingabedatei Kassenstatistik'!E102","v":0},"t","--",0,{"$f":"I95&csv!J95&B95&C95&D95&E95&F95&G95&K95","v":"t--;-- bitt;6691;;0"}]
["tte auswählen --",";","-- bitt",";",6810,";",";",{"$f":"'Eingabedatei Kassenstatistik'!E103","v":0},"t","--",0,{"$f":"I96&csv!J96&B96&C96&D96&E96&F96&G96&K96","v":"t--;-- bitt;6810;;0"}]
["tte auswählen --",";","-- bitt",";",6811,";",";",{"$f":"'Eingabedatei Kassenstatistik'!E104","v":0},"t","--",0,{"$f":"I97&csv!J97&B97&C97&D97&E97&F97&G97&K97","v":"t--;-- bitt;6811;;0"}]
["tte auswählen --",";","-- bitt",";",6812,";",";",{"$f":"'Eingabedatei Kassenstatistik'!E105","v":0},"t","--",0,{"$f":"I98&csv!J98&B98&C98&D98&E98&F98&G98&K98","v":"t--;-- bitt;6812;;0"}]
["tte auswählen --",";","-- bitt",";",6813,";",";",{"$f":"'Eingabedatei Kassenstatistik'!E106","v":0},"t","--",0,{"$f":"I99&csv!J99&B99&C99&D99&E99&F99&G99&K99","v":"t--;-- bitt;6813;;0"}]
["tte auswählen --",";","-- bitt",";",6814,";",";",{"$f":"'Eingabedatei Kassenstatistik'!E107","v":0},"t","--",0,{"$f":"I100&csv!J100&B100&C100&D100&E100&F100&G100&K100","v":"t--;-- bitt;6814;;0"}]
["tte auswählen --",";","-- bitt",";",6815,";",";",{"$f":"'Eingabedatei Kassenstatistik'!E108","v":0},"t","--",0,{"$f":"I101&csv!J101&B101&C101&D101&E101&F101&G101&K101","v":"t--;-- bitt;6815;;0"}]
["tte auswählen --",";","-- bitt",";",6816,";",";",{"$f":"'Eingabedatei Kassenstatistik'!E109","v":0},"t","--",0,{"$f":"I102&csv!J102&B102&C102&D102&E102&F102&G102&K102","v":"t--;-- bitt;6816;;0"}]
["tte auswählen --",";","-- bitt",";",6817,";",";",{"$f":"'Eingabedatei Kassenstatistik'!E110","v":0},"t","--",0,{"$f":"I103&csv!J103&B103&C103&D103&E103&F103&G103&K103","v":"t--;-- bitt;6817;;0"}]
["tte auswählen --",";","-- bitt",";",6818,";",";",{"$f":"'Eingabedatei Kassenstatistik'!E111","v":0},"t","--",0,{"$f":"I104&csv!J104&B104&C104&D104&E104&F104&G104&K104","v":"t--;-- bitt;6818;;0"}]
["tte auswählen --",";","-- bitt",";",6821,";",";",{"$f":"'Eingabedatei Kassenstatistik'!E112","v":0},"t","--",0,{"$f":"I105&csv!J105&B105&C105&D105&E105&F105&G105&K105","v":"t--;-- bitt;6821;;0"}]
["tte auswählen --",";","-- bitt",";",6831,";",";",{"$f":"'Eingabedatei Kassenstatistik'!E113","v":0},"t","--",0,{"$f":"I106&csv!J106&B106&C106&D106&E106&F106&G106&K106","v":"t--;-- bitt;6831;;0"}]
["tte auswählen --",";","-- bitt",";",6832,";",";",{"$f":"'Eingabedatei Kassenstatistik'!E114","v":0},"t","--",0,{"$f":"I107&csv!J107&B107&C107&D107&E107&F107&G107&K107","v":"t--;-- bitt;6832;;0"}]
["tte auswählen --",";","-- bitt",";",6841,";",";",{"$f":"'Eingabedatei Kassenstatistik'!E115","v":0},"t","--",0,{"$f":"I108&csv!J108&B108&C108&D108&E108&F108&G108&K108","v":"t--;-- bitt;6841;;0"}]
["tte auswählen --",";","-- bitt",";",6842,";",";",{"$f":"'Eingabedatei Kassenstatistik'!E116","v":0},"t","--",0,{"$f":"I109&csv!J109&B109&C109&D109&E109&F109&G109&K109","v":"t--;-- bitt;6842;;0"}]
["tte auswählen --",";","-- bitt",";",6843,";",";",{"$f":"'Eingabedatei Kassenstatistik'!E117","v":0},"t","--",0,{"$f":"I110&csv!J110&B110&C110&D110&E110&F110&G110&K110","v":"t--;-- bitt;6843;;0"}]
["tte auswählen --",";","-- bitt",";",6844,";",";",{"$f":"'Eingabedatei Kassenstatistik'!E118","v":0},"t","--",0,{"$f":"I111&csv!J111&B111&C111&D111&E111&F111&G111&K111","v":"t--;-- bitt;6844;;0"}]
["tte auswählen --",";","-- bitt",";",6845,";",";",{"$f":"'Eingabedatei Kassenstatistik'!E119","v":0},"t","--",0,{"$f":"I112&csv!J112&B112&C112&D112&E112&F112&G112&K112","v":"t--;-- bitt;6845;;0"}]
["tte auswählen --",";","-- bitt",";",6846,";",";",{"$f":"'Eingabedatei Kassenstatistik'!E120","v":0},"t","--",0,{"$f":"I113&csv!J113&B113&C113&D113&E113&F113&G113&K113","v":"t--;-- bitt;6846;;0"}]
["tte auswählen --",";","-- bitt",";",6847,";",";",{"$f":"'Eingabedatei Kassenstatistik'!E121","v":0},"t","--",0,{"$f":"I114&csv!J114&B114&C114&D114&E114&F114&G114&K114","v":"t--;-- bitt;6847;;0"}]
["tte auswählen --",";","-- bitt",";",6848,";",";",{"$f":"'Eingabedatei Kassenstatistik'!E122","v":0},"t","--",0,{"$f":"I115&csv!J115&B115&C115&D115&E115&F115&G115&K115","v":"t--;-- bitt;6848;;0"}]
["tte auswählen --",";","-- bitt",";",6851,";",";",{"$f":"'Eingabedatei Kassenstatistik'!E123","v":0},"t","--",0,{"$f":"I116&csv!J116&B116&C116&D116&E116&F116&G116&K116","v":"t--;-- bitt;6851;;0"}]
["tte auswählen --",";","-- bitt",";",6860,";",";",{"$f":"'Eingabedatei Kassenstatistik'!E124","v":0},"t","--",0,{"$f":"I117&csv!J117&B117&C117&D117&E117&F117&G117&K117","v":"t--;-- bitt;6860;;0"}]
["tte auswählen --",";","-- bitt",";",6861,";",";",{"$f":"'Eingabedatei Kassenstatistik'!E125","v":0},"t","--",0,{"$f":"I118&csv!J118&B118&C118&D118&E118&F118&G118&K118","v":"t--;-- bitt;6861;;0"}]
["tte auswählen --",";","-- bitt",";",6862,";",";",{"$f":"'Eingabedatei Kassenstatistik'!E126","v":0},"t","--",0,{"$f":"I119&csv!J119&B119&C119&D119&E119&F119&G119&K119","v":"t--;-- bitt;6862;;0"}]
["tte auswählen --",";","-- bitt",";",6863,";",";",{"$f":"'Eingabedatei Kassenstatistik'!E127","v":0},"t","--",0,{"$f":"I120&csv!J120&B120&C120&D120&E120&F120&G120&K120","v":"t--;-- bitt;6863;;0"}]
["tte auswählen --",";","-- bitt",";",6864,";",";",{"$f":"'Eingabedatei Kassenstatistik'!E128","v":0},"t","--",0,{"$f":"I121&csv!J121&B121&C121&D121&E121&F121&G121&K121","v":"t--;-- bitt;6864;;0"}]
["tte auswählen --",";","-- bitt",";",6865,";",";",{"$f":"'Eingabedatei Kassenstatistik'!E129","v":0},"t","--",0,{"$f":"I122&csv!J122&B122&C122&D122&E122&F122&G122&K122","v":"t--;-- bitt;6865;;0"}]
["tte auswählen --",";","-- bitt",";",6866,";",";",{"$f":"'Eingabedatei Kassenstatistik'!E130","v":0},"t","--",0,{"$f":"I123&csv!J123&B123&C123&D123&E123&F123&G123&K123","v":"t--;-- bitt;6866;;0"}]
["tte auswählen --",";","-- bitt",";",6867,";",";",{"$f":"'Eingabedatei Kassenstatistik'!E131","v":0},"t","--",0,{"$f":"I124&csv!J124&B124&C124&D124&E124&F124&G124&K124","v":"t--;-- bitt;6867;;0"}]
["tte auswählen --",";","-- bitt",";",6868,";",";",{"$f":"'Eingabedatei Kassenstatistik'!E132","v":0},"t","--",0,{"$f":"I125&csv!J125&B125&C125&D125&E125&F125&G125&K125","v":"t--;-- bitt;6868;;0"}]
["tte auswählen --",";","-- bitt",";",6869,";",";",{"$f":"'Eingabedatei Kassenstatistik'!E133","v":0},"t","--",0,{"$f":"I126&csv!J126&B126&C126&D126&E126&F126&G126&K126","v":"t--;-- bitt;6869;;0"}]
["tte auswählen --",";","-- bitt",";",6881,";",";",{"$f":"'Eingabedatei Kassenstatistik'!E134","v":0},"t","--",0,{"$f":"I127&csv!J127&B127&C127&D127&E127&F127&G127&K127","v":"t--;-- bitt;6881;;0"}]
["tte auswählen --",";","-- bitt",";",6891,";",";",{"$f":"'Eingabedatei Kassenstatistik'!E135","v":0},"t","--",0,{"$f":"I128&csv!J128&B128&C128&D128&E128&F128&G128&K128","v":"t--;-- bitt;6891;;0"}]
["tte auswählen --",";","-- bitt",";",6911,";",";",{"$f":"'Eingabedatei Kassenstatistik'!E136","v":0},"t","--",0,{"$f":"I129&csv!J129&B129&C129&D129&E129&F129&G129&K129","v":"t--;-- bitt;6911;;0"}]
[{"$f":"A129","v":"tte auswählen --"},";",{"$f":"C129","v":"-- bitt"},";",6912,";",";",{"$f":"'Eingabedatei Kassenstatistik'!E137","v":0},"t","--",{"$f":"ROUND(H130,0)","v":0},{"$f":"I130&csv!J130&B130&C130&D130&E130&F130&G130&K130","v":"t--;-- bitt;6912;;0"}]
["tte auswählen --",";","-- bitt",";",6920,";",";",{"$f":"'Eingabedatei Kassenstatistik'!E138","v":0},{"$f":"I130","v":"t"},"--",0,{"$f":"I131&csv!J131&B131&C131&D131&E131&F131&G131&K131","v":"t--;-- bitt;6920;;0"}]
["tte auswählen --",";","-- bitt",";",6921,";",";",{"$f":"'Eingabedatei Kassenstatistik'!E139","v":0},"t","--",0,{"$f":"I132&csv!J132&B132&C132&D132&E132&F132&G132&K132","v":"t--;-- bitt;6921;;0"}]
["tte auswählen --",";","-- bitt",";",6922,";",";",{"$f":"'Eingabedatei Kassenstatistik'!E140","v":0},"t","--",0,{"$f":"I133&csv!J133&B133&C133&D133&E133&F133&G133&K133","v":"t--;-- bitt;6922;;0"}]
["tte auswählen --",";","-- bitt",";",6923,";",";",{"$f":"'Eingabedatei Kassenstatistik'!E141","v":0},"t","--",0,{"$f":"I134&csv!J134&B134&C134&D134&E134&F134&G134&K134","v":"t--;-- bitt;6923;;0"}]
["tte auswählen --",";","-- bitt",";",6924,";",";",{"$f":"'Eingabedatei Kassenstatistik'!E142","v":0},"t","--",0,{"$f":"I135&csv!J135&B135&C135&D135&E135&F135&G135&K135","v":"t--;-- bitt;6924;;0"}]
["tte auswählen --",";","-- bitt",";",6925,";",";",{"$f":"'Eingabedatei Kassenstatistik'!E143","v":0},"t","--",0,{"$f":"I136&csv!J136&B136&C136&D136&E136&F136&G136&K136","v":"t--;-- bitt;6925;;0"}]
["tte auswählen --",";","-- bitt",";",6926,";",";",{"$f":"'Eingabedatei Kassenstatistik'!E144","v":0},"t","--",0,{"$f":"I137&csv!J137&B137&C137&D137&E137&F137&G137&K137","v":"t--;-- bitt;6926;;0"}]
["tte auswählen --",";","-- bitt",";",6927,";",";",{"$f":"'Eingabedatei Kassenstatistik'!E145","v":0},"t","--",0,{"$f":"I138&csv!J138&B138&C138&D138&E138&F138&G138&K138","v":"t--;-- bitt;6927;;0"}]
["tte auswählen --",";","-- bitt",";",6928,";",";",{"$f":"'Eingabedatei Kassenstatistik'!E146","v":0},"t","--",0,{"$f":"I139&csv!J139&B139&C139&D139&E139&F139&G139&K139","v":"t--;-- bitt;6928;;0"}]
["tte auswählen --",";","-- bitt",";",6929,";",";",{"$f":"'Eingabedatei Kassenstatistik'!E147","v":0},"t","--",{"$f":"ROUND(H140,0)","v":0},{"$f":"I140&csv!J140&B140&C140&D140&E140&F140&G140&K140","v":"t--;-- bitt;6929;;0"}]
["tte auswählen --",";","-- bitt",";",6930,";",";",{"$f":"'Eingabedatei Kassenstatistik'!E148","v":0},"t","--",0,{"$f":"I141&csv!J141&B141&C141&D141&E141&F141&G141&K141","v":"t--;-- bitt;6930;;0"}]
["tte auswählen --",";","-- bitt",";",6931,";",";",{"$f":"'Eingabedatei Kassenstatistik'!E149","v":0},"t","--",0,{"$f":"I142&csv!J142&B142&C142&D142&E142&F142&G142&K142","v":"t--;-- bitt;6931;;0"}]
["tte auswählen --",";","-- bitt",";",6932,";",";",{"$f":"'Eingabedatei Kassenstatistik'!E150","v":0},"t","--",0,{"$f":"I143&csv!J143&B143&C143&D143&E143&F143&G143&K143","v":"t--;-- bitt;6932;;0"}]
["tte auswählen --",";","-- bitt",";",6933,";",";",{"$f":"'Eingabedatei Kassenstatistik'!E151","v":0},"t","--",0,{"$f":"I144&csv!J144&B144&C144&D144&E144&F144&G144&K144","v":"t--;-- bitt;6933;;0"}]
["tte auswählen --",";","-- bitt",";",6934,";",";",{"$f":"'Eingabedatei Kassenstatistik'!E152","v":0},"t","--",0,{"$f":"I145&csv!J145&B145&C145&D145&E145&F145&G145&K145","v":"t--;-- bitt;6934;;0"}]
["tte auswählen --",";","-- bitt",";",6935,";",";",{"$f":"'Eingabedatei Kassenstatistik'!E153","v":0},"t","--",0,{"$f":"I146&csv!J146&B146&C146&D146&E146&F146&G146&K146","v":"t--;-- bitt;6935;;0"}]
["tte auswählen --",";","-- bitt",";",6936,";",";",{"$f":"'Eingabedatei Kassenstatistik'!E154","v":0},"t","--",0,{"$f":"I147&csv!J147&B147&C147&D147&E147&F147&G147&K147","v":"t--;-- bitt;6936;;0"}]
["tte auswählen --",";","-- bitt",";",6937,";",";",{"$f":"'Eingabedatei Kassenstatistik'!E155","v":0},"t","--",0,{"$f":"I148&csv!J148&B148&C148&D148&E148&F148&G148&K148","v":"t--;-- bitt;6937;;0"}]
["tte auswählen --",";","-- bitt",";",6938,";",";",{"$f":"'Eingabedatei Kassenstatistik'!E156","v":0},"t","--",0,{"$f":"I149&csv!J149&B149&C149&D149&E149&F149&G149&K149","v":"t--;-- bitt;6938;;0"}]
["tte auswählen --",";","-- bitt",";",6939,";",";",{"$f":"'Eingabedatei Kassenstatistik'!E157","v":0},"t","--",0,{"$f":"I150&csv!J150&B150&C150&D150&E150&F150&G150&K150","v":"t--;-- bitt;6939;;0"}]
["tte auswählen --",";","-- bitt",";",6949,";",";",{"$f":"'Eingabedatei Kassenstatistik'!E158","v":0},"t","--",0,{"$f":"I151&csv!J151&B151&C151&D151&E151&F151&G151&K151","v":"t--;-- bitt;6949;;0"}]
["tte auswählen --",";","-- bitt",";",6950,";",";",{"$f":"'Eingabedatei Kassenstatistik'!E159","v":0},"t","--",0,{"$f":"I152&csv!J152&B152&C152&D152&E152&F152&G152&K152","v":"t--;-- bitt;6950;;0"}]
["tte auswählen --",";","-- bitt",";",6951,";",";",{"$f":"'Eingabedatei Kassenstatistik'!E160","v":0},"t","--",0,{"$f":"I153&csv!J153&B153&C153&D153&E153&F153&G153&K153","v":"t--;-- bitt;6951;;0"}]
["tte auswählen --",";","-- bitt",";",6952,";",";",{"$f":"'Eingabedatei Kassenstatistik'!E161","v":0},"t","--",0,{"$f":"I154&csv!J154&B154&C154&D154&E154&F154&G154&K154","v":"t--;-- bitt;6952;;0"}]
["tte auswählen --",";","-- bitt",";",6953,";",";",{"$f":"'Eingabedatei Kassenstatistik'!E162","v":0},"t","--",0,{"$f":"I155&csv!J155&B155&C155&D155&E155&F155&G155&K155","v":"t--;-- bitt;6953;;0"}]
["tte auswählen --",";","-- bitt",";",6954,";",";",{"$f":"'Eingabedatei Kassenstatistik'!E163","v":0},"t","--",0,{"$f":"I156&csv!J156&B156&C156&D156&E156&F156&G156&K156","v":"t--;-- bitt;6954;;0"}]
["tte auswählen --",";","-- bitt",";",6955,";",";",{"$f":"'Eingabedatei Kassenstatistik'!E164","v":0},"t","--",0,{"$f":"I157&csv!J157&B157&C157&D157&E157&F157&G157&K157","v":"t--;-- bitt;6955;;0"}]
["tte auswählen --",";","-- bitt",";",6956,";",";",{"$f":"'Eingabedatei Kassenstatistik'!E165","v":0},"t","--",0,{"$f":"I158&csv!J158&B158&C158&D158&E158&F158&G158&K158","v":"t--;-- bitt;6956;;0"}]
["tte auswählen --",";","-- bitt",";",6957,";",";",{"$f":"'Eingabedatei Kassenstatistik'!E166","v":0},"t","--",0,{"$f":"I159&csv!J159&B159&C159&D159&E159&F159&G159&K159","v":"t--;-- bitt;6957;;0"}]
["tte auswählen --",";","-- bitt",";",6958,";",";",{"$f":"'Eingabedatei Kassenstatistik'!E167","v":0},"t","--",0,{"$f":"I160&csv!J160&B160&C160&D160&E160&F160&G160&K160","v":"t--;-- bitt;6958;;0"}]
["tte auswählen --",";","-- bitt",";",6959,";",";",{"$f":"'Eingabedatei Kassenstatistik'!E168","v":0},"t","--",0,{"$f":"I161&csv!J161&B161&C161&D161&E161&F161&G161&K161","v":"t--;-- bitt;6959;;0"}]
["tte auswählen --",";","-- bitt",";",6998,";",";",{"$f":"'Eingabedatei Kassenstatistik'!E169","v":0},"t","--",{"$f":"ROUND(H162,0)","v":0},{"$f":"I162&csv!J162&B162&C162&D162&E162&F162&G162&K162","v":"t--;-- bitt;6998;;0"}]
["tte auswählen --",";","-- bitt",";",7011,";",";",{"$f":"'Eingabedatei Kassenstatistik'!E170","v":0},"t","--",0,{"$f":"I163&csv!J163&B163&C163&D163&E163&F163&G163&K163","v":"t--;-- bitt;7011;;0"}]
["tte auswählen --",";","-- bitt",";",7012,";",";",{"$f":"'Eingabedatei Kassenstatistik'!E171","v":0},"t","--",0,{"$f":"I164&csv!J164&B164&C164&D164&E164&F164&G164&K164","v":"t--;-- bitt;7012;;0"}]
["tte auswählen --",";","-- bitt",";",7019,";",";",{"$f":"'Eingabedatei Kassenstatistik'!E172","v":0},"t","--",0,{"$f":"I165&csv!J165&B165&C165&D165&E165&F165&G165&K165","v":"t--;-- bitt;7019;;0"}]
["tte auswählen --",";","-- bitt",";",7022,";",";",{"$f":"'Eingabedatei Kassenstatistik'!E173","v":0},"t","--",0,{"$f":"I166&csv!J166&B166&C166&D166&E166&F166&G166&K166","v":"t--;-- bitt;7022;;0"}]
["tte auswählen --",";","-- bitt",";",7029,";",";",{"$f":"'Eingabedatei Kassenstatistik'!E174","v":0},"t","--",0,{"$f":"I167&csv!J167&B167&C167&D167&E167&F167&G167&K167","v":"t--;-- bitt;7029;;0"}]
["tte auswählen --",";","-- bitt",";",7031,";",";",{"$f":"'Eingabedatei Kassenstatistik'!E175","v":0},"t","--",0,{"$f":"I168&csv!J168&B168&C168&D168&E168&F168&G168&K168","v":"t--;-- bitt;7031;;0"}]
["tte auswählen --",";","-- bitt",";",7032,";",";",{"$f":"'Eingabedatei Kassenstatistik'!E176","v":0},"t","--",0,{"$f":"I169&csv!J169&B169&C169&D169&E169&F169&G169&K169","v":"t--;-- bitt;7032;;0"}]
["tte auswählen --",";","-- bitt",";",7039,";",";",{"$f":"'Eingabedatei Kassenstatistik'!E177","v":0},"t","--",0,{"$f":"I170&csv!J170&B170&C170&D170&E170&F170&G170&K170","v":"t--;-- bitt;7039;;0"}]
["tte auswählen --",";","-- bitt",";",7041,";",";",{"$f":"'Eingabedatei Kassenstatistik'!E178","v":0},"t","--",0,{"$f":"I171&csv!J171&B171&C171&D171&E171&F171&G171&K171","v":"t--;-- bitt;7041;;0"}]
["tte auswählen --",";","-- bitt",";",7111,";",";",{"$f":"'Eingabedatei Kassenstatistik'!E179","v":0},"t","--",0,{"$f":"I172&csv!J172&B172&C172&D172&E172&F172&G172&K172","v":"t--;-- bitt;7111;;0"}]
["tte auswählen --",";","-- bitt",";",7112,";",";",{"$f":"'Eingabedatei Kassenstatistik'!E180","v":0},"t","--",0,{"$f":"I173&csv!J173&B173&C173&D173&E173&F173&G173&K173","v":"t--;-- bitt;7112;;0"}]
["tte auswählen --",";","-- bitt",";",7119,";",";",{"$f":"'Eingabedatei Kassenstatistik'!E181","v":0},"t","--",0,{"$f":"I174&csv!J174&B174&C174&D174&E174&F174&G174&K174","v":"t--;-- bitt;7119;;0"}]
["tte auswählen --",";","-- bitt",";",7121,";",";",{"$f":"'Eingabedatei Kassenstatistik'!E182","v":0},"t","--",0,{"$f":"I175&csv!J175&B175&C175&D175&E175&F175&G175&K175","v":"t--;-- bitt;7121;;0"}]
["tte auswählen --",";","-- bitt",";",7131,";",";",{"$f":"'Eingabedatei Kassenstatistik'!E183","v":0},"t","--",0,{"$f":"I176&csv!J176&B176&C176&D176&E176&F176&G176&K176","v":"t--;-- bitt;7131;;0"}]
["tte auswählen --",";","-- bitt",";",7132,";",";",{"$f":"'Eingabedatei Kassenstatistik'!E184","v":0},"t","--",0,{"$f":"I177&csv!J177&B177&C177&D177&E177&F177&G177&K177","v":"t--;-- bitt;7132;;0"}]
["tte auswählen --",";","-- bitt",";",7139,";",";",{"$f":"'Eingabedatei Kassenstatistik'!E185","v":0},"t","--",0,{"$f":"I178&csv!J178&B178&C178&D178&E178&F178&G178&K178","v":"t--;-- bitt;7139;;0"}]
["tte auswählen --",";","-- bitt",";",7141,";",";",{"$f":"'Eingabedatei Kassenstatistik'!E186","v":0},"t","--",0,{"$f":"I179&csv!J179&B179&C179&D179&E179&F179&G179&K179","v":"t--;-- bitt;7141;;0"}]
["tte auswählen --",";","-- bitt",";",7215,";",";",{"$f":"'Eingabedatei Kassenstatistik'!E187","v":0},"t","--",0,{"$f":"I180&csv!J180&B180&C180&D180&E180&F180&G180&K180","v":"t--;-- bitt;7215;;0"}]
["tte auswählen --",";","-- bitt",";",7216,";",";",{"$f":"'Eingabedatei Kassenstatistik'!E188","v":0},"t","--",0,{"$f":"I181&csv!J181&B181&C181&D181&E181&F181&G181&K181","v":"t--;-- bitt;7216;;0"}]
["tte auswählen --",";","-- bitt",";",7230,";",";",{"$f":"'Eingabedatei Kassenstatistik'!E189","v":0},"t","--",0,{"$f":"I182&csv!J182&B182&C182&D182&E182&F182&G182&K182","v":"t--;-- bitt;7230;;0"}]
["tte auswählen --",";","-- bitt",";",7231,";",";",{"$f":"'Eingabedatei Kassenstatistik'!E190","v":0},"t","--",0,{"$f":"I183&csv!J183&B183&C183&D183&E183&F183&G183&K183","v":"t--;-- bitt;7231;;0"}]
["tte auswählen --",";","-- bitt",";",7232,";",";",{"$f":"'Eingabedatei Kassenstatistik'!E191","v":0},"t","--",0,{"$f":"I184&csv!J184&B184&C184&D184&E184&F184&G184&K184","v":"t--;-- bitt;7232;;0"}]
["tte auswählen --",";","-- bitt",";",7233,";",";",{"$f":"'Eingabedatei Kassenstatistik'!E192","v":0},"t","--",0,{"$f":"I185&csv!J185&B185&C185&D185&E185&F185&G185&K185","v":"t--;-- bitt;7233;;0"}]
["tte auswählen --",";","-- bitt",";",7234,";",";",{"$f":"'Eingabedatei Kassenstatistik'!E193","v":0},"t","--",0,{"$f":"I186&csv!J186&B186&C186&D186&E186&F186&G186&K186","v":"t--;-- bitt;7234;;0"}]
["tte auswählen --",";","-- bitt",";",7235,";",";",{"$f":"'Eingabedatei Kassenstatistik'!E194","v":0},"t","--",0,{"$f":"I187&csv!J187&B187&C187&D187&E187&F187&G187&K187","v":"t--;-- bitt;7235;;0"}]
["tte auswählen --",";","-- bitt",";",7236,";",";",{"$f":"'Eingabedatei Kassenstatistik'!E195","v":0},"t","--",0,{"$f":"I188&csv!J188&B188&C188&D188&E188&F188&G188&K188","v":"t--;-- bitt;7236;;0"}]
["tte auswählen --",";","-- bitt",";",7237,";",";",{"$f":"'Eingabedatei Kassenstatistik'!E196","v":0},"t","--",0,{"$f":"I189&csv!J189&B189&C189&D189&E189&F189&G189&K189","v":"t--;-- bitt;7237;;0"}]
["tte auswählen --",";","-- bitt",";",7238,";",";",{"$f":"'Eingabedatei Kassenstatistik'!E197","v":0},"t","--",0,{"$f":"I190&csv!J190&B190&C190&D190&E190&F190&G190&K190","v":"t--;-- bitt;7238;;0"}]
["tte auswählen --",";","-- bitt",";",7241,";",";",{"$f":"'Eingabedatei Kassenstatistik'!E198","v":0},"t","--",0,{"$f":"I191&csv!J191&B191&C191&D191&E191&F191&G191&K191","v":"t--;-- bitt;7241;;0"}]
["tte auswählen --",";","-- bitt",";",7242,";",";",{"$f":"'Eingabedatei Kassenstatistik'!E199","v":0},"t","--",0,{"$f":"I192&csv!J192&B192&C192&D192&E192&F192&G192&K192","v":"t--;-- bitt;7242;;0"}]
["tte auswählen --",";","-- bitt",";",7251,";",";",{"$f":"'Eingabedatei Kassenstatistik'!E200","v":0},"t","--",0,{"$f":"I193&csv!J193&B193&C193&D193&E193&F193&G193&K193","v":"t--;-- bitt;7251;;0"}]
[{"$f":"A193","v":"tte auswählen --"},";",{"$f":"C193","v":"-- bitt"},";",7255,";",";",{"$f":"'Eingabedatei Kassenstatistik'!E201","v":0},"t","--",0,{"$f":"I194&csv!J194&B194&C194&D194&E194&F194&G194&K194","v":"t--;-- bitt;7255;;0"}]
["tte auswählen --",";","-- bitt",";",7271,";",";",{"$f":"'Eingabedatei Kassenstatistik'!E202","v":0},{"$f":"I194","v":"t"},"--",0,{"$f":"I195&csv!J195&B195&C195&D195&E195&F195&G195&K195","v":"t--;-- bitt;7271;;0"}]
["tte auswählen --",";","-- bitt",";",7281,";",";",{"$f":"'Eingabedatei Kassenstatistik'!E203","v":0},"t","--",0,{"$f":"I196&csv!J196&B196&C196&D196&E196&F196&G196&K196","v":"t--;-- bitt;7281;;0"}]
["tte auswählen --",";","-- bitt",";",7291,";",";",{"$f":"'Eingabedatei Kassenstatistik'!E204","v":0},"t","--",0,{"$f":"I197&csv!J197&B197&C197&D197&E197&F197&G197&K197","v":"t--;-- bitt;7291;;0"}]
["tte auswählen --",";","-- bitt",";",7310,";",";",{"$f":"'Eingabedatei Kassenstatistik'!E205","v":0},"t","--",0,{"$f":"I198&csv!J198&B198&C198&D198&E198&F198&G198&K198","v":"t--;-- bitt;7310;;0"}]
["tte auswählen --",";","-- bitt",";",7311,";",";",{"$f":"'Eingabedatei Kassenstatistik'!E206","v":0},"t","--",0,{"$f":"I199&csv!J199&B199&C199&D199&E199&F199&G199&K199","v":"t--;-- bitt;7311;;0"}]
["tte auswählen --",";","-- bitt",";",7312,";",";",{"$f":"'Eingabedatei Kassenstatistik'!E207","v":0},"t","--",0,{"$f":"I200&csv!J200&B200&C200&D200&E200&F200&G200&K200","v":"t--;-- bitt;7312;;0"}]
["tte auswählen --",";","-- bitt",";",7313,";",";",{"$f":"'Eingabedatei Kassenstatistik'!E208","v":0},"t","--",0,{"$f":"I201&csv!J201&B201&C201&D201&E201&F201&G201&K201","v":"t--;-- bitt;7313;;0"}]
["tte auswählen --",";","-- bitt",";",7314,";",";",{"$f":"'Eingabedatei Kassenstatistik'!E209","v":0},"t","--",0,{"$f":"I202&csv!J202&B202&C202&D202&E202&F202&G202&K202","v":"t--;-- bitt;7314;;0"}]
["tte auswählen --",";","-- bitt",";",7315,";",";",{"$f":"'Eingabedatei Kassenstatistik'!E210","v":0},"t","--",0,{"$f":"I203&csv!J203&B203&C203&D203&E203&F203&G203&K203","v":"t--;-- bitt;7315;;0"}]
["tte auswählen --",";","-- bitt",";",7316,";",";",{"$f":"'Eingabedatei Kassenstatistik'!E211","v":0},"t","--",0,{"$f":"I204&csv!J204&B204&C204&D204&E204&F204&G204&K204","v":"t--;-- bitt;7316;;0"}]
["tte auswählen --",";","-- bitt",";",7317,";",";",{"$f":"'Eingabedatei Kassenstatistik'!E212","v":0},"t","--",{"$f":"ROUND(H205,0)","v":0},{"$f":"I205&csv!J205&B205&C205&D205&E205&F205&G205&K205","v":"t--;-- bitt;7317;;0"}]
["tte auswählen --",";","-- bitt",";",7318,";",";",{"$f":"'Eingabedatei Kassenstatistik'!E213","v":0},"t","--",0,{"$f":"I206&csv!J206&B206&C206&D206&E206&F206&G206&K206","v":"t--;-- bitt;7318;;0"}]
["tte auswählen --",";","-- bitt",";",7320,";",";",{"$f":"'Eingabedatei Kassenstatistik'!E214","v":0},"t","--",0,{"$f":"I207&csv!J207&B207&C207&D207&E207&F207&G207&K207","v":"t--;-- bitt;7320;;0"}]
["tte auswählen --",";","-- bitt",";",7321,";",";",{"$f":"'Eingabedatei Kassenstatistik'!E215","v":0},"t","--",0,{"$f":"I208&csv!J208&B208&C208&D208&E208&F208&G208&K208","v":"t--;-- bitt;7321;;0"}]
["tte auswählen --",";","-- bitt",";",7322,";",";",{"$f":"'Eingabedatei Kassenstatistik'!E216","v":0},"t","--",0,{"$f":"I209&csv!J209&B209&C209&D209&E209&F209&G209&K209","v":"t--;-- bitt;7322;;0"}]
["tte auswählen --",";","-- bitt",";",7323,";",";",{"$f":"'Eingabedatei Kassenstatistik'!E217","v":0},"t","--",0,{"$f":"I210&csv!J210&B210&C210&D210&E210&F210&G210&K210","v":"t--;-- bitt;7323;;0"}]
["tte auswählen --",";","-- bitt",";",7324,";",";",{"$f":"'Eingabedatei Kassenstatistik'!E218","v":0},"t","--",0,{"$f":"I211&csv!J211&B211&C211&D211&E211&F211&G211&K211","v":"t--;-- bitt;7324;;0"}]
["tte auswählen --",";","-- bitt",";",7325,";",";",{"$f":"'Eingabedatei Kassenstatistik'!E219","v":0},"t","--",0,{"$f":"I212&csv!J212&B212&C212&D212&E212&F212&G212&K212","v":"t--;-- bitt;7325;;0"}]
["tte auswählen --",";","-- bitt",";",7326,";",";",{"$f":"'Eingabedatei Kassenstatistik'!E220","v":0},"t","--",0,{"$f":"I213&csv!J213&B213&C213&D213&E213&F213&G213&K213","v":"t--;-- bitt;7326;;0"}]
["tte auswählen --",";","-- bitt",";",7327,";",";",{"$f":"'Eingabedatei Kassenstatistik'!E221","v":0},"t","--",0,{"$f":"I214&csv!J214&B214&C214&D214&E214&F214&G214&K214","v":"t--;-- bitt;7327;;0"}]
["tte auswählen --",";","-- bitt",";",7328,";",";",{"$f":"'Eingabedatei Kassenstatistik'!E222","v":0},"t","--",0,{"$f":"I215&csv!J215&B215&C215&D215&E215&F215&G215&K215","v":"t--;-- bitt;7328;;0"}]
["tte auswählen --",";","-- bitt",";","L01",";",";",{"$f":"'Eingabedatei Kassenstatistik'!E223","v":0},"t","--",0,{"$f":"I216&csv!J216&B216&C216&D216&E216&F216&G216&K216","v":"t--;-- bitt;L01;;0"}]
["tte auswählen --",";","-- bitt",";","L02",";",";",{"$f":"'Eingabedatei Kassenstatistik'!E224","v":0},"t","--",0,{"$f":"I217&csv!J217&B217&C217&D217&E217&F217&G217&K217","v":"t--;-- bitt;L02;;0"}]
["tte auswählen --",";","-- bitt",";","L03",";",";",{"$f":"'Eingabedatei Kassenstatistik'!E225","v":0},"t","--",0,{"$f":"I218&csv!J218&B218&C218&D218&E218&F218&G218&K218","v":"t--;-- bitt;L03;;0"}]
["tte auswählen --",";","-- bitt",";","L04",";",";",{"$f":"'Eingabedatei Kassenstatistik'!E226","v":0},"t","--",0,{"$f":"I219&csv!J219&B219&C219&D219&E219&F219&G219&K219","v":"t--;-- bitt;L04;;0"}]
["tte auswählen --",";","-- bitt",";",7333,";",";",{"$f":"'Eingabedatei Kassenstatistik'!E227","v":0},"t","--",0,{"$f":"I220&csv!J220&B220&C220&D220&E220&F220&G220&K220","v":"t--;-- bitt;7333;;0"}]
["tte auswählen --",";","-- bitt",";",7334,";",";",{"$f":"'Eingabedatei Kassenstatistik'!E228","v":0},"t","--",0,{"$f":"I221&csv!J221&B221&C221&D221&E221&F221&G221&K221","v":"t--;-- bitt;7334;;0"}]
["tte auswählen --",";","-- bitt",";",7335,";",";",{"$f":"'Eingabedatei Kassenstatistik'!E229","v":0},"t","--",0,{"$f":"I222&csv!J222&B222&C222&D222&E222&F222&G222&K222","v":"t--;-- bitt;7335;;0"}]
["tte auswählen --",";","-- bitt",";",7336,";",";",{"$f":"'Eingabedatei Kassenstatistik'!E230","v":0},"t","--",0,{"$f":"I223&csv!J223&B223&C223&D223&E223&F223&G223&K223","v":"t--;-- bitt;7336;;0"}]
["tte auswählen --",";","-- bitt",";",7337,";",";",{"$f":"'Eingabedatei Kassenstatistik'!E231","v":0},"t","--",0,{"$f":"I224&csv!J224&B224&C224&D224&E224&F224&G224&K224","v":"t--;-- bitt;7337;;0"}]
["tte auswählen --",";","-- bitt",";",7338,";",";",{"$f":"'Eingabedatei Kassenstatistik'!E232","v":0},"t","--",0,{"$f":"I225&csv!J225&B225&C225&D225&E225&F225&G225&K225","v":"t--;-- bitt;7338;;0"}]
["tte auswählen --",";","-- bitt",";","L05",";",";",{"$f":"'Eingabedatei Kassenstatistik'!E233","v":0},"t","--",0,{"$f":"I226&csv!J226&B226&C226&D226&E226&F226&G226&K226","v":"t--;-- bitt;L05;;0"}]
["tte auswählen --",";","-- bitt",";","L06",";",";",{"$f":"'Eingabedatei Kassenstatistik'!E234","v":0},"t","--",0,{"$f":"I227&csv!J227&B227&C227&D227&E227&F227&G227&K227","v":"t--;-- bitt;L06;;0"}]
["tte auswählen --",";","-- bitt",";","L07",";",";",{"$f":"'Eingabedatei Kassenstatistik'!E235","v":0},"t","--",{"$f":"ROUND(H228,0)","v":0},{"$f":"I228&csv!J228&B228&C228&D228&E228&F228&G228&K228","v":"t--;-- bitt;L07;;0"}]
["tte auswählen --",";","-- bitt",";",7339,";",";",{"$f":"'Eingabedatei Kassenstatistik'!E236","v":0},"t","--",0,{"$f":"I229&csv!J229&B229&C229&D229&E229&F229&G229&K229","v":"t--;-- bitt;7339;;0"}]
["tte auswählen --",";","-- bitt",";",7341,";",";",{"$f":"'Eingabedatei Kassenstatistik'!E237","v":0},"t","--",0,{"$f":"I230&csv!J230&B230&C230&D230&E230&F230&G230&K230","v":"t--;-- bitt;7341;;0"}]
["tte auswählen --",";","-- bitt",";",7342,";",";",{"$f":"'Eingabedatei Kassenstatistik'!E238","v":0},"t","--",0,{"$f":"I231&csv!J231&B231&C231&D231&E231&F231&G231&K231","v":"t--;-- bitt;7342;;0"}]
["tte auswählen --",";","-- bitt",";",7351,";",";",{"$f":"'Eingabedatei Kassenstatistik'!E239","v":0},"t","--",0,{"$f":"I232&csv!J232&B232&C232&D232&E232&F232&G232&K232","v":"t--;-- bitt;7351;;0"}]
["tte auswählen --",";","-- bitt",";",7352,";",";",{"$f":"'Eingabedatei Kassenstatistik'!E240","v":0},"t","--",0,{"$f":"I233&csv!J233&B233&C233&D233&E233&F233&G233&K233","v":"t--;-- bitt;7352;;0"}]
["tte auswählen --",";","-- bitt",";",7371,";",";",{"$f":"'Eingabedatei Kassenstatistik'!E241","v":0},"t","--",0,{"$f":"I234&csv!J234&B234&C234&D234&E234&F234&G234&K234","v":"t--;-- bitt;7371;;0"}]
["tte auswählen --",";","-- bitt",";",7374,";",";",{"$f":"'Eingabedatei Kassenstatistik'!E242","v":0},"t","--",0,{"$f":"I235&csv!J235&B235&C235&D235&E235&F235&G235&K235","v":"t--;-- bitt;7374;;0"}]
["tte auswählen --",";","-- bitt",";",7375,";",";",{"$f":"'Eingabedatei Kassenstatistik'!E243","v":0},"t","--",0,{"$f":"I236&csv!J236&B236&C236&D236&E236&F236&G236&K236","v":"t--;-- bitt;7375;;0"}]
["tte auswählen --",";","-- bitt",";",7376,";",";",{"$f":"'Eingabedatei Kassenstatistik'!E244","v":0},"t","--",0,{"$f":"I237&csv!J237&B237&C237&D237&E237&F237&G237&K237","v":"t--;-- bitt;7376;;0"}]
["tte auswählen --",";","-- bitt",";",7377,";",";",{"$f":"'Eingabedatei Kassenstatistik'!E245","v":0},"t","--",0,{"$f":"I238&csv!J238&B238&C238&D238&E238&F238&G238&K238","v":"t--;-- bitt;7377;;0"}]
["tte auswählen --",";","-- bitt",";",7378,";",";",{"$f":"'Eingabedatei Kassenstatistik'!E246","v":0},"t","--",0,{"$f":"I239&csv!J239&B239&C239&D239&E239&F239&G239&K239","v":"t--;-- bitt;7378;;0"}]
["tte auswählen --",";","-- bitt",";",7379,";",";",{"$f":"'Eingabedatei Kassenstatistik'!E247","v":0},"t","--",0,{"$f":"I240&csv!J240&B240&C240&D240&E240&F240&G240&K240","v":"t--;-- bitt;7379;;0"}]
["tte auswählen --",";","-- bitt",";",7395,";",";",{"$f":"'Eingabedatei Kassenstatistik'!E248","v":0},"t","--",0,{"$f":"I241&csv!J241&B241&C241&D241&E241&F241&G241&K241","v":"t--;-- bitt;7395;;0"}]
["tte auswählen --",";","-- bitt",";",7399,";",";",{"$f":"'Eingabedatei Kassenstatistik'!E249","v":0},"t","--",{"$f":"ROUND(H242,0)","v":0},{"$f":"I242&csv!J242&B242&C242&D242&E242&F242&G242&K242","v":"t--;-- bitt;7399;;0"}]
["tte auswählen --",";","-- bitt",";",7411,";",";",{"$f":"'Eingabedatei Kassenstatistik'!E250","v":0},"t","--",0,{"$f":"I243&csv!J243&B243&C243&D243&E243&F243&G243&K243","v":"t--;-- bitt;7411;;0"}]
["tte auswählen --",";","-- bitt",";",7412,";",";",{"$f":"'Eingabedatei Kassenstatistik'!E251","v":0},"t","--",0,{"$f":"I244&csv!J244&B244&C244&D244&E244&F244&G244&K244","v":"t--;-- bitt;7412;;0"}]
["tte auswählen --",";","-- bitt",";",7421,";",";",{"$f":"'Eingabedatei Kassenstatistik'!E252","v":0},"t","--",0,{"$f":"I245&csv!J245&B245&C245&D245&E245&F245&G245&K245","v":"t--;-- bitt;7421;;0"}]
["tte auswählen --",";","-- bitt",";",7422,";",";",{"$f":"'Eingabedatei Kassenstatistik'!E253","v":0},"t","--",0,{"$f":"I246&csv!J246&B246&C246&D246&E246&F246&G246&K246","v":"t--;-- bitt;7422;;0"}]
["tte auswählen --",";","-- bitt",";",7423,";",";",{"$f":"'Eingabedatei Kassenstatistik'!E254","v":0},"t","--",0,{"$f":"I247&csv!J247&B247&C247&D247&E247&F247&G247&K247","v":"t--;-- bitt;7423;;0"}]
["tte auswählen --",";","-- bitt",";",7429,";",";",{"$f":"'Eingabedatei Kassenstatistik'!E255","v":0},"t","--",0,{"$f":"I248&csv!J248&B248&C248&D248&E248&F248&G248&K248","v":"t--;-- bitt;7429;;0"}]
["tte auswählen --",";","-- bitt",";",7431,";",";",{"$f":"'Eingabedatei Kassenstatistik'!E256","v":0},"t","--",0,{"$f":"I249&csv!J249&B249&C249&D249&E249&F249&G249&K249","v":"t--;-- bitt;7431;;0"}]
["tte auswählen --",";","-- bitt",";",7442,";",";",{"$f":"'Eingabedatei Kassenstatistik'!E257","v":0},"t","--",0,{"$f":"I250&csv!J250&B250&C250&D250&E250&F250&G250&K250","v":"t--;-- bitt;7442;;0"}]
["tte auswählen --",";","-- bitt",";",7445,";",";",{"$f":"'Eingabedatei Kassenstatistik'!E258","v":0},"t","--",{"$f":"ROUND(H251,0)","v":0},{"$f":"I251&csv!J251&B251&C251&D251&E251&F251&G251&K251","v":"t--;-- bitt;7445;;0"}]
["tte auswählen --",";","-- bitt",";",7446,";",";",{"$f":"'Eingabedatei Kassenstatistik'!E259","v":0},"t","--",{"$f":"ROUND(H252,0)","v":0},{"$f":"I252&csv!J252&B252&C252&D252&E252&F252&G252&K252","v":"t--;-- bitt;7446;;0"}]
["tte auswählen --",";","-- bitt",";",7448,";",";",{"$f":"'Eingabedatei Kassenstatistik'!E260","v":0},"t","--",{"$f":"ROUND(H253,0)","v":0},{"$f":"I253&csv!J253&B253&C253&D253&E253&F253&G253&K253","v":"t--;-- bitt;7448;;0"}]
["tte auswählen --",";","-- bitt",";",7461,";",";",{"$f":"'Eingabedatei Kassenstatistik'!E261","v":0},"t","--",0,{"$f":"I254&csv!J254&B254&C254&D254&E254&F254&G254&K254","v":"t--;-- bitt;7461;;0"}]
["tte auswählen --",";","-- bitt",";",7462,";",";",{"$f":"'Eingabedatei Kassenstatistik'!E262","v":0},"t","--",0,{"$f":"I255&csv!J255&B255&C255&D255&E255&F255&G255&K255","v":"t--;-- bitt;7462;;0"}]
["tte auswählen --",";","-- bitt",";",7463,";",";",{"$f":"'Eingabedatei Kassenstatistik'!E263","v":0},"t","--",0,{"$f":"I256&csv!J256&B256&C256&D256&E256&F256&G256&K256","v":"t--;-- bitt;7463;;0"}]
["tte auswählen --",";","-- bitt",";",7468,";",";",{"$f":"'Eingabedatei Kassenstatistik'!E264","v":0},"t","--",0,{"$f":"I257&csv!J257&B257&C257&D257&E257&F257&G257&K257","v":"t--;-- bitt;7468;;0"}]
[{"$f":"A257","v":"tte auswählen --"},";",{"$f":"C257","v":"-- bitt"},";",7481,";",";",{"$f":"'Eingabedatei Kassenstatistik'!E265","v":0},"t","--",0,{"$f":"I258&csv!J258&B258&C258&D258&E258&F258&G258&K258","v":"t--;-- bitt;7481;;0"}]
["tte auswählen --",";","-- bitt",";",7482,";",";",{"$f":"'Eingabedatei Kassenstatistik'!E266","v":0},{"$f":"I258","v":"t"},"--",0,{"$f":"I259&csv!J259&B259&C259&D259&E259&F259&G259&K259","v":"t--;-- bitt;7482;;0"}]
["tte auswählen --",";","-- bitt",";",7483,";",";",{"$f":"'Eingabedatei Kassenstatistik'!E267","v":0},"t","--",0,{"$f":"I260&csv!J260&B260&C260&D260&E260&F260&G260&K260","v":"t--;-- bitt;7483;;0"}]
["tte auswählen --",";","-- bitt",";",7484,";",";",{"$f":"'Eingabedatei Kassenstatistik'!E268","v":0},"t","--",{"$f":"ROUND(H261,0)","v":0},{"$f":"I261&csv!J261&B261&C261&D261&E261&F261&G261&K261","v":"t--;-- bitt;7484;;0"}]
["tte auswählen --",";","-- bitt",";",7491,";",";",{"$f":"'Eingabedatei Kassenstatistik'!E269","v":0},"t","--",0,{"$f":"I262&csv!J262&B262&C262&D262&E262&F262&G262&K262","v":"t--;-- bitt;7491;;0"}]
["tte auswählen --",";","-- bitt",";",7492,";",";",{"$f":"'Eingabedatei Kassenstatistik'!E270","v":0},"t","--",0,{"$f":"I263&csv!J263&B263&C263&D263&E263&F263&G263&K263","v":"t--;-- bitt;7492;;0"}]
["tte auswählen --",";","-- bitt",";",7499,";",";",{"$f":"'Eingabedatei Kassenstatistik'!E271","v":0},"t","--",0,{"$f":"I264&csv!J264&B264&C264&D264&E264&F264&G264&K264","v":"t--;-- bitt;7499;;0"}]
["tte auswählen --",";","-- bitt",";",7510,";",";",{"$f":"'Eingabedatei Kassenstatistik'!E272","v":0},"t","--",0,{"$f":"I265&csv!J265&B265&C265&D265&E265&F265&G265&K265","v":"t--;-- bitt;7510;;0"}]
["tte auswählen --",";","-- bitt",";",7511,";",";",{"$f":"'Eingabedatei Kassenstatistik'!E273","v":0},"t","--",0,{"$f":"I266&csv!J266&B266&C266&D266&E266&F266&G266&K266","v":"t--;-- bitt;7511;;0"}]
["tte auswählen --",";","-- bitt",";",7512,";",";",{"$f":"'Eingabedatei Kassenstatistik'!E274","v":0},"t","--",0,{"$f":"I267&csv!J267&B267&C267&D267&E267&F267&G267&K267","v":"t--;-- bitt;7512;;0"}]
["tte auswählen --",";","-- bitt",";",7513,";",";",{"$f":"'Eingabedatei Kassenstatistik'!E275","v":0},"t","--",0,{"$f":"I268&csv!J268&B268&C268&D268&E268&F268&G268&K268","v":"t--;-- bitt;7513;;0"}]
["tte auswählen --",";","-- bitt",";",7514,";",";",{"$f":"'Eingabedatei Kassenstatistik'!E276","v":0},"t","--",0,{"$f":"I269&csv!J269&B269&C269&D269&E269&F269&G269&K269","v":"t--;-- bitt;7514;;0"}]
["tte auswählen --",";","-- bitt",";",7515,";",";",{"$f":"'Eingabedatei Kassenstatistik'!E277","v":0},"t","--",0,{"$f":"I270&csv!J270&B270&C270&D270&E270&F270&G270&K270","v":"t--;-- bitt;7515;;0"}]
["tte auswählen --",";","-- bitt",";",7516,";",";",{"$f":"'Eingabedatei Kassenstatistik'!E278","v":0},"t","--",0,{"$f":"I271&csv!J271&B271&C271&D271&E271&F271&G271&K271","v":"t--;-- bitt;7516;;0"}]
["tte auswählen --",";","-- bitt",";",7517,";",";",{"$f":"'Eingabedatei Kassenstatistik'!E279","v":0},"t","--",0,{"$f":"I272&csv!J272&B272&C272&D272&E272&F272&G272&K272","v":"t--;-- bitt;7517;;0"}]
["tte auswählen --",";","-- bitt",";",7518,";",";",{"$f":"'Eingabedatei Kassenstatistik'!E280","v":0},"t","--",0,{"$f":"I273&csv!J273&B273&C273&D273&E273&F273&G273&K273","v":"t--;-- bitt;7518;;0"}]
["tte auswählen --",";","-- bitt",";",7519,";",";",{"$f":"'Eingabedatei Kassenstatistik'!E281","v":0},"t","--",0,{"$f":"I274&csv!J274&B274&C274&D274&E274&F274&G274&K274","v":"t--;-- bitt;7519;;0"}]
["tte auswählen --",";","-- bitt",";",7591,";",";",{"$f":"'Eingabedatei Kassenstatistik'!E282","v":0},"t","--",{"$f":"ROUND(H275,0)","v":0},{"$f":"I275&csv!J275&B275&C275&D275&E275&F275&G275&K275","v":"t--;-- bitt;7591;;0"}]
["tte auswählen --",";","-- bitt",";",7599,";",";",{"$f":"'Eingabedatei Kassenstatistik'!E283","v":0},"t","--",0,{"$f":"I276&csv!J276&B276&C276&D276&E276&F276&G276&K276","v":"t--;-- bitt;7599;;0"}]
["tte auswählen --",";","-- bitt",";",7810,";",";",{"$f":"'Eingabedatei Kassenstatistik'!E284","v":0},"t","--",0,{"$f":"I277&csv!J277&B277&C277&D277&E277&F277&G277&K277","v":"t--;-- bitt;7810;;0"}]
["tte auswählen --",";","-- bitt",";",7811,";",";",{"$f":"'Eingabedatei Kassenstatistik'!E285","v":0},"t","--",0,{"$f":"I278&csv!J278&B278&C278&D278&E278&F278&G278&K278","v":"t--;-- bitt;7811;;0"}]
["tte auswählen --",";","-- bitt",";",7812,";",";",{"$f":"'Eingabedatei Kassenstatistik'!E286","v":0},"t","--",0,{"$f":"I279&csv!J279&B279&C279&D279&E279&F279&G279&K279","v":"t--;-- bitt;7812;;0"}]
["tte auswählen --",";","-- bitt",";",7813,";",";",{"$f":"'Eingabedatei Kassenstatistik'!E287","v":0},"t","--",0,{"$f":"I280&csv!J280&B280&C280&D280&E280&F280&G280&K280","v":"t--;-- bitt;7813;;0"}]
["tte auswählen --",";","-- bitt",";",7814,";",";",{"$f":"'Eingabedatei Kassenstatistik'!E288","v":0},"t","--",0,{"$f":"I281&csv!J281&B281&C281&D281&E281&F281&G281&K281","v":"t--;-- bitt;7814;;0"}]
["tte auswählen --",";","-- bitt",";",7815,";",";",{"$f":"'Eingabedatei Kassenstatistik'!E289","v":0},"t","--",0,{"$f":"I282&csv!J282&B282&C282&D282&E282&F282&G282&K282","v":"t--;-- bitt;7815;;0"}]
["tte auswählen --",";","-- bitt",";",7816,";",";",{"$f":"'Eingabedatei Kassenstatistik'!E290","v":0},"t","--",0,{"$f":"I283&csv!J283&B283&C283&D283&E283&F283&G283&K283","v":"t--;-- bitt;7816;;0"}]
["tte auswählen --",";","-- bitt",";",7817,";",";",{"$f":"'Eingabedatei Kassenstatistik'!E291","v":0},"t","--",0,{"$f":"I284&csv!J284&B284&C284&D284&E284&F284&G284&K284","v":"t--;-- bitt;7817;;0"}]
["tte auswählen --",";","-- bitt",";",7818,";",";",{"$f":"'Eingabedatei Kassenstatistik'!E292","v":0},"t","--",0,{"$f":"I285&csv!J285&B285&C285&D285&E285&F285&G285&K285","v":"t--;-- bitt;7818;;0"}]
["tte auswählen --",";","-- bitt",";",7821,";",";",{"$f":"'Eingabedatei Kassenstatistik'!E293","v":0},"t","--",0,{"$f":"I286&csv!J286&B286&C286&D286&E286&F286&G286&K286","v":"t--;-- bitt;7821;;0"}]
["tte auswählen --",";","-- bitt",";",7831,";",";",{"$f":"'Eingabedatei Kassenstatistik'!E294","v":0},"t","--",0,{"$f":"I287&csv!J287&B287&C287&D287&E287&F287&G287&K287","v":"t--;-- bitt;7831;;0"}]
["tte auswählen --",";","-- bitt",";",7832,";",";",{"$f":"'Eingabedatei Kassenstatistik'!E295","v":0},"t","--",0,{"$f":"I288&csv!J288&B288&C288&D288&E288&F288&G288&K288","v":"t--;-- bitt;7832;;0"}]
["tte auswählen --",";","-- bitt",";",7841,";",";",{"$f":"'Eingabedatei Kassenstatistik'!E296","v":0},"t","--",0,{"$f":"I289&csv!J289&B289&C289&D289&E289&F289&G289&K289","v":"t--;-- bitt;7841;;0"}]
["tte auswählen --",";","-- bitt",";",7842,";",";",{"$f":"'Eingabedatei Kassenstatistik'!E297","v":0},"t","--",0,{"$f":"I290&csv!J290&B290&C290&D290&E290&F290&G290&K290","v":"t--;-- bitt;7842;;0"}]
["tte auswählen --",";","-- bitt",";",7843,";",";",{"$f":"'Eingabedatei Kassenstatistik'!E298","v":0},"t","--",0,{"$f":"I291&csv!J291&B291&C291&D291&E291&F291&G291&K291","v":"t--;-- bitt;7843;;0"}]
["tte auswählen --",";","-- bitt",";",7844,";",";",{"$f":"'Eingabedatei Kassenstatistik'!E299","v":0},"t","--",0,{"$f":"I292&csv!J292&B292&C292&D292&E292&F292&G292&K292","v":"t--;-- bitt;7844;;0"}]
["tte auswählen --",";","-- bitt",";",7845,";",";",{"$f":"'Eingabedatei Kassenstatistik'!E300","v":0},"t","--",0,{"$f":"I293&csv!J293&B293&C293&D293&E293&F293&G293&K293","v":"t--;-- bitt;7845;;0"}]
["tte auswählen --",";","-- bitt",";",7846,";",";",{"$f":"'Eingabedatei Kassenstatistik'!E301","v":0},"t","--",0,{"$f":"I294&csv!J294&B294&C294&D294&E294&F294&G294&K294","v":"t--;-- bitt;7846;;0"}]
["tte auswählen --",";","-- bitt",";",7847,";",";",{"$f":"'Eingabedatei Kassenstatistik'!E302","v":0},"t","--",0,{"$f":"I295&csv!J295&B295&C295&D295&E295&F295&G295&K295","v":"t--;-- bitt;7847;;0"}]
["tte auswählen --",";","-- bitt",";",7848,";",";",{"$f":"'Eingabedatei Kassenstatistik'!E303","v":0},"t","--",0,{"$f":"I296&csv!J296&B296&C296&D296&E296&F296&G296&K296","v":"t--;-- bitt;7848;;0"}]
["tte auswählen --",";","-- bitt",";",7851,";",";",{"$f":"'Eingabedatei Kassenstatistik'!E304","v":0},"t","--",0,{"$f":"I297&csv!J297&B297&C297&D297&E297&F297&G297&K297","v":"t--;-- bitt;7851;;0"}]
["tte auswählen --",";","-- bitt",";",7852,";",";",{"$f":"'Eingabedatei Kassenstatistik'!E305","v":0},"t","--",0,{"$f":"I298&csv!J298&B298&C298&D298&E298&F298&G298&K298","v":"t--;-- bitt;7852;;0"}]
["tte auswählen --",";","-- bitt",";",7853,";",";",{"$f":"'Eingabedatei Kassenstatistik'!E306","v":0},"t","--",0,{"$f":"I299&csv!J299&B299&C299&D299&E299&F299&G299&K299","v":"t--;-- bitt;7853;;0"}]
["tte auswählen --",";","-- bitt",";","B01",";",";",{"$f":"'Eingabedatei Kassenstatistik'!E307","v":0},"t","--",0,{"$f":"I300&csv!J300&B300&C300&D300&E300&F300&G300&K300","v":"t--;-- bitt;B01;;0"}]
["tte auswählen --",";","-- bitt",";","B02",";",";",{"$f":"'Eingabedatei Kassenstatistik'!E308","v":0},"t","--",0,{"$f":"I301&csv!J301&B301&C301&D301&E301&F301&G301&K301","v":"t--;-- bitt;B02;;0"}]
["tte auswählen --",";","-- bitt",";","B03",";",";",{"$f":"'Eingabedatei Kassenstatistik'!E309","v":0},"t","--",0,{"$f":"I302&csv!J302&B302&C302&D302&E302&F302&G302&K302","v":"t--;-- bitt;B03;;0"}]
["tte auswählen --",";","-- bitt",";","B04",";",";",{"$f":"'Eingabedatei Kassenstatistik'!E310","v":0},"t","--",0,{"$f":"I303&csv!J303&B303&C303&D303&E303&F303&G303&K303","v":"t--;-- bitt;B04;;0"}]
["tte auswählen --",";","-- bitt",";","B06",";",";",{"$f":"'Eingabedatei Kassenstatistik'!E311","v":0},"t","--",0,{"$f":"I304&csv!J304&B304&C304&D304&E304&F304&G304&K304","v":"t--;-- bitt;B06;;0"}]
["tte auswählen --",";","-- bitt",";","B07",";",";",{"$f":"'Eingabedatei Kassenstatistik'!E312","v":0},"t","--",0,{"$f":"I305&csv!J305&B305&C305&D305&E305&F305&G305&K305","v":"t--;-- bitt;B07;;0"}]
["tte auswählen --",";","-- bitt",";","B08",";",";",{"$f":"'Eingabedatei Kassenstatistik'!E313","v":0},"t","--",0,{"$f":"I306&csv!J306&B306&C306&D306&E306&F306&G306&K306","v":"t--;-- bitt;B08;;0"}]
["tte auswählen --",";","-- bitt",";","B09",";",";",{"$f":"'Eingabedatei Kassenstatistik'!E314","v":0},"t","--",0,{"$f":"I307&csv!J307&B307&C307&D307&E307&F307&G307&K307","v":"t--;-- bitt;B09;;0"}]
["tte auswählen --",";","-- bitt",";","B10",";",";",{"$f":"'Eingabedatei Kassenstatistik'!E315","v":0},"t","--",0,{"$f":"I308&csv!J308&B308&C308&D308&E308&F308&G308&K308","v":"t--;-- bitt;B10;;0"}]
["tte auswählen --",";","-- bitt",";","B12",";",";",{"$f":"'Eingabedatei Kassenstatistik'!E316","v":0},"t","--",0,{"$f":"I309&csv!J309&B309&C309&D309&E309&F309&G309&K309","v":"t--;-- bitt;B12;;0"}]
["tte auswählen --",";","-- bitt",";",7860,";",";",{"$f":"'Eingabedatei Kassenstatistik'!E317","v":0},"t","--",0,{"$f":"I310&csv!J310&B310&C310&D310&E310&F310&G310&K310","v":"t--;-- bitt;7860;;0"}]
["tte auswählen --",";","-- bitt",";",7861,";",";",{"$f":"'Eingabedatei Kassenstatistik'!E318","v":0},"t","--",0,{"$f":"I311&csv!J311&B311&C311&D311&E311&F311&G311&K311","v":"t--;-- bitt;7861;;0"}]
["tte auswählen --",";","-- bitt",";",7862,";",";",{"$f":"'Eingabedatei Kassenstatistik'!E319","v":0},"t","--",0,{"$f":"I312&csv!J312&B312&C312&D312&E312&F312&G312&K312","v":"t--;-- bitt;7862;;0"}]
["tte auswählen --",";","-- bitt",";",7863,";",";",{"$f":"'Eingabedatei Kassenstatistik'!E320","v":0},"t","--",0,{"$f":"I313&csv!J313&B313&C313&D313&E313&F313&G313&K313","v":"t--;-- bitt;7863;;0"}]
["tte auswählen --",";","-- bitt",";",7864,";",";",{"$f":"'Eingabedatei Kassenstatistik'!E321","v":0},"t","--",0,{"$f":"I314&csv!J314&B314&C314&D314&E314&F314&G314&K314","v":"t--;-- bitt;7864;;0"}]
["tte auswählen --",";","-- bitt",";",7865,";",";",{"$f":"'Eingabedatei Kassenstatistik'!E322","v":0},"t","--",0,{"$f":"I315&csv!J315&B315&C315&D315&E315&F315&G315&K315","v":"t--;-- bitt;7865;;0"}]
["tte auswählen --",";","-- bitt",";",7866,";",";",{"$f":"'Eingabedatei Kassenstatistik'!E323","v":0},"t","--",0,{"$f":"I316&csv!J316&B316&C316&D316&E316&F316&G316&K316","v":"t--;-- bitt;7866;;0"}]
["tte auswählen --",";","-- bitt",";",7867,";",";",{"$f":"'Eingabedatei Kassenstatistik'!E324","v":0},"t","--",0,{"$f":"I317&csv!J317&B317&C317&D317&E317&F317&G317&K317","v":"t--;-- bitt;7867;;0"}]
["tte auswählen --",";","-- bitt",";",7868,";",";",{"$f":"'Eingabedatei Kassenstatistik'!E325","v":0},"t","--",0,{"$f":"I318&csv!J318&B318&C318&D318&E318&F318&G318&K318","v":"t--;-- bitt;7868;;0"}]
["tte auswählen --",";","-- bitt",";",7869,";",";",{"$f":"'Eingabedatei Kassenstatistik'!E326","v":0},"t","--",0,{"$f":"I319&csv!J319&B319&C319&D319&E319&F319&G319&K319","v":"t--;-- bitt;7869;;0"}]
["tte auswählen --",";","-- bitt",";",7891,";",";",{"$f":"'Eingabedatei Kassenstatistik'!E327","v":0},"t","--",0,{"$f":"I320&csv!J320&B320&C320&D320&E320&F320&G320&K320","v":"t--;-- bitt;7891;;0"}]
["tte auswählen --",";","-- bitt",";",7911,";",";",{"$f":"'Eingabedatei Kassenstatistik'!E328","v":0},"t","--",0,{"$f":"I321&csv!J321&B321&C321&D321&E321&F321&G321&K321","v":"t--;-- bitt;7911;;0"}]
[{"$f":"A321","v":"tte auswählen --"},";",{"$f":"C321","v":"-- bitt"},";",7912,";",";",{"$f":"'Eingabedatei Kassenstatistik'!E329","v":0},"t","--",{"$f":"ROUND(H322,0)","v":0},{"$f":"I322&csv!J322&B322&C322&D322&E322&F322&G322&K322","v":"t--;-- bitt;7912;;0"}]
["tte auswählen --",";","-- bitt",";",7920,";",";",{"$f":"'Eingabedatei Kassenstatistik'!E330","v":0},{"$f":"I322","v":"t"},"--",0,{"$f":"I323&csv!J323&B323&C323&D323&E323&F323&G323&K323","v":"t--;-- bitt;7920;;0"}]
["tte auswählen --",";","-- bitt",";",7921,";",";",{"$f":"'Eingabedatei Kassenstatistik'!E331","v":0},"t","--",0,{"$f":"I324&csv!J324&B324&C324&D324&E324&F324&G324&K324","v":"t--;-- bitt;7921;;0"}]
["tte auswählen --",";","-- bitt",";",7922,";",";",{"$f":"'Eingabedatei Kassenstatistik'!E332","v":0},"t","--",0,{"$f":"I325&csv!J325&B325&C325&D325&E325&F325&G325&K325","v":"t--;-- bitt;7922;;0"}]
["tte auswählen --",";","-- bitt",";",7923,";",";",{"$f":"'Eingabedatei Kassenstatistik'!E333","v":0},"t","--",0,{"$f":"I326&csv!J326&B326&C326&D326&E326&F326&G326&K326","v":"t--;-- bitt;7923;;0"}]
["tte auswählen --",";","-- bitt",";",7924,";",";",{"$f":"'Eingabedatei Kassenstatistik'!E334","v":0},"t","--",0,{"$f":"I327&csv!J327&B327&C327&D327&E327&F327&G327&K327","v":"t--;-- bitt;7924;;0"}]
["tte auswählen --",";","-- bitt",";",7925,";",";",{"$f":"'Eingabedatei Kassenstatistik'!E335","v":0},"t","--",0,{"$f":"I328&csv!J328&B328&C328&D328&E328&F328&G328&K328","v":"t--;-- bitt;7925;;0"}]
["tte auswählen --",";","-- bitt",";",7926,";",";",{"$f":"'Eingabedatei Kassenstatistik'!E336","v":0},"t","--",0,{"$f":"I329&csv!J329&B329&C329&D329&E329&F329&G329&K329","v":"t--;-- bitt;7926;;0"}]
["tte auswählen --",";","-- bitt",";",7927,";",";",{"$f":"'Eingabedatei Kassenstatistik'!E337","v":0},"t","--",0,{"$f":"I330&csv!J330&B330&C330&D330&E330&F330&G330&K330","v":"t--;-- bitt;7927;;0"}]
["tte auswählen --",";","-- bitt",";",7928,";",";",{"$f":"'Eingabedatei Kassenstatistik'!E338","v":0},"t","--",0,{"$f":"I331&csv!J331&B331&C331&D331&E331&F331&G331&K331","v":"t--;-- bitt;7928;;0"}]
["tte auswählen --",";","-- bitt",";",7929,";",";",{"$f":"'Eingabedatei Kassenstatistik'!E339","v":0},"t","--",0,{"$f":"I332&csv!J332&B332&C332&D332&E332&F332&G332&K332","v":"t--;-- bitt;7929;;0"}]
["tte auswählen --",";","-- bitt",";",7930,";",";",{"$f":"'Eingabedatei Kassenstatistik'!E340","v":0},"t","--",0,{"$f":"I333&csv!J333&B333&C333&D333&E333&F333&G333&K333","v":"t--;-- bitt;7930;;0"}]
["tte auswählen --",";","-- bitt",";",7931,";",";",{"$f":"'Eingabedatei Kassenstatistik'!E341","v":0},"t","--",0,{"$f":"I334&csv!J334&B334&C334&D334&E334&F334&G334&K334","v":"t--;-- bitt;7931;;0"}]
["tte auswählen --",";","-- bitt",";",7932,";",";",{"$f":"'Eingabedatei Kassenstatistik'!E342","v":0},"t","--",0,{"$f":"I335&csv!J335&B335&C335&D335&E335&F335&G335&K335","v":"t--;-- bitt;7932;;0"}]
["tte auswählen --",";","-- bitt",";",7933,";",";",{"$f":"'Eingabedatei Kassenstatistik'!E343","v":0},"t","--",0,{"$f":"I336&csv!J336&B336&C336&D336&E336&F336&G336&K336","v":"t--;-- bitt;7933;;0"}]
["tte auswählen --",";","-- bitt",";",7934,";",";",{"$f":"'Eingabedatei Kassenstatistik'!E344","v":0},"t","--",0,{"$f":"I337&csv!J337&B337&C337&D337&E337&F337&G337&K337","v":"t--;-- bitt;7934;;0"}]
["tte auswählen --",";","-- bitt",";",7935,";",";",{"$f":"'Eingabedatei Kassenstatistik'!E345","v":0},"t","--",0,{"$f":"I338&csv!J338&B338&C338&D338&E338&F338&G338&K338","v":"t--;-- bitt;7935;;0"}]
["tte auswählen --",";","-- bitt",";",7936,";",";",{"$f":"'Eingabedatei Kassenstatistik'!E346","v":0},"t","--",0,{"$f":"I339&csv!J339&B339&C339&D339&E339&F339&G339&K339","v":"t--;-- bitt;7936;;0"}]
["tte auswählen --",";","-- bitt",";",7937,";",";",{"$f":"'Eingabedatei Kassenstatistik'!E347","v":0},"t","--",{"$f":"ROUND(H340,0)","v":0},{"$f":"I340&csv!J340&B340&C340&D340&E340&F340&G340&K340","v":"t--;-- bitt;7937;;0"}]
["tte auswählen --",";","-- bitt",";",7938,";",";",{"$f":"'Eingabedatei Kassenstatistik'!E348","v":0},"t","--",0,{"$f":"I341&csv!J341&B341&C341&D341&E341&F341&G341&K341","v":"t--;-- bitt;7938;;0"}]
["tte auswählen --",";","-- bitt",";",7939,";",";",{"$f":"'Eingabedatei Kassenstatistik'!E349","v":0},"t","--",0,{"$f":"I342&csv!J342&B342&C342&D342&E342&F342&G342&K342","v":"t--;-- bitt;7939;;0"}]
["tte auswählen --",";","-- bitt",";",7949,";",";",{"$f":"'Eingabedatei Kassenstatistik'!E350","v":0},"t","--",0,{"$f":"I343&csv!J343&B343&C343&D343&E343&F343&G343&K343","v":"t--;-- bitt;7949;;0"}]
["tte auswählen --",";","-- bitt",";",7950,";",";",{"$f":"'Eingabedatei Kassenstatistik'!E351","v":0},"t","--",0,{"$f":"I344&csv!J344&B344&C344&D344&E344&F344&G344&K344","v":"t--;-- bitt;7950;;0"}]
["tte auswählen --",";","-- bitt",";",7951,";",";",{"$f":"'Eingabedatei Kassenstatistik'!E352","v":0},"t","--",0,{"$f":"I345&csv!J345&B345&C345&D345&E345&F345&G345&K345","v":"t--;-- bitt;7951;;0"}]
["tte auswählen --",";","-- bitt",";",7952,";",";",{"$f":"'Eingabedatei Kassenstatistik'!E353","v":0},"t","--",0,{"$f":"I346&csv!J346&B346&C346&D346&E346&F346&G346&K346","v":"t--;-- bitt;7952;;0"}]
["tte auswählen --",";","-- bitt",";",7953,";",";",{"$f":"'Eingabedatei Kassenstatistik'!E354","v":0},"t","--",0,{"$f":"I347&csv!J347&B347&C347&D347&E347&F347&G347&K347","v":"t--;-- bitt;7953;;0"}]
["tte auswählen --",";","-- bitt",";",7954,";",";",{"$f":"'Eingabedatei Kassenstatistik'!E355","v":0},"t","--",0,{"$f":"I348&csv!J348&B348&C348&D348&E348&F348&G348&K348","v":"t--;-- bitt;7954;;0"}]
["tte auswählen --",";","-- bitt",";",7955,";",";",{"$f":"'Eingabedatei Kassenstatistik'!E356","v":0},"t","--",0,{"$f":"I349&csv!J349&B349&C349&D349&E349&F349&G349&K349","v":"t--;-- bitt;7955;;0"}]
["tte auswählen --",";","-- bitt",";",7956,";",";",{"$f":"'Eingabedatei Kassenstatistik'!E357","v":0},"t","--",0,{"$f":"I350&csv!J350&B350&C350&D350&E350&F350&G350&K350","v":"t--;-- bitt;7956;;0"}]
["tte auswählen --",";","-- bitt",";",7957,";",";",{"$f":"'Eingabedatei Kassenstatistik'!E358","v":0},"t","--",0,{"$f":"I351&csv!J351&B351&C351&D351&E351&F351&G351&K351","v":"t--;-- bitt;7957;;0"}]
["tte auswählen --",";","-- bitt",";",7958,";",";",{"$f":"'Eingabedatei Kassenstatistik'!E359","v":0},"t","--",0,{"$f":"I352&csv!J352&B352&C352&D352&E352&F352&G352&K352","v":"t--;-- bitt;7958;;0"}]
["tte auswählen --",";","-- bitt",";",7959,";",";",{"$f":"'Eingabedatei Kassenstatistik'!E360","v":0},"t","--",0,{"$f":"I353&csv!J353&B353&C353&D353&E353&F353&G353&K353","v":"t--;-- bitt;7959;;0"}]
["tte auswählen --",";","-- bitt",";",7998,";",";",{"$f":"'Eingabedatei Kassenstatistik'!E361","v":0},"t","--",{"$f":"ROUND(H354,0)","v":0},{"$f":"I354&csv!J354&B354&C354&D354&E354&F354&G354&K354","v":"t--;-- bitt;7998;;0"}]
["tte auswählen --",";","-- bitt",";",3021,";",";",{"$f":"'Eingabedatei Kassenstatistik'!E362","v":0},"t","--",0,{"$f":"I355&csv!J355&B355&C355&D355&E355&F355&G355&K355","v":"t--;-- bitt;3021;;0"}]
["tte auswählen --",";","-- bitt",";",3031,";",";",{"$f":"'Eingabedatei Kassenstatistik'!E363","v":0},"t","--",{"$f":"ROUND(H356,0)","v":0},{"$f":"I356&csv!J356&B356&C356&D356&E356&F356&G356&K356","v":"t--;-- bitt;3031;;0"}]
["tte auswählen --",";","-- bitt",";",3711,";",";",{"$f":"'Eingabedatei Kassenstatistik'!E364","v":0},"t","--",0,{"$f":"I357&csv!J357&B357&C357&D357&E357&F357&G357&K357","v":"t--;-- bitt;3711;;0"}]
["tte auswählen --",";","-- bitt",";","P1009",";",";",{"$f":"'Eingabedatei Kassenstatistik'!E365","v":0},"t","--",{"$f":"ROUND(H358,0)","v":0},{"$f":"I358&csv!J358&B358&C358&D358&E358&F358&G358&K358","v":"t--;-- bitt;P1009;;0"}]
["tte auswählen --",";","-- bitt",";","P1019",";",";",{"$f":"'Eingabedatei Kassenstatistik'!E366","v":0},"t","--",0,{"$f":"I359&csv!J359&B359&C359&D359&E359&F359&G359&K359","v":"t--;-- bitt;P1019;;0"}]
["tte auswählen --",";","-- bitt",";","P1029",";",";",{"$f":"'Eingabedatei Kassenstatistik'!E367","v":0},"t","--",0,{"$f":"I360&csv!J360&B360&C360&D360&E360&F360&G360&K360","v":"t--;-- bitt;P1029;;0"}]
["tte auswählen --",";","-- bitt",";","P1039",";",";",{"$f":"'Eingabedatei Kassenstatistik'!E368","v":0},"t","--",0,{"$f":"I361&csv!J361&B361&C361&D361&E361&F361&G361&K361","v":"t--;-- bitt;P1039;;0"}]
["tte auswählen --",";","-- bitt",";","P1049",";",";",{"$f":"'Eingabedatei Kassenstatistik'!E369","v":0},"t","--",0,{"$f":"I362&csv!J362&B362&C362&D362&E362&F362&G362&K362","v":"t--;-- bitt;P1049;;0"}]
["tte auswählen --",";","-- bitt",";","P1059",";",";",{"$f":"'Eingabedatei Kassenstatistik'!E370","v":0},"t","--",0,{"$f":"I363&csv!J363&B363&C363&D363&E363&F363&G363&K363","v":"t--;-- bitt;P1059;;0"}]
["tte auswählen --",";","-- bitt",";","P1069",";",";",{"$f":"'Eingabedatei Kassenstatistik'!E371","v":0},"t","--",0,{"$f":"I364&csv!J364&B364&C364&D364&E364&F364&G364&K364","v":"t--;-- bitt;P1069;;0"}]
["tte auswählen --",";","-- bitt",";","P1079",";",";",{"$f":"'Eingabedatei Kassenstatistik'!E372","v":0},"t","--",0,{"$f":"I365&csv!J365&B365&C365&D365&E365&F365&G365&K365","v":"t--;-- bitt;P1079;;0"}]
["tte auswählen --",";","-- bitt",";","P1099",";",";",{"$f":"'Eingabedatei Kassenstatistik'!E373","v":0},"t","--",0,{"$f":"I366&csv!J366&B366&C366&D366&E366&F366&G366&K366","v":"t--;-- bitt;P1099;;0"}]
["tte auswählen --",";","-- bitt",";","P1109",";",";",{"$f":"'Eingabedatei Kassenstatistik'!E374","v":0},"t","--",0,{"$f":"I367&csv!J367&B367&C367&D367&E367&F367&G367&K367","v":"t--;-- bitt;P1109;;0"}]
["tte auswählen --",";","-- bitt",";","P1609",";",";",{"$f":"'Eingabedatei Kassenstatistik'!E375","v":0},"t","--",0,{"$f":"I368&csv!J368&B368&C368&D368&E368&F368&G368&K368","v":"t--;-- bitt;P1609;;0"}]
["tte auswählen --",";","-- bitt",";","P1689",";",";",{"$f":"'Eingabedatei Kassenstatistik'!E376","v":0},"t","--",0,{"$f":"I369&csv!J369&B369&C369&D369&E369&F369&G369&K369","v":"t--;-- bitt;P1689;;0"}]
["tte auswählen --",";","-- bitt",";","P1619",";",";",{"$f":"'Eingabedatei Kassenstatistik'!E377","v":0},"t","--",0,{"$f":"I370&csv!J370&B370&C370&D370&E370&F370&G370&K370","v":"t--;-- bitt;P1619;;0"}]
["tte auswählen --",";","-- bitt",";","P1629",";",";",{"$f":"'Eingabedatei Kassenstatistik'!E378","v":0},"t","--",0,{"$f":"I371&csv!J371&B371&C371&D371&E371&F371&G371&K371","v":"t--;-- bitt;P1629;;0"}]
["tte auswählen --",";","-- bitt",";","P1639",";",";",{"$f":"'Eingabedatei Kassenstatistik'!E379","v":0},"t","--",0,{"$f":"I372&csv!J372&B372&C372&D372&E372&F372&G372&K372","v":"t--;-- bitt;P1639;;0"}]
["tte auswählen --",";","-- bitt",";","P1649",";",";",{"$f":"'Eingabedatei Kassenstatistik'!E380","v":0},"t","--",0,{"$f":"I373&csv!J373&B373&C373&D373&E373&F373&G373&K373","v":"t--;-- bitt;P1649;;0"}]
["tte auswählen --",";","-- bitt",";","P1659",";",";",{"$f":"'Eingabedatei Kassenstatistik'!E381","v":0},"t","--",0,{"$f":"I374&csv!J374&B374&C374&D374&E374&F374&G374&K374","v":"t--;-- bitt;P1659;;0"}]
["tte auswählen --",";","-- bitt",";","P1669",";",";",{"$f":"'Eingabedatei Kassenstatistik'!E382","v":0},"t","--",0,{"$f":"I375&csv!J375&B375&C375&D375&E375&F375&G375&K375","v":"t--;-- bitt;P1669;;0"}]
["tte auswählen --",";","-- bitt",";","P1679",";",";",{"$f":"'Eingabedatei Kassenstatistik'!E383","v":0},"t","--",0,{"$f":"I376&csv!J376&B376&C376&D376&E376&F376&G376&K376","v":"t--;-- bitt;P1679;;0"}]
["tte auswählen --",";","-- bitt",";","P1789",";",";",{"$f":"'Eingabedatei Kassenstatistik'!E384","v":0},"t","--",0,{"$f":"I377&csv!J377&B377&C377&D377&E377&F377&G377&K377","v":"t--;-- bitt;P1789;;0"}]
["tte auswählen --",";","-- bitt",";","P1719",";",";",{"$f":"'Eingabedatei Kassenstatistik'!E385","v":0},"t","--",0,{"$f":"I378&csv!J378&B378&C378&D378&E378&F378&G378&K378","v":"t--;-- bitt;P1719;;0"}]
["tte auswählen --",";","-- bitt",";","P1729",";",";",{"$f":"'Eingabedatei Kassenstatistik'!E386","v":0},"t","--",0,{"$f":"I379&csv!J379&B379&C379&D379&E379&F379&G379&K379","v":"t--;-- bitt;P1729;;0"}]
["tte auswählen --",";","-- bitt",";","P1739",";",";",{"$f":"'Eingabedatei Kassenstatistik'!E387","v":0},"t","--",0,{"$f":"I380&csv!J380&B380&C380&D380&E380&F380&G380&K380","v":"t--;-- bitt;P1739;;0"}]
["tte auswählen --",";","-- bitt",";","P1749",";",";",{"$f":"'Eingabedatei Kassenstatistik'!E388","v":0},"t","--",0,{"$f":"I381&csv!J381&B381&C381&D381&E381&F381&G381&K381","v":"t--;-- bitt;P1749;;0"}]
["tte auswählen --",";","-- bitt",";","P1759",";",";",{"$f":"'Eingabedatei Kassenstatistik'!E389","v":0},"t","--",0,{"$f":"I382&csv!J382&B382&C382&D382&E382&F382&G382&K382","v":"t--;-- bitt;P1759;;0"}]
["tte auswählen --",";","-- bitt",";","P1769",";",";",{"$f":"'Eingabedatei Kassenstatistik'!E390","v":0},"t","--",0,{"$f":"I383&csv!J383&B383&C383&D383&E383&F383&G383&K383","v":"t--;-- bitt;P1769;;0"}]
["tte auswählen --",";","-- bitt",";","P1779",";",";",{"$f":"'Eingabedatei Kassenstatistik'!E391","v":0},"t","--",0,{"$f":"I384&csv!J384&B384&C384&D384&E384&F384&G384&K384","v":"t--;-- bitt;P1779;;0"}]
["tte auswählen --",";","-- bitt",";","P1799",";",";",{"$f":"'Eingabedatei Kassenstatistik'!E392","v":0},"t","--",0,{"$f":"I385&csv!J385&B385&C385&D385&E385&F385&G385&K385","v":"t--;-- bitt;P1799;;0"}]
[{"$f":"A385","v":"tte auswählen --"},";",{"$f":"C385","v":"-- bitt"},";","P3009",";",";",{"$f":"'Eingabedatei Kassenstatistik'!E393","v":0},"t","--",0,{"$f":"I386&csv!J386&B386&C386&D386&E386&F386&G386&K386","v":"t--;-- bitt;P3009;;0"}]
["tte auswählen --",";","-- bitt",";","P3039",";",";",{"$f":"'Eingabedatei Kassenstatistik'!E394","v":0},{"$f":"I386","v":"t"},"--",0,{"$f":"I387&csv!J387&B387&C387&D387&E387&F387&G387&K387","v":"t--;-- bitt;P3039;;0"}]
["tte auswählen --",";","-- bitt",";","P3069",";",";",{"$f":"'Eingabedatei Kassenstatistik'!E395","v":0},"t","--",0,{"$f":"I388&csv!J388&B388&C388&D388&E388&F388&G388&K388","v":"t--;-- bitt;P3069;;0"}]
["tte auswählen --",";","-- bitt",";","P3099",";",";",{"$f":"'Eingabedatei Kassenstatistik'!E396","v":0},"t","--",0,{"$f":"I389&csv!J389&B389&C389&D389&E389&F389&G389&K389","v":"t--;-- bitt;P3099;;0"}]
["tte auswählen --",";","-- bitt",";","P3129",";",";",{"$f":"'Eingabedatei Kassenstatistik'!E397","v":0},"t","--",0,{"$f":"I390&csv!J390&B390&C390&D390&E390&F390&G390&K390","v":"t--;-- bitt;P3129;;0"}]
["tte auswählen --",";","-- bitt",";","P3159",";",";",{"$f":"'Eingabedatei Kassenstatistik'!E398","v":0},"t","--",0,{"$f":"I391&csv!J391&B391&C391&D391&E391&F391&G391&K391","v":"t--;-- bitt;P3159;;0"}]
["tte auswählen --",";","-- bitt",";","P3189",";",";",{"$f":"'Eingabedatei Kassenstatistik'!E399","v":0},"t","--",0,{"$f":"I392&csv!J392&B392&C392&D392&E392&F392&G392&K392","v":"t--;-- bitt;P3189;;0"}]
["tte auswählen --",";","-- bitt",";","P3219",";",";",{"$f":"'Eingabedatei Kassenstatistik'!E400","v":0},"t","--",0,{"$f":"I393&csv!J393&B393&C393&D393&E393&F393&G393&K393","v":"t--;-- bitt;P3219;;0"}]
["tte auswählen --",";","-- bitt",";","P3279",";",";",{"$f":"'Eingabedatei Kassenstatistik'!E401","v":0},"t","--",0,{"$f":"I394&csv!J394&B394&C394&D394&E394&F394&G394&K394","v":"t--;-- bitt;P3279;;0"}]
["tte auswählen --",";","-- bitt",";","P3309",";",";",{"$f":"'Eingabedatei Kassenstatistik'!E402","v":0},"t","--",0,{"$f":"I395&csv!J395&B395&C395&D395&E395&F395&G395&K395","v":"t--;-- bitt;P3309;;0"}]
["tte auswählen --",";","-- bitt",";","H12",";",";",{"$f":"'Eingabedatei Kassenstatistik'!E403","v":0},"t","--",0,{"$f":"I396&csv!J396&B396&C396&D396&E396&F396&G396&K396","v":"t--;-- bitt;H12;;0"}]
["tte auswählen --",";","-- bitt",";","H22",";",";",{"$f":"'Eingabedatei Kassenstatistik'!E404","v":0},"t","--",0,{"$f":"I397&csv!J397&B397&C397&D397&E397&F397&G397&K397","v":"t--;-- bitt;H22;;0"}]
["tte auswählen --",";","-- bitt",";","H32",";",";",{"$f":"'Eingabedatei Kassenstatistik'!E405","v":0},"t","--",0,{"$f":"I398&csv!J398&B398&C398&D398&E398&F398&G398&K398","v":"t--;-- bitt;H32;;0"}]
["tte auswählen --",";","-- bitt",";","U11",";",";",{"$f":"'Eingabedatei Kassenstatistik'!E406","v":0},"t","--",0,{"$f":"I399&csv!J399&B399&C399&D399&E399&F399&G399&K399","v":"t--;-- bitt;U11;;0"}]
["tte auswählen --",";","-- bitt",";","U12",";",";",{"$f":"'Eingabedatei Kassenstatistik'!E407","v":0},"t","--",0,{"$f":"I400&csv!J400&B400&C400&D400&E400&F400&G400&K400","v":"t--;-- bitt;U12;;0"}]
["tte auswählen --",";","-- bitt",";","T110",";",";",{"$f":"'Eingabedatei Kassenstatistik'!E408","v":0},"t","--",{"$f":"ROUND(H401,0)","v":0},{"$f":"I401&csv!J401&B401&C401&D401&E401&F401&G401&K401","v":"t--;-- bitt;T110;;0"}]
["tte auswählen --",";","-- bitt",";","T120",";",";",{"$f":"'Eingabedatei Kassenstatistik'!E409","v":0},"t","--",0,{"$f":"I402&csv!J402&B402&C402&D402&E402&F402&G402&K402","v":"t--;-- bitt;T120;;0"}]
["tte auswählen --",";","-- bitt",";","T410",";",";",{"$f":"'Eingabedatei Kassenstatistik'!E410","v":0},"t","--",0,{"$f":"I403&csv!J403&B403&C403&D403&E403&F403&G403&K403","v":"t--;-- bitt;T410;;0"}]
["tte auswählen --",";","-- bitt",";","T413",";",";",{"$f":"'Eingabedatei Kassenstatistik'!E411","v":0},"t","--",0,{"$f":"I404&csv!J404&B404&C404&D404&E404&F404&G404&K404","v":"t--;-- bitt;T413;;0"}]
["tte auswählen --",";","-- bitt",";","T414",";",";",{"$f":"'Eingabedatei Kassenstatistik'!E412","v":0},"t","--",0,{"$f":"I405&csv!J405&B405&C405&D405&E405&F405&G405&K405","v":"t--;-- bitt;T414;;0"}]
["tte auswählen --",";","-- bitt",";","T415",";",";",{"$f":"'Eingabedatei Kassenstatistik'!E413","v":0},"t","--",0,{"$f":"I406&csv!J406&B406&C406&D406&E406&F406&G406&K406","v":"t--;-- bitt;T415;;0"}]
["tte auswählen --",";","-- bitt",";","T416",";",";",{"$f":"'Eingabedatei Kassenstatistik'!E414","v":0},{"$f":"I406","v":"t"},"--",{"$f":"ROUND(H407,0)","v":0},{"$f":"I407&csv!J407&B407&C407&D407&E407&F407&G407&K407","v":"t--;-- bitt;T416;;0"}]
["tte auswählen --",";","-- bitt",";","T417",";",";",{"$f":"'Eingabedatei Kassenstatistik'!E415","v":0},{"$f":"I407","v":"t"},"--",0,{"$f":"I408&csv!J408&B408&C408&D408&E408&F408&G408&K408","v":"t--;-- bitt;T417;;0"}]
["tte auswählen --",";","-- bitt",";","T418",";",";",{"$f":"'Eingabedatei Kassenstatistik'!E416","v":0},{"$f":"I408","v":"t"},"--",0,{"$f":"I409&csv!J409&B409&C409&D409&E409&F409&G409&K409","v":"t--;-- bitt;T418;;0"}]
["tte auswählen --",";","-- bitt",";","T419",";",";",{"$f":"'Eingabedatei Kassenstatistik'!E417","v":0},{"$f":"I409","v":"t"},"--",0,{"$f":"I410&csv!J410&B410&C410&D410&E410&F410&G410&K410","v":"t--;-- bitt;T419;;0"}]
["tte auswählen --",";","-- bitt",";","T420",";",";",{"$f":"'Eingabedatei Kassenstatistik'!E418","v":0},{"$f":"I410","v":"t"},"--",0,{"$f":"I411&csv!J411&B411&C411&D411&E411&F411&G411&K411","v":"t--;-- bitt;T420;;0"}]
["tte auswählen --",";","-- bitt",";","T423",";",";",{"$f":"'Eingabedatei Kassenstatistik'!E419","v":0},{"$f":"I411","v":"t"},"--",0,{"$f":"I412&csv!J412&B412&C412&D412&E412&F412&G412&K412","v":"t--;-- bitt;T423;;0"}]
["tte auswählen --",";","-- bitt",";","T424",";",";",{"$f":"'Eingabedatei Kassenstatistik'!E420","v":0},{"$f":"I412","v":"t"},"--",0,{"$f":"I413&csv!J413&B413&C413&D413&E413&F413&G413&K413","v":"t--;-- bitt;T424;;0"}]
["tte auswählen --",";","-- bitt",";","T425",";",";",{"$f":"'Eingabedatei Kassenstatistik'!E421","v":0},{"$f":"I413","v":"t"},"--",0,{"$f":"I414&csv!J414&B414&C414&D414&E414&F414&G414&K414","v":"t--;-- bitt;T425;;0"}]
["tte auswählen --",";","-- bitt",";","T426",";",";",{"$f":"'Eingabedatei Kassenstatistik'!E422","v":0},{"$f":"I414","v":"t"},"--",0,{"$f":"I415&csv!J415&B415&C415&D415&E415&F415&G415&K415","v":"t--;-- bitt;T426;;0"}]
["tte auswählen --",";","-- bitt",";","T427",";",";",{"$f":"'Eingabedatei Kassenstatistik'!E423","v":0},{"$f":"I415","v":"t"},"--",0,{"$f":"I416&csv!J416&B416&C416&D416&E416&F416&G416&K416","v":"t--;-- bitt;T427;;0"}]
["tte auswählen --",";","-- bitt",";","T428",";",";",{"$f":"'Eingabedatei Kassenstatistik'!E424","v":0},{"$f":"I416","v":"t"},"--",0,{"$f":"I417&csv!J417&B417&C417&D417&E417&F417&G417&K417","v":"t--;-- bitt;T428;;0"}]
["tte auswählen --",";","-- bitt",";","T429",";",";",{"$f":"'Eingabedatei Kassenstatistik'!E425","v":0},{"$f":"I417","v":"t"},"--",0,{"$f":"I418&csv!J418&B418&C418&D418&E418&F418&G418&K418","v":"t--;-- bitt;T429;;0"}]
["tte auswählen --",";","-- bitt",";","T630",";",";",{"$f":"'Eingabedatei Kassenstatistik'!E426","v":0},{"$f":"I418","v":"t"},"--",0,{"$f":"I419&csv!J419&B419&C419&D419&E419&F419&G419&K419","v":"t--;-- bitt;T630;;0"}]
["tte auswählen --",";","-- bitt",";","T640",";",";",{"$f":"'Eingabedatei Kassenstatistik'!E427","v":0},{"$f":"I419","v":"t"},"--",0,{"$f":"I420&csv!J420&B420&C420&D420&E420&F420&G420&K420","v":"t--;-- bitt;T640;;0"}]
["tte auswählen --",";","-- bitt",";","T710",";",";",{"$f":"'Eingabedatei Kassenstatistik'!E428","v":0},{"$f":"I420","v":"t"},"--",0,{"$f":"I421&csv!J421&B421&C421&D421&E421&F421&G421&K421","v":"t--;-- bitt;T710;;0"}]
["tte auswählen --",";","-- bitt",";","T720",";",";",{"$f":"'Eingabedatei Kassenstatistik'!E429","v":0},{"$f":"I421","v":"t"},"--",0,{"$f":"I422&csv!J422&B422&C422&D422&E422&F422&G422&K422","v":"t--;-- bitt;T720;;0"}]
["tte auswählen --",";","-- bitt",";","T810",";",";",{"$f":"'Eingabedatei Kassenstatistik'!E430","v":0},{"$f":"I422","v":"t"},"--",0,{"$f":"I423&csv!J423&B423&C423&D423&E423&F423&G423&K423","v":"t--;-- bitt;T810;;0"}]
["tte auswählen --",";","-- bitt",";","T820",";",";",{"$f":"'Eingabedatei Kassenstatistik'!E431","v":0},{"$f":"I423","v":"t"},"--",0,{"$f":"I424&csv!J424&B424&C424&D424&E424&F424&G424&K424","v":"t--;-- bitt;T820;;0"}]